BEGIN:VCALENDAR
VERSION:2.0
PRODID:-//Reno Running Company - ECPv6.15.13//NONSGML v1.0//EN
CALSCALE:GREGORIAN
METHOD:PUBLISH
X-ORIGINAL-URL:https://renorunningcompany.com
X-WR-CALDESC:Events for Reno Running Company
REFRESH-INTERVAL;VALUE=DURATION:PT1H
X-Robots-Tag:noindex
X-PUBLISHED-TTL:PT1H
BEGIN:VTIMEZONE
TZID:America/Los_Angeles
BEGIN:DAYLIGHT
TZOFFSETFROM:-0800
TZOFFSETTO:-0700
TZNAME:PDT
DTSTART:20250309T100000
END:DAYLIGHT
BEGIN:STANDARD
TZOFFSETFROM:-0700
TZOFFSETTO:-0800
TZNAME:PST
DTSTART:20251102T090000
END:STANDARD
BEGIN:DAYLIGHT
TZOFFSETFROM:-0800
TZOFFSETTO:-0700
TZNAME:PDT
DTSTART:20260308T100000
END:DAYLIGHT
BEGIN:STANDARD
TZOFFSETFROM:-0700
TZOFFSETTO:-0800
TZNAME:PST
DTSTART:20261101T090000
END:STANDARD
BEGIN:DAYLIGHT
TZOFFSETFROM:-0800
TZOFFSETTO:-0700
TZNAME:PDT
DTSTART:20270314T100000
END:DAYLIGHT
BEGIN:STANDARD
TZOFFSETFROM:-0700
TZOFFSETTO:-0800
TZNAME:PST
DTSTART:20271107T090000
END:STANDARD
END:VTIMEZONE
BEGIN:VEVENT
DTSTART;TZID=America/Los_Angeles:20260426T080000
DTEND;TZID=America/Los_Angeles:20260426T100000
DTSTAMP:20260422T052952
CREATED:20231121T202408Z
LAST-MODIFIED:20240515T213113Z
UID:10001034-1777190400-1777197600@renorunningcompany.com
SUMMARY:Sunday Store Run
DESCRIPTION:Join us every Sunday snow\, rain or shine! All ability levels are welcome to attend. We offer multiple distances and courses each week.Snacks and warm coffee are provided after your run! Grab a friend and come run with us!
URL:https://renorunningcompany.com/event/sunday-store-run/2026-04-26/
LOCATION:Summit Mall Location Reno Running Company\, 13987 S Virginia St.\, Reno\, NV\, 89511\, United States
CATEGORIES:Store Events
ATTACH;FMTTYPE=image/jpeg:https://renorunningcompany.com/wp-content/uploads/2023/11/429504483_781276380688791_1824119658602175695_n.jpg
END:VEVENT
BEGIN:VEVENT
DTSTART;TZID=America/Los_Angeles:20260503T080000
DTEND;TZID=America/Los_Angeles:20260503T100000
DTSTAMP:20260422T052952
CREATED:20231121T202408Z
LAST-MODIFIED:20240515T213113Z
UID:10001035-1777795200-1777802400@renorunningcompany.com
SUMMARY:Sunday Store Run
DESCRIPTION:Join us every Sunday snow\, rain or shine! All ability levels are welcome to attend. We offer multiple distances and courses each week.Snacks and warm coffee are provided after your run! Grab a friend and come run with us!
URL:https://renorunningcompany.com/event/sunday-store-run/2026-05-03/
LOCATION:Summit Mall Location Reno Running Company\, 13987 S Virginia St.\, Reno\, NV\, 89511\, United States
CATEGORIES:Store Events
ATTACH;FMTTYPE=image/jpeg:https://renorunningcompany.com/wp-content/uploads/2023/11/429504483_781276380688791_1824119658602175695_n.jpg
END:VEVENT
BEGIN:VEVENT
DTSTART;TZID=America/Los_Angeles:20260510T080000
DTEND;TZID=America/Los_Angeles:20260510T100000
DTSTAMP:20260422T052952
CREATED:20231121T202408Z
LAST-MODIFIED:20240515T213113Z
UID:10001036-1778400000-1778407200@renorunningcompany.com
SUMMARY:Sunday Store Run
DESCRIPTION:Join us every Sunday snow\, rain or shine! All ability levels are welcome to attend. We offer multiple distances and courses each week.Snacks and warm coffee are provided after your run! Grab a friend and come run with us!
URL:https://renorunningcompany.com/event/sunday-store-run/2026-05-10/
LOCATION:Summit Mall Location Reno Running Company\, 13987 S Virginia St.\, Reno\, NV\, 89511\, United States
CATEGORIES:Store Events
ATTACH;FMTTYPE=image/jpeg:https://renorunningcompany.com/wp-content/uploads/2023/11/429504483_781276380688791_1824119658602175695_n.jpg
END:VEVENT
BEGIN:VEVENT
DTSTART;TZID=America/Los_Angeles:20260517T080000
DTEND;TZID=America/Los_Angeles:20260517T100000
DTSTAMP:20260422T052952
CREATED:20231121T202408Z
LAST-MODIFIED:20240515T213113Z
UID:10001037-1779004800-1779012000@renorunningcompany.com
SUMMARY:Sunday Store Run
DESCRIPTION:Join us every Sunday snow\, rain or shine! All ability levels are welcome to attend. We offer multiple distances and courses each week.Snacks and warm coffee are provided after your run! Grab a friend and come run with us!
URL:https://renorunningcompany.com/event/sunday-store-run/2026-05-17/
LOCATION:Summit Mall Location Reno Running Company\, 13987 S Virginia St.\, Reno\, NV\, 89511\, United States
CATEGORIES:Store Events
ATTACH;FMTTYPE=image/jpeg:https://renorunningcompany.com/wp-content/uploads/2023/11/429504483_781276380688791_1824119658602175695_n.jpg
END:VEVENT
BEGIN:VEVENT
DTSTART;TZID=America/Los_Angeles:20260524T080000
DTEND;TZID=America/Los_Angeles:20260524T100000
DTSTAMP:20260422T052952
CREATED:20231121T202408Z
LAST-MODIFIED:20240515T213113Z
UID:10001038-1779609600-1779616800@renorunningcompany.com
SUMMARY:Sunday Store Run
DESCRIPTION:Join us every Sunday snow\, rain or shine! All ability levels are welcome to attend. We offer multiple distances and courses each week.Snacks and warm coffee are provided after your run! Grab a friend and come run with us!
URL:https://renorunningcompany.com/event/sunday-store-run/2026-05-24/
LOCATION:Summit Mall Location Reno Running Company\, 13987 S Virginia St.\, Reno\, NV\, 89511\, United States
CATEGORIES:Store Events
ATTACH;FMTTYPE=image/jpeg:https://renorunningcompany.com/wp-content/uploads/2023/11/429504483_781276380688791_1824119658602175695_n.jpg
END:VEVENT
BEGIN:VEVENT
DTSTART;TZID=America/Los_Angeles:20260531T080000
DTEND;TZID=America/Los_Angeles:20260531T100000
DTSTAMP:20260422T052952
CREATED:20231121T202408Z
LAST-MODIFIED:20240515T213113Z
UID:10001039-1780214400-1780221600@renorunningcompany.com
SUMMARY:Sunday Store Run
DESCRIPTION:Join us every Sunday snow\, rain or shine! All ability levels are welcome to attend. We offer multiple distances and courses each week.Snacks and warm coffee are provided after your run! Grab a friend and come run with us!
URL:https://renorunningcompany.com/event/sunday-store-run/2026-05-31/
LOCATION:Summit Mall Location Reno Running Company\, 13987 S Virginia St.\, Reno\, NV\, 89511\, United States
CATEGORIES:Store Events
ATTACH;FMTTYPE=image/jpeg:https://renorunningcompany.com/wp-content/uploads/2023/11/429504483_781276380688791_1824119658602175695_n.jpg
END:VEVENT
BEGIN:VEVENT
DTSTART;TZID=America/Los_Angeles:20260607T080000
DTEND;TZID=America/Los_Angeles:20260607T100000
DTSTAMP:20260422T052952
CREATED:20231121T202408Z
LAST-MODIFIED:20240515T213113Z
UID:10001040-1780819200-1780826400@renorunningcompany.com
SUMMARY:Sunday Store Run
DESCRIPTION:Join us every Sunday snow\, rain or shine! All ability levels are welcome to attend. We offer multiple distances and courses each week.Snacks and warm coffee are provided after your run! Grab a friend and come run with us!
URL:https://renorunningcompany.com/event/sunday-store-run/2026-06-07/
LOCATION:Summit Mall Location Reno Running Company\, 13987 S Virginia St.\, Reno\, NV\, 89511\, United States
CATEGORIES:Store Events
ATTACH;FMTTYPE=image/jpeg:https://renorunningcompany.com/wp-content/uploads/2023/11/429504483_781276380688791_1824119658602175695_n.jpg
END:VEVENT
BEGIN:VEVENT
DTSTART;TZID=America/Los_Angeles:20260614T080000
DTEND;TZID=America/Los_Angeles:20260614T100000
DTSTAMP:20260422T052952
CREATED:20231121T202408Z
LAST-MODIFIED:20240515T213113Z
UID:10001041-1781424000-1781431200@renorunningcompany.com
SUMMARY:Sunday Store Run
DESCRIPTION:Join us every Sunday snow\, rain or shine! All ability levels are welcome to attend. We offer multiple distances and courses each week.Snacks and warm coffee are provided after your run! Grab a friend and come run with us!
URL:https://renorunningcompany.com/event/sunday-store-run/2026-06-14/
LOCATION:Summit Mall Location Reno Running Company\, 13987 S Virginia St.\, Reno\, NV\, 89511\, United States
CATEGORIES:Store Events
ATTACH;FMTTYPE=image/jpeg:https://renorunningcompany.com/wp-content/uploads/2023/11/429504483_781276380688791_1824119658602175695_n.jpg
END:VEVENT
BEGIN:VEVENT
DTSTART;TZID=America/Los_Angeles:20260621T080000
DTEND;TZID=America/Los_Angeles:20260621T100000
DTSTAMP:20260422T052952
CREATED:20231121T202408Z
LAST-MODIFIED:20240515T213113Z
UID:10001042-1782028800-1782036000@renorunningcompany.com
SUMMARY:Sunday Store Run
DESCRIPTION:Join us every Sunday snow\, rain or shine! All ability levels are welcome to attend. We offer multiple distances and courses each week.Snacks and warm coffee are provided after your run! Grab a friend and come run with us!
URL:https://renorunningcompany.com/event/sunday-store-run/2026-06-21/
LOCATION:Summit Mall Location Reno Running Company\, 13987 S Virginia St.\, Reno\, NV\, 89511\, United States
CATEGORIES:Store Events
ATTACH;FMTTYPE=image/jpeg:https://renorunningcompany.com/wp-content/uploads/2023/11/429504483_781276380688791_1824119658602175695_n.jpg
END:VEVENT
BEGIN:VEVENT
DTSTART;TZID=America/Los_Angeles:20260628T080000
DTEND;TZID=America/Los_Angeles:20260628T100000
DTSTAMP:20260422T052952
CREATED:20231121T202408Z
LAST-MODIFIED:20240515T213113Z
UID:10001043-1782633600-1782640800@renorunningcompany.com
SUMMARY:Sunday Store Run
DESCRIPTION:Join us every Sunday snow\, rain or shine! All ability levels are welcome to attend. We offer multiple distances and courses each week.Snacks and warm coffee are provided after your run! Grab a friend and come run with us!
URL:https://renorunningcompany.com/event/sunday-store-run/2026-06-28/
LOCATION:Summit Mall Location Reno Running Company\, 13987 S Virginia St.\, Reno\, NV\, 89511\, United States
CATEGORIES:Store Events
ATTACH;FMTTYPE=image/jpeg:https://renorunningcompany.com/wp-content/uploads/2023/11/429504483_781276380688791_1824119658602175695_n.jpg
END:VEVENT
BEGIN:VEVENT
DTSTART;TZID=America/Los_Angeles:20260705T080000
DTEND;TZID=America/Los_Angeles:20260705T100000
DTSTAMP:20260422T052952
CREATED:20231121T202408Z
LAST-MODIFIED:20240515T213113Z
UID:10001044-1783238400-1783245600@renorunningcompany.com
SUMMARY:Sunday Store Run
DESCRIPTION:Join us every Sunday snow\, rain or shine! All ability levels are welcome to attend. We offer multiple distances and courses each week.Snacks and warm coffee are provided after your run! Grab a friend and come run with us!
URL:https://renorunningcompany.com/event/sunday-store-run/2026-07-05/
LOCATION:Summit Mall Location Reno Running Company\, 13987 S Virginia St.\, Reno\, NV\, 89511\, United States
CATEGORIES:Store Events
ATTACH;FMTTYPE=image/jpeg:https://renorunningcompany.com/wp-content/uploads/2023/11/429504483_781276380688791_1824119658602175695_n.jpg
END:VEVENT
BEGIN:VEVENT
DTSTART;TZID=America/Los_Angeles:20260712T080000
DTEND;TZID=America/Los_Angeles:20260712T100000
DTSTAMP:20260422T052952
CREATED:20231121T202408Z
LAST-MODIFIED:20240515T213113Z
UID:10001045-1783843200-1783850400@renorunningcompany.com
SUMMARY:Sunday Store Run
DESCRIPTION:Join us every Sunday snow\, rain or shine! All ability levels are welcome to attend. We offer multiple distances and courses each week.Snacks and warm coffee are provided after your run! Grab a friend and come run with us!
URL:https://renorunningcompany.com/event/sunday-store-run/2026-07-12/
LOCATION:Summit Mall Location Reno Running Company\, 13987 S Virginia St.\, Reno\, NV\, 89511\, United States
CATEGORIES:Store Events
ATTACH;FMTTYPE=image/jpeg:https://renorunningcompany.com/wp-content/uploads/2023/11/429504483_781276380688791_1824119658602175695_n.jpg
END:VEVENT
BEGIN:VEVENT
DTSTART;TZID=America/Los_Angeles:20260719T080000
DTEND;TZID=America/Los_Angeles:20260719T100000
DTSTAMP:20260422T052953
CREATED:20231121T202408Z
LAST-MODIFIED:20240515T213113Z
UID:10001046-1784448000-1784455200@renorunningcompany.com
SUMMARY:Sunday Store Run
DESCRIPTION:Join us every Sunday snow\, rain or shine! All ability levels are welcome to attend. We offer multiple distances and courses each week.Snacks and warm coffee are provided after your run! Grab a friend and come run with us!
URL:https://renorunningcompany.com/event/sunday-store-run/2026-07-19/
LOCATION:Summit Mall Location Reno Running Company\, 13987 S Virginia St.\, Reno\, NV\, 89511\, United States
CATEGORIES:Store Events
ATTACH;FMTTYPE=image/jpeg:https://renorunningcompany.com/wp-content/uploads/2023/11/429504483_781276380688791_1824119658602175695_n.jpg
END:VEVENT
BEGIN:VEVENT
DTSTART;TZID=America/Los_Angeles:20260726T080000
DTEND;TZID=America/Los_Angeles:20260726T100000
DTSTAMP:20260422T052953
CREATED:20231121T202408Z
LAST-MODIFIED:20240515T213113Z
UID:10001047-1785052800-1785060000@renorunningcompany.com
SUMMARY:Sunday Store Run
DESCRIPTION:Join us every Sunday snow\, rain or shine! All ability levels are welcome to attend. We offer multiple distances and courses each week.Snacks and warm coffee are provided after your run! Grab a friend and come run with us!
URL:https://renorunningcompany.com/event/sunday-store-run/2026-07-26/
LOCATION:Summit Mall Location Reno Running Company\, 13987 S Virginia St.\, Reno\, NV\, 89511\, United States
CATEGORIES:Store Events
ATTACH;FMTTYPE=image/jpeg:https://renorunningcompany.com/wp-content/uploads/2023/11/429504483_781276380688791_1824119658602175695_n.jpg
END:VEVENT
BEGIN:VEVENT
DTSTART;TZID=America/Los_Angeles:20260802T080000
DTEND;TZID=America/Los_Angeles:20260802T100000
DTSTAMP:20260422T052953
CREATED:20231121T202408Z
LAST-MODIFIED:20240515T213113Z
UID:10001048-1785657600-1785664800@renorunningcompany.com
SUMMARY:Sunday Store Run
DESCRIPTION:Join us every Sunday snow\, rain or shine! All ability levels are welcome to attend. We offer multiple distances and courses each week.Snacks and warm coffee are provided after your run! Grab a friend and come run with us!
URL:https://renorunningcompany.com/event/sunday-store-run/2026-08-02/
LOCATION:Summit Mall Location Reno Running Company\, 13987 S Virginia St.\, Reno\, NV\, 89511\, United States
CATEGORIES:Store Events
ATTACH;FMTTYPE=image/jpeg:https://renorunningcompany.com/wp-content/uploads/2023/11/429504483_781276380688791_1824119658602175695_n.jpg
END:VEVENT
BEGIN:VEVENT
DTSTART;TZID=America/Los_Angeles:20260809T080000
DTEND;TZID=America/Los_Angeles:20260809T100000
DTSTAMP:20260422T052953
CREATED:20231121T202408Z
LAST-MODIFIED:20240515T213113Z
UID:10001049-1786262400-1786269600@renorunningcompany.com
SUMMARY:Sunday Store Run
DESCRIPTION:Join us every Sunday snow\, rain or shine! All ability levels are welcome to attend. We offer multiple distances and courses each week.Snacks and warm coffee are provided after your run! Grab a friend and come run with us!
URL:https://renorunningcompany.com/event/sunday-store-run/2026-08-09/
LOCATION:Summit Mall Location Reno Running Company\, 13987 S Virginia St.\, Reno\, NV\, 89511\, United States
CATEGORIES:Store Events
ATTACH;FMTTYPE=image/jpeg:https://renorunningcompany.com/wp-content/uploads/2023/11/429504483_781276380688791_1824119658602175695_n.jpg
END:VEVENT
BEGIN:VEVENT
DTSTART;TZID=America/Los_Angeles:20260816T080000
DTEND;TZID=America/Los_Angeles:20260816T100000
DTSTAMP:20260422T052953
CREATED:20231121T202408Z
LAST-MODIFIED:20240515T213113Z
UID:10001050-1786867200-1786874400@renorunningcompany.com
SUMMARY:Sunday Store Run
DESCRIPTION:Join us every Sunday snow\, rain or shine! All ability levels are welcome to attend. We offer multiple distances and courses each week.Snacks and warm coffee are provided after your run! Grab a friend and come run with us!
URL:https://renorunningcompany.com/event/sunday-store-run/2026-08-16/
LOCATION:Summit Mall Location Reno Running Company\, 13987 S Virginia St.\, Reno\, NV\, 89511\, United States
CATEGORIES:Store Events
ATTACH;FMTTYPE=image/jpeg:https://renorunningcompany.com/wp-content/uploads/2023/11/429504483_781276380688791_1824119658602175695_n.jpg
END:VEVENT
BEGIN:VEVENT
DTSTART;TZID=America/Los_Angeles:20260823T080000
DTEND;TZID=America/Los_Angeles:20260823T100000
DTSTAMP:20260422T052953
CREATED:20231121T202408Z
LAST-MODIFIED:20240515T213113Z
UID:10001051-1787472000-1787479200@renorunningcompany.com
SUMMARY:Sunday Store Run
DESCRIPTION:Join us every Sunday snow\, rain or shine! All ability levels are welcome to attend. We offer multiple distances and courses each week.Snacks and warm coffee are provided after your run! Grab a friend and come run with us!
URL:https://renorunningcompany.com/event/sunday-store-run/2026-08-23/
LOCATION:Summit Mall Location Reno Running Company\, 13987 S Virginia St.\, Reno\, NV\, 89511\, United States
CATEGORIES:Store Events
ATTACH;FMTTYPE=image/jpeg:https://renorunningcompany.com/wp-content/uploads/2023/11/429504483_781276380688791_1824119658602175695_n.jpg
END:VEVENT
BEGIN:VEVENT
DTSTART;TZID=America/Los_Angeles:20260830T080000
DTEND;TZID=America/Los_Angeles:20260830T100000
DTSTAMP:20260422T052953
CREATED:20231121T202408Z
LAST-MODIFIED:20240515T213113Z
UID:10001052-1788076800-1788084000@renorunningcompany.com
SUMMARY:Sunday Store Run
DESCRIPTION:Join us every Sunday snow\, rain or shine! All ability levels are welcome to attend. We offer multiple distances and courses each week.Snacks and warm coffee are provided after your run! Grab a friend and come run with us!
URL:https://renorunningcompany.com/event/sunday-store-run/2026-08-30/
LOCATION:Summit Mall Location Reno Running Company\, 13987 S Virginia St.\, Reno\, NV\, 89511\, United States
CATEGORIES:Store Events
ATTACH;FMTTYPE=image/jpeg:https://renorunningcompany.com/wp-content/uploads/2023/11/429504483_781276380688791_1824119658602175695_n.jpg
END:VEVENT
BEGIN:VEVENT
DTSTART;TZID=America/Los_Angeles:20260906T080000
DTEND;TZID=America/Los_Angeles:20260906T100000
DTSTAMP:20260422T052953
CREATED:20231121T202408Z
LAST-MODIFIED:20240515T213113Z
UID:10001053-1788681600-1788688800@renorunningcompany.com
SUMMARY:Sunday Store Run
DESCRIPTION:Join us every Sunday snow\, rain or shine! All ability levels are welcome to attend. We offer multiple distances and courses each week.Snacks and warm coffee are provided after your run! Grab a friend and come run with us!
URL:https://renorunningcompany.com/event/sunday-store-run/2026-09-06/
LOCATION:Summit Mall Location Reno Running Company\, 13987 S Virginia St.\, Reno\, NV\, 89511\, United States
CATEGORIES:Store Events
ATTACH;FMTTYPE=image/jpeg:https://renorunningcompany.com/wp-content/uploads/2023/11/429504483_781276380688791_1824119658602175695_n.jpg
END:VEVENT
BEGIN:VEVENT
DTSTART;TZID=America/Los_Angeles:20260913T080000
DTEND;TZID=America/Los_Angeles:20260913T100000
DTSTAMP:20260422T052953
CREATED:20231121T202408Z
LAST-MODIFIED:20240515T213113Z
UID:10001054-1789286400-1789293600@renorunningcompany.com
SUMMARY:Sunday Store Run
DESCRIPTION:Join us every Sunday snow\, rain or shine! All ability levels are welcome to attend. We offer multiple distances and courses each week.Snacks and warm coffee are provided after your run! Grab a friend and come run with us!
URL:https://renorunningcompany.com/event/sunday-store-run/2026-09-13/
LOCATION:Summit Mall Location Reno Running Company\, 13987 S Virginia St.\, Reno\, NV\, 89511\, United States
CATEGORIES:Store Events
ATTACH;FMTTYPE=image/jpeg:https://renorunningcompany.com/wp-content/uploads/2023/11/429504483_781276380688791_1824119658602175695_n.jpg
END:VEVENT
BEGIN:VEVENT
DTSTART;TZID=America/Los_Angeles:20260920T080000
DTEND;TZID=America/Los_Angeles:20260920T100000
DTSTAMP:20260422T052953
CREATED:20231121T202408Z
LAST-MODIFIED:20240515T213113Z
UID:10001055-1789891200-1789898400@renorunningcompany.com
SUMMARY:Sunday Store Run
DESCRIPTION:Join us every Sunday snow\, rain or shine! All ability levels are welcome to attend. We offer multiple distances and courses each week.Snacks and warm coffee are provided after your run! Grab a friend and come run with us!
URL:https://renorunningcompany.com/event/sunday-store-run/2026-09-20/
LOCATION:Summit Mall Location Reno Running Company\, 13987 S Virginia St.\, Reno\, NV\, 89511\, United States
CATEGORIES:Store Events
ATTACH;FMTTYPE=image/jpeg:https://renorunningcompany.com/wp-content/uploads/2023/11/429504483_781276380688791_1824119658602175695_n.jpg
END:VEVENT
BEGIN:VEVENT
DTSTART;TZID=America/Los_Angeles:20260927T080000
DTEND;TZID=America/Los_Angeles:20260927T100000
DTSTAMP:20260422T052953
CREATED:20231121T202408Z
LAST-MODIFIED:20240515T213113Z
UID:10001056-1790496000-1790503200@renorunningcompany.com
SUMMARY:Sunday Store Run
DESCRIPTION:Join us every Sunday snow\, rain or shine! All ability levels are welcome to attend. We offer multiple distances and courses each week.Snacks and warm coffee are provided after your run! Grab a friend and come run with us!
URL:https://renorunningcompany.com/event/sunday-store-run/2026-09-27/
LOCATION:Summit Mall Location Reno Running Company\, 13987 S Virginia St.\, Reno\, NV\, 89511\, United States
CATEGORIES:Store Events
ATTACH;FMTTYPE=image/jpeg:https://renorunningcompany.com/wp-content/uploads/2023/11/429504483_781276380688791_1824119658602175695_n.jpg
END:VEVENT
BEGIN:VEVENT
DTSTART;TZID=America/Los_Angeles:20261004T080000
DTEND;TZID=America/Los_Angeles:20261004T100000
DTSTAMP:20260422T052953
CREATED:20231121T202408Z
LAST-MODIFIED:20240515T213113Z
UID:10001057-1791100800-1791108000@renorunningcompany.com
SUMMARY:Sunday Store Run
DESCRIPTION:Join us every Sunday snow\, rain or shine! All ability levels are welcome to attend. We offer multiple distances and courses each week.Snacks and warm coffee are provided after your run! Grab a friend and come run with us!
URL:https://renorunningcompany.com/event/sunday-store-run/2026-10-04/
LOCATION:Summit Mall Location Reno Running Company\, 13987 S Virginia St.\, Reno\, NV\, 89511\, United States
CATEGORIES:Store Events
ATTACH;FMTTYPE=image/jpeg:https://renorunningcompany.com/wp-content/uploads/2023/11/429504483_781276380688791_1824119658602175695_n.jpg
END:VEVENT
BEGIN:VEVENT
DTSTART;TZID=America/Los_Angeles:20261011T080000
DTEND;TZID=America/Los_Angeles:20261011T100000
DTSTAMP:20260422T052953
CREATED:20231121T202408Z
LAST-MODIFIED:20240515T213113Z
UID:10001058-1791705600-1791712800@renorunningcompany.com
SUMMARY:Sunday Store Run
DESCRIPTION:Join us every Sunday snow\, rain or shine! All ability levels are welcome to attend. We offer multiple distances and courses each week.Snacks and warm coffee are provided after your run! Grab a friend and come run with us!
URL:https://renorunningcompany.com/event/sunday-store-run/2026-10-11/
LOCATION:Summit Mall Location Reno Running Company\, 13987 S Virginia St.\, Reno\, NV\, 89511\, United States
CATEGORIES:Store Events
ATTACH;FMTTYPE=image/jpeg:https://renorunningcompany.com/wp-content/uploads/2023/11/429504483_781276380688791_1824119658602175695_n.jpg
END:VEVENT
BEGIN:VEVENT
DTSTART;TZID=America/Los_Angeles:20261018T080000
DTEND;TZID=America/Los_Angeles:20261018T100000
DTSTAMP:20260422T052953
CREATED:20231121T202408Z
LAST-MODIFIED:20240515T213113Z
UID:10001059-1792310400-1792317600@renorunningcompany.com
SUMMARY:Sunday Store Run
DESCRIPTION:Join us every Sunday snow\, rain or shine! All ability levels are welcome to attend. We offer multiple distances and courses each week.Snacks and warm coffee are provided after your run! Grab a friend and come run with us!
URL:https://renorunningcompany.com/event/sunday-store-run/2026-10-18/
LOCATION:Summit Mall Location Reno Running Company\, 13987 S Virginia St.\, Reno\, NV\, 89511\, United States
CATEGORIES:Store Events
ATTACH;FMTTYPE=image/jpeg:https://renorunningcompany.com/wp-content/uploads/2023/11/429504483_781276380688791_1824119658602175695_n.jpg
END:VEVENT
BEGIN:VEVENT
DTSTART;TZID=America/Los_Angeles:20261025T080000
DTEND;TZID=America/Los_Angeles:20261025T100000
DTSTAMP:20260422T052953
CREATED:20231121T202408Z
LAST-MODIFIED:20240515T213113Z
UID:10001060-1792915200-1792922400@renorunningcompany.com
SUMMARY:Sunday Store Run
DESCRIPTION:Join us every Sunday snow\, rain or shine! All ability levels are welcome to attend. We offer multiple distances and courses each week.Snacks and warm coffee are provided after your run! Grab a friend and come run with us!
URL:https://renorunningcompany.com/event/sunday-store-run/2026-10-25/
LOCATION:Summit Mall Location Reno Running Company\, 13987 S Virginia St.\, Reno\, NV\, 89511\, United States
CATEGORIES:Store Events
ATTACH;FMTTYPE=image/jpeg:https://renorunningcompany.com/wp-content/uploads/2023/11/429504483_781276380688791_1824119658602175695_n.jpg
END:VEVENT
BEGIN:VEVENT
DTSTART;TZID=America/Los_Angeles:20261101T080000
DTEND;TZID=America/Los_Angeles:20261101T100000
DTSTAMP:20260422T052953
CREATED:20231121T202408Z
LAST-MODIFIED:20240515T213113Z
UID:10001061-1793520000-1793527200@renorunningcompany.com
SUMMARY:Sunday Store Run
DESCRIPTION:Join us every Sunday snow\, rain or shine! All ability levels are welcome to attend. We offer multiple distances and courses each week.Snacks and warm coffee are provided after your run! Grab a friend and come run with us!
URL:https://renorunningcompany.com/event/sunday-store-run/2026-11-01/
LOCATION:Summit Mall Location Reno Running Company\, 13987 S Virginia St.\, Reno\, NV\, 89511\, United States
CATEGORIES:Store Events
ATTACH;FMTTYPE=image/jpeg:https://renorunningcompany.com/wp-content/uploads/2023/11/429504483_781276380688791_1824119658602175695_n.jpg
END:VEVENT
BEGIN:VEVENT
DTSTART;TZID=America/Los_Angeles:20261108T080000
DTEND;TZID=America/Los_Angeles:20261108T100000
DTSTAMP:20260422T052953
CREATED:20231121T202408Z
LAST-MODIFIED:20240515T213113Z
UID:10001062-1794124800-1794132000@renorunningcompany.com
SUMMARY:Sunday Store Run
DESCRIPTION:Join us every Sunday snow\, rain or shine! All ability levels are welcome to attend. We offer multiple distances and courses each week.Snacks and warm coffee are provided after your run! Grab a friend and come run with us!
URL:https://renorunningcompany.com/event/sunday-store-run/2026-11-08/
LOCATION:Summit Mall Location Reno Running Company\, 13987 S Virginia St.\, Reno\, NV\, 89511\, United States
CATEGORIES:Store Events
ATTACH;FMTTYPE=image/jpeg:https://renorunningcompany.com/wp-content/uploads/2023/11/429504483_781276380688791_1824119658602175695_n.jpg
END:VEVENT
BEGIN:VEVENT
DTSTART;TZID=America/Los_Angeles:20261115T080000
DTEND;TZID=America/Los_Angeles:20261115T100000
DTSTAMP:20260422T052953
CREATED:20231121T202408Z
LAST-MODIFIED:20240515T213113Z
UID:10001063-1794729600-1794736800@renorunningcompany.com
SUMMARY:Sunday Store Run
DESCRIPTION:Join us every Sunday snow\, rain or shine! All ability levels are welcome to attend. We offer multiple distances and courses each week.Snacks and warm coffee are provided after your run! Grab a friend and come run with us!
URL:https://renorunningcompany.com/event/sunday-store-run/2026-11-15/
LOCATION:Summit Mall Location Reno Running Company\, 13987 S Virginia St.\, Reno\, NV\, 89511\, United States
CATEGORIES:Store Events
ATTACH;FMTTYPE=image/jpeg:https://renorunningcompany.com/wp-content/uploads/2023/11/429504483_781276380688791_1824119658602175695_n.jpg
END:VEVENT
END:VCALENDAR