BEGIN:VCALENDAR
VERSION:2.0
PRODID:-//Reno Running Company - ECPv6.15.13//NONSGML v1.0//EN
CALSCALE:GREGORIAN
METHOD:PUBLISH
X-WR-CALNAME:Reno Running Company
X-ORIGINAL-URL:https://renorunningcompany.com
X-WR-CALDESC:Events for Reno Running Company
REFRESH-INTERVAL;VALUE=DURATION:PT1H
X-Robots-Tag:noindex
X-PUBLISHED-TTL:PT1H
BEGIN:VTIMEZONE
TZID:America/Los_Angeles
BEGIN:DAYLIGHT
TZOFFSETFROM:-0800
TZOFFSETTO:-0700
TZNAME:PDT
DTSTART:20260308T100000
END:DAYLIGHT
BEGIN:STANDARD
TZOFFSETFROM:-0700
TZOFFSETTO:-0800
TZNAME:PST
DTSTART:20261101T090000
END:STANDARD
BEGIN:DAYLIGHT
TZOFFSETFROM:-0800
TZOFFSETTO:-0700
TZNAME:PDT
DTSTART:20270314T100000
END:DAYLIGHT
BEGIN:STANDARD
TZOFFSETFROM:-0700
TZOFFSETTO:-0800
TZNAME:PST
DTSTART:20271107T090000
END:STANDARD
BEGIN:DAYLIGHT
TZOFFSETFROM:-0800
TZOFFSETTO:-0700
TZNAME:PDT
DTSTART:20280312T100000
END:DAYLIGHT
BEGIN:STANDARD
TZOFFSETFROM:-0700
TZOFFSETTO:-0800
TZNAME:PST
DTSTART:20281105T090000
END:STANDARD
END:VTIMEZONE
BEGIN:VEVENT
DTSTART;TZID=America/Los_Angeles:20270130T080000
DTEND;TZID=America/Los_Angeles:20270130T100000
DTSTAMP:20260420T035316
CREATED:20231121T202044Z
LAST-MODIFIED:20240515T215706Z
UID:10000813-1801296000-1801303200@renorunningcompany.com
SUMMARY:Saturday Store Run
DESCRIPTION:Join us every Saturday snow\, rain or shine! All ability levels are welcome to attend. We offer multiple distances and courses each week.Snacks and warm coffee are provided after your run! Grab a friend and come run with us!
URL:https://renorunningcompany.com/event/saturday-store-run-2/2027-01-30/
LOCATION:Sparks Store Location\, 1276 Disc Dr.\, Sparks\, 89436\, United States
CATEGORIES:Store Events
ATTACH;FMTTYPE=image/jpeg:https://renorunningcompany.com/wp-content/uploads/2023/12/429555729_781274254022337_8123217459946166490_n.jpg
END:VEVENT
BEGIN:VEVENT
DTSTART;TZID=America/Los_Angeles:20270206T080000
DTEND;TZID=America/Los_Angeles:20270206T100000
DTSTAMP:20260420T035316
CREATED:20231121T202044Z
LAST-MODIFIED:20240515T215706Z
UID:10000814-1801900800-1801908000@renorunningcompany.com
SUMMARY:Saturday Store Run
DESCRIPTION:Join us every Saturday snow\, rain or shine! All ability levels are welcome to attend. We offer multiple distances and courses each week.Snacks and warm coffee are provided after your run! Grab a friend and come run with us!
URL:https://renorunningcompany.com/event/saturday-store-run-2/2027-02-06/
LOCATION:Sparks Store Location\, 1276 Disc Dr.\, Sparks\, 89436\, United States
CATEGORIES:Store Events
ATTACH;FMTTYPE=image/jpeg:https://renorunningcompany.com/wp-content/uploads/2023/12/429555729_781274254022337_8123217459946166490_n.jpg
END:VEVENT
BEGIN:VEVENT
DTSTART;TZID=America/Los_Angeles:20270213T080000
DTEND;TZID=America/Los_Angeles:20270213T100000
DTSTAMP:20260420T035316
CREATED:20231121T202044Z
LAST-MODIFIED:20240515T215706Z
UID:10000815-1802505600-1802512800@renorunningcompany.com
SUMMARY:Saturday Store Run
DESCRIPTION:Join us every Saturday snow\, rain or shine! All ability levels are welcome to attend. We offer multiple distances and courses each week.Snacks and warm coffee are provided after your run! Grab a friend and come run with us!
URL:https://renorunningcompany.com/event/saturday-store-run-2/2027-02-13/
LOCATION:Sparks Store Location\, 1276 Disc Dr.\, Sparks\, 89436\, United States
CATEGORIES:Store Events
ATTACH;FMTTYPE=image/jpeg:https://renorunningcompany.com/wp-content/uploads/2023/12/429555729_781274254022337_8123217459946166490_n.jpg
END:VEVENT
BEGIN:VEVENT
DTSTART;TZID=America/Los_Angeles:20270220T080000
DTEND;TZID=America/Los_Angeles:20270220T100000
DTSTAMP:20260420T035316
CREATED:20231121T202044Z
LAST-MODIFIED:20240515T215706Z
UID:10000816-1803110400-1803117600@renorunningcompany.com
SUMMARY:Saturday Store Run
DESCRIPTION:Join us every Saturday snow\, rain or shine! All ability levels are welcome to attend. We offer multiple distances and courses each week.Snacks and warm coffee are provided after your run! Grab a friend and come run with us!
URL:https://renorunningcompany.com/event/saturday-store-run-2/2027-02-20/
LOCATION:Sparks Store Location\, 1276 Disc Dr.\, Sparks\, 89436\, United States
CATEGORIES:Store Events
ATTACH;FMTTYPE=image/jpeg:https://renorunningcompany.com/wp-content/uploads/2023/12/429555729_781274254022337_8123217459946166490_n.jpg
END:VEVENT
BEGIN:VEVENT
DTSTART;TZID=America/Los_Angeles:20270227T080000
DTEND;TZID=America/Los_Angeles:20270227T100000
DTSTAMP:20260420T035316
CREATED:20231121T202044Z
LAST-MODIFIED:20240515T215706Z
UID:10000817-1803715200-1803722400@renorunningcompany.com
SUMMARY:Saturday Store Run
DESCRIPTION:Join us every Saturday snow\, rain or shine! All ability levels are welcome to attend. We offer multiple distances and courses each week.Snacks and warm coffee are provided after your run! Grab a friend and come run with us!
URL:https://renorunningcompany.com/event/saturday-store-run-2/2027-02-27/
LOCATION:Sparks Store Location\, 1276 Disc Dr.\, Sparks\, 89436\, United States
CATEGORIES:Store Events
ATTACH;FMTTYPE=image/jpeg:https://renorunningcompany.com/wp-content/uploads/2023/12/429555729_781274254022337_8123217459946166490_n.jpg
END:VEVENT
BEGIN:VEVENT
DTSTART;TZID=America/Los_Angeles:20270306T080000
DTEND;TZID=America/Los_Angeles:20270306T100000
DTSTAMP:20260420T035316
CREATED:20231121T202044Z
LAST-MODIFIED:20240515T215706Z
UID:10000818-1804320000-1804327200@renorunningcompany.com
SUMMARY:Saturday Store Run
DESCRIPTION:Join us every Saturday snow\, rain or shine! All ability levels are welcome to attend. We offer multiple distances and courses each week.Snacks and warm coffee are provided after your run! Grab a friend and come run with us!
URL:https://renorunningcompany.com/event/saturday-store-run-2/2027-03-06/
LOCATION:Sparks Store Location\, 1276 Disc Dr.\, Sparks\, 89436\, United States
CATEGORIES:Store Events
ATTACH;FMTTYPE=image/jpeg:https://renorunningcompany.com/wp-content/uploads/2023/12/429555729_781274254022337_8123217459946166490_n.jpg
END:VEVENT
BEGIN:VEVENT
DTSTART;TZID=America/Los_Angeles:20270313T080000
DTEND;TZID=America/Los_Angeles:20270313T100000
DTSTAMP:20260420T035316
CREATED:20231121T202044Z
LAST-MODIFIED:20240515T215706Z
UID:10000819-1804924800-1804932000@renorunningcompany.com
SUMMARY:Saturday Store Run
DESCRIPTION:Join us every Saturday snow\, rain or shine! All ability levels are welcome to attend. We offer multiple distances and courses each week.Snacks and warm coffee are provided after your run! Grab a friend and come run with us!
URL:https://renorunningcompany.com/event/saturday-store-run-2/2027-03-13/
LOCATION:Sparks Store Location\, 1276 Disc Dr.\, Sparks\, 89436\, United States
CATEGORIES:Store Events
ATTACH;FMTTYPE=image/jpeg:https://renorunningcompany.com/wp-content/uploads/2023/12/429555729_781274254022337_8123217459946166490_n.jpg
END:VEVENT
BEGIN:VEVENT
DTSTART;TZID=America/Los_Angeles:20270320T080000
DTEND;TZID=America/Los_Angeles:20270320T100000
DTSTAMP:20260420T035316
CREATED:20231121T202044Z
LAST-MODIFIED:20240515T215706Z
UID:10000820-1805529600-1805536800@renorunningcompany.com
SUMMARY:Saturday Store Run
DESCRIPTION:Join us every Saturday snow\, rain or shine! All ability levels are welcome to attend. We offer multiple distances and courses each week.Snacks and warm coffee are provided after your run! Grab a friend and come run with us!
URL:https://renorunningcompany.com/event/saturday-store-run-2/2027-03-20/
LOCATION:Sparks Store Location\, 1276 Disc Dr.\, Sparks\, 89436\, United States
CATEGORIES:Store Events
ATTACH;FMTTYPE=image/jpeg:https://renorunningcompany.com/wp-content/uploads/2023/12/429555729_781274254022337_8123217459946166490_n.jpg
END:VEVENT
BEGIN:VEVENT
DTSTART;TZID=America/Los_Angeles:20270327T080000
DTEND;TZID=America/Los_Angeles:20270327T100000
DTSTAMP:20260420T035316
CREATED:20231121T202044Z
LAST-MODIFIED:20240515T215706Z
UID:10000821-1806134400-1806141600@renorunningcompany.com
SUMMARY:Saturday Store Run
DESCRIPTION:Join us every Saturday snow\, rain or shine! All ability levels are welcome to attend. We offer multiple distances and courses each week.Snacks and warm coffee are provided after your run! Grab a friend and come run with us!
URL:https://renorunningcompany.com/event/saturday-store-run-2/2027-03-27/
LOCATION:Sparks Store Location\, 1276 Disc Dr.\, Sparks\, 89436\, United States
CATEGORIES:Store Events
ATTACH;FMTTYPE=image/jpeg:https://renorunningcompany.com/wp-content/uploads/2023/12/429555729_781274254022337_8123217459946166490_n.jpg
END:VEVENT
BEGIN:VEVENT
DTSTART;TZID=America/Los_Angeles:20270403T080000
DTEND;TZID=America/Los_Angeles:20270403T100000
DTSTAMP:20260420T035316
CREATED:20231121T202044Z
LAST-MODIFIED:20240515T215706Z
UID:10000822-1806739200-1806746400@renorunningcompany.com
SUMMARY:Saturday Store Run
DESCRIPTION:Join us every Saturday snow\, rain or shine! All ability levels are welcome to attend. We offer multiple distances and courses each week.Snacks and warm coffee are provided after your run! Grab a friend and come run with us!
URL:https://renorunningcompany.com/event/saturday-store-run-2/2027-04-03/
LOCATION:Sparks Store Location\, 1276 Disc Dr.\, Sparks\, 89436\, United States
CATEGORIES:Store Events
ATTACH;FMTTYPE=image/jpeg:https://renorunningcompany.com/wp-content/uploads/2023/12/429555729_781274254022337_8123217459946166490_n.jpg
END:VEVENT
BEGIN:VEVENT
DTSTART;TZID=America/Los_Angeles:20270410T080000
DTEND;TZID=America/Los_Angeles:20270410T100000
DTSTAMP:20260420T035316
CREATED:20231121T202044Z
LAST-MODIFIED:20240515T215706Z
UID:10000823-1807344000-1807351200@renorunningcompany.com
SUMMARY:Saturday Store Run
DESCRIPTION:Join us every Saturday snow\, rain or shine! All ability levels are welcome to attend. We offer multiple distances and courses each week.Snacks and warm coffee are provided after your run! Grab a friend and come run with us!
URL:https://renorunningcompany.com/event/saturday-store-run-2/2027-04-10/
LOCATION:Sparks Store Location\, 1276 Disc Dr.\, Sparks\, 89436\, United States
CATEGORIES:Store Events
ATTACH;FMTTYPE=image/jpeg:https://renorunningcompany.com/wp-content/uploads/2023/12/429555729_781274254022337_8123217459946166490_n.jpg
END:VEVENT
BEGIN:VEVENT
DTSTART;TZID=America/Los_Angeles:20270417T080000
DTEND;TZID=America/Los_Angeles:20270417T100000
DTSTAMP:20260420T035316
CREATED:20231121T202044Z
LAST-MODIFIED:20240515T215706Z
UID:10000824-1807948800-1807956000@renorunningcompany.com
SUMMARY:Saturday Store Run
DESCRIPTION:Join us every Saturday snow\, rain or shine! All ability levels are welcome to attend. We offer multiple distances and courses each week.Snacks and warm coffee are provided after your run! Grab a friend and come run with us!
URL:https://renorunningcompany.com/event/saturday-store-run-2/2027-04-17/
LOCATION:Sparks Store Location\, 1276 Disc Dr.\, Sparks\, 89436\, United States
CATEGORIES:Store Events
ATTACH;FMTTYPE=image/jpeg:https://renorunningcompany.com/wp-content/uploads/2023/12/429555729_781274254022337_8123217459946166490_n.jpg
END:VEVENT
BEGIN:VEVENT
DTSTART;TZID=America/Los_Angeles:20270424T080000
DTEND;TZID=America/Los_Angeles:20270424T100000
DTSTAMP:20260420T035316
CREATED:20231121T202044Z
LAST-MODIFIED:20240515T215706Z
UID:10000825-1808553600-1808560800@renorunningcompany.com
SUMMARY:Saturday Store Run
DESCRIPTION:Join us every Saturday snow\, rain or shine! All ability levels are welcome to attend. We offer multiple distances and courses each week.Snacks and warm coffee are provided after your run! Grab a friend and come run with us!
URL:https://renorunningcompany.com/event/saturday-store-run-2/2027-04-24/
LOCATION:Sparks Store Location\, 1276 Disc Dr.\, Sparks\, 89436\, United States
CATEGORIES:Store Events
ATTACH;FMTTYPE=image/jpeg:https://renorunningcompany.com/wp-content/uploads/2023/12/429555729_781274254022337_8123217459946166490_n.jpg
END:VEVENT
BEGIN:VEVENT
DTSTART;TZID=America/Los_Angeles:20270501T080000
DTEND;TZID=America/Los_Angeles:20270501T100000
DTSTAMP:20260420T035316
CREATED:20231121T202044Z
LAST-MODIFIED:20240515T215706Z
UID:10000826-1809158400-1809165600@renorunningcompany.com
SUMMARY:Saturday Store Run
DESCRIPTION:Join us every Saturday snow\, rain or shine! All ability levels are welcome to attend. We offer multiple distances and courses each week.Snacks and warm coffee are provided after your run! Grab a friend and come run with us!
URL:https://renorunningcompany.com/event/saturday-store-run-2/2027-05-01/
LOCATION:Sparks Store Location\, 1276 Disc Dr.\, Sparks\, 89436\, United States
CATEGORIES:Store Events
ATTACH;FMTTYPE=image/jpeg:https://renorunningcompany.com/wp-content/uploads/2023/12/429555729_781274254022337_8123217459946166490_n.jpg
END:VEVENT
BEGIN:VEVENT
DTSTART;TZID=America/Los_Angeles:20270508T080000
DTEND;TZID=America/Los_Angeles:20270508T100000
DTSTAMP:20260420T035316
CREATED:20231121T202044Z
LAST-MODIFIED:20240515T215706Z
UID:10000827-1809763200-1809770400@renorunningcompany.com
SUMMARY:Saturday Store Run
DESCRIPTION:Join us every Saturday snow\, rain or shine! All ability levels are welcome to attend. We offer multiple distances and courses each week.Snacks and warm coffee are provided after your run! Grab a friend and come run with us!
URL:https://renorunningcompany.com/event/saturday-store-run-2/2027-05-08/
LOCATION:Sparks Store Location\, 1276 Disc Dr.\, Sparks\, 89436\, United States
CATEGORIES:Store Events
ATTACH;FMTTYPE=image/jpeg:https://renorunningcompany.com/wp-content/uploads/2023/12/429555729_781274254022337_8123217459946166490_n.jpg
END:VEVENT
BEGIN:VEVENT
DTSTART;TZID=America/Los_Angeles:20270515T080000
DTEND;TZID=America/Los_Angeles:20270515T100000
DTSTAMP:20260420T035316
CREATED:20231121T202044Z
LAST-MODIFIED:20240515T215706Z
UID:10000828-1810368000-1810375200@renorunningcompany.com
SUMMARY:Saturday Store Run
DESCRIPTION:Join us every Saturday snow\, rain or shine! All ability levels are welcome to attend. We offer multiple distances and courses each week.Snacks and warm coffee are provided after your run! Grab a friend and come run with us!
URL:https://renorunningcompany.com/event/saturday-store-run-2/2027-05-15/
LOCATION:Sparks Store Location\, 1276 Disc Dr.\, Sparks\, 89436\, United States
CATEGORIES:Store Events
ATTACH;FMTTYPE=image/jpeg:https://renorunningcompany.com/wp-content/uploads/2023/12/429555729_781274254022337_8123217459946166490_n.jpg
END:VEVENT
BEGIN:VEVENT
DTSTART;TZID=America/Los_Angeles:20270522T080000
DTEND;TZID=America/Los_Angeles:20270522T100000
DTSTAMP:20260420T035316
CREATED:20231121T202044Z
LAST-MODIFIED:20240515T215706Z
UID:10000829-1810972800-1810980000@renorunningcompany.com
SUMMARY:Saturday Store Run
DESCRIPTION:Join us every Saturday snow\, rain or shine! All ability levels are welcome to attend. We offer multiple distances and courses each week.Snacks and warm coffee are provided after your run! Grab a friend and come run with us!
URL:https://renorunningcompany.com/event/saturday-store-run-2/2027-05-22/
LOCATION:Sparks Store Location\, 1276 Disc Dr.\, Sparks\, 89436\, United States
CATEGORIES:Store Events
ATTACH;FMTTYPE=image/jpeg:https://renorunningcompany.com/wp-content/uploads/2023/12/429555729_781274254022337_8123217459946166490_n.jpg
END:VEVENT
BEGIN:VEVENT
DTSTART;TZID=America/Los_Angeles:20270529T080000
DTEND;TZID=America/Los_Angeles:20270529T100000
DTSTAMP:20260420T035316
CREATED:20231121T202044Z
LAST-MODIFIED:20240515T215706Z
UID:10000830-1811577600-1811584800@renorunningcompany.com
SUMMARY:Saturday Store Run
DESCRIPTION:Join us every Saturday snow\, rain or shine! All ability levels are welcome to attend. We offer multiple distances and courses each week.Snacks and warm coffee are provided after your run! Grab a friend and come run with us!
URL:https://renorunningcompany.com/event/saturday-store-run-2/2027-05-29/
LOCATION:Sparks Store Location\, 1276 Disc Dr.\, Sparks\, 89436\, United States
CATEGORIES:Store Events
ATTACH;FMTTYPE=image/jpeg:https://renorunningcompany.com/wp-content/uploads/2023/12/429555729_781274254022337_8123217459946166490_n.jpg
END:VEVENT
BEGIN:VEVENT
DTSTART;TZID=America/Los_Angeles:20270605T080000
DTEND;TZID=America/Los_Angeles:20270605T100000
DTSTAMP:20260420T035316
CREATED:20231121T202044Z
LAST-MODIFIED:20240515T215706Z
UID:10000831-1812182400-1812189600@renorunningcompany.com
SUMMARY:Saturday Store Run
DESCRIPTION:Join us every Saturday snow\, rain or shine! All ability levels are welcome to attend. We offer multiple distances and courses each week.Snacks and warm coffee are provided after your run! Grab a friend and come run with us!
URL:https://renorunningcompany.com/event/saturday-store-run-2/2027-06-05/
LOCATION:Sparks Store Location\, 1276 Disc Dr.\, Sparks\, 89436\, United States
CATEGORIES:Store Events
ATTACH;FMTTYPE=image/jpeg:https://renorunningcompany.com/wp-content/uploads/2023/12/429555729_781274254022337_8123217459946166490_n.jpg
END:VEVENT
BEGIN:VEVENT
DTSTART;TZID=America/Los_Angeles:20270612T080000
DTEND;TZID=America/Los_Angeles:20270612T100000
DTSTAMP:20260420T035316
CREATED:20231121T202044Z
LAST-MODIFIED:20240515T215706Z
UID:10000832-1812787200-1812794400@renorunningcompany.com
SUMMARY:Saturday Store Run
DESCRIPTION:Join us every Saturday snow\, rain or shine! All ability levels are welcome to attend. We offer multiple distances and courses each week.Snacks and warm coffee are provided after your run! Grab a friend and come run with us!
URL:https://renorunningcompany.com/event/saturday-store-run-2/2027-06-12/
LOCATION:Sparks Store Location\, 1276 Disc Dr.\, Sparks\, 89436\, United States
CATEGORIES:Store Events
ATTACH;FMTTYPE=image/jpeg:https://renorunningcompany.com/wp-content/uploads/2023/12/429555729_781274254022337_8123217459946166490_n.jpg
END:VEVENT
BEGIN:VEVENT
DTSTART;TZID=America/Los_Angeles:20270619T080000
DTEND;TZID=America/Los_Angeles:20270619T100000
DTSTAMP:20260420T035316
CREATED:20231121T202044Z
LAST-MODIFIED:20240515T215706Z
UID:10000833-1813392000-1813399200@renorunningcompany.com
SUMMARY:Saturday Store Run
DESCRIPTION:Join us every Saturday snow\, rain or shine! All ability levels are welcome to attend. We offer multiple distances and courses each week.Snacks and warm coffee are provided after your run! Grab a friend and come run with us!
URL:https://renorunningcompany.com/event/saturday-store-run-2/2027-06-19/
LOCATION:Sparks Store Location\, 1276 Disc Dr.\, Sparks\, 89436\, United States
CATEGORIES:Store Events
ATTACH;FMTTYPE=image/jpeg:https://renorunningcompany.com/wp-content/uploads/2023/12/429555729_781274254022337_8123217459946166490_n.jpg
END:VEVENT
BEGIN:VEVENT
DTSTART;TZID=America/Los_Angeles:20270626T080000
DTEND;TZID=America/Los_Angeles:20270626T100000
DTSTAMP:20260420T035316
CREATED:20231121T202044Z
LAST-MODIFIED:20240515T215706Z
UID:10000834-1813996800-1814004000@renorunningcompany.com
SUMMARY:Saturday Store Run
DESCRIPTION:Join us every Saturday snow\, rain or shine! All ability levels are welcome to attend. We offer multiple distances and courses each week.Snacks and warm coffee are provided after your run! Grab a friend and come run with us!
URL:https://renorunningcompany.com/event/saturday-store-run-2/2027-06-26/
LOCATION:Sparks Store Location\, 1276 Disc Dr.\, Sparks\, 89436\, United States
CATEGORIES:Store Events
ATTACH;FMTTYPE=image/jpeg:https://renorunningcompany.com/wp-content/uploads/2023/12/429555729_781274254022337_8123217459946166490_n.jpg
END:VEVENT
BEGIN:VEVENT
DTSTART;TZID=America/Los_Angeles:20270703T080000
DTEND;TZID=America/Los_Angeles:20270703T100000
DTSTAMP:20260420T035316
CREATED:20231121T202044Z
LAST-MODIFIED:20240515T215706Z
UID:10000835-1814601600-1814608800@renorunningcompany.com
SUMMARY:Saturday Store Run
DESCRIPTION:Join us every Saturday snow\, rain or shine! All ability levels are welcome to attend. We offer multiple distances and courses each week.Snacks and warm coffee are provided after your run! Grab a friend and come run with us!
URL:https://renorunningcompany.com/event/saturday-store-run-2/2027-07-03/
LOCATION:Sparks Store Location\, 1276 Disc Dr.\, Sparks\, 89436\, United States
CATEGORIES:Store Events
ATTACH;FMTTYPE=image/jpeg:https://renorunningcompany.com/wp-content/uploads/2023/12/429555729_781274254022337_8123217459946166490_n.jpg
END:VEVENT
BEGIN:VEVENT
DTSTART;TZID=America/Los_Angeles:20270710T080000
DTEND;TZID=America/Los_Angeles:20270710T100000
DTSTAMP:20260420T035316
CREATED:20231121T202044Z
LAST-MODIFIED:20240515T215706Z
UID:10000836-1815206400-1815213600@renorunningcompany.com
SUMMARY:Saturday Store Run
DESCRIPTION:Join us every Saturday snow\, rain or shine! All ability levels are welcome to attend. We offer multiple distances and courses each week.Snacks and warm coffee are provided after your run! Grab a friend and come run with us!
URL:https://renorunningcompany.com/event/saturday-store-run-2/2027-07-10/
LOCATION:Sparks Store Location\, 1276 Disc Dr.\, Sparks\, 89436\, United States
CATEGORIES:Store Events
ATTACH;FMTTYPE=image/jpeg:https://renorunningcompany.com/wp-content/uploads/2023/12/429555729_781274254022337_8123217459946166490_n.jpg
END:VEVENT
BEGIN:VEVENT
DTSTART;TZID=America/Los_Angeles:20270717T080000
DTEND;TZID=America/Los_Angeles:20270717T100000
DTSTAMP:20260420T035316
CREATED:20231121T202044Z
LAST-MODIFIED:20240515T215706Z
UID:10000837-1815811200-1815818400@renorunningcompany.com
SUMMARY:Saturday Store Run
DESCRIPTION:Join us every Saturday snow\, rain or shine! All ability levels are welcome to attend. We offer multiple distances and courses each week.Snacks and warm coffee are provided after your run! Grab a friend and come run with us!
URL:https://renorunningcompany.com/event/saturday-store-run-2/2027-07-17/
LOCATION:Sparks Store Location\, 1276 Disc Dr.\, Sparks\, 89436\, United States
CATEGORIES:Store Events
ATTACH;FMTTYPE=image/jpeg:https://renorunningcompany.com/wp-content/uploads/2023/12/429555729_781274254022337_8123217459946166490_n.jpg
END:VEVENT
BEGIN:VEVENT
DTSTART;TZID=America/Los_Angeles:20270724T080000
DTEND;TZID=America/Los_Angeles:20270724T100000
DTSTAMP:20260420T035316
CREATED:20231121T202044Z
LAST-MODIFIED:20240515T215706Z
UID:10000838-1816416000-1816423200@renorunningcompany.com
SUMMARY:Saturday Store Run
DESCRIPTION:Join us every Saturday snow\, rain or shine! All ability levels are welcome to attend. We offer multiple distances and courses each week.Snacks and warm coffee are provided after your run! Grab a friend and come run with us!
URL:https://renorunningcompany.com/event/saturday-store-run-2/2027-07-24/
LOCATION:Sparks Store Location\, 1276 Disc Dr.\, Sparks\, 89436\, United States
CATEGORIES:Store Events
ATTACH;FMTTYPE=image/jpeg:https://renorunningcompany.com/wp-content/uploads/2023/12/429555729_781274254022337_8123217459946166490_n.jpg
END:VEVENT
BEGIN:VEVENT
DTSTART;TZID=America/Los_Angeles:20270731T080000
DTEND;TZID=America/Los_Angeles:20270731T100000
DTSTAMP:20260420T035316
CREATED:20231121T202044Z
LAST-MODIFIED:20240515T215706Z
UID:10000839-1817020800-1817028000@renorunningcompany.com
SUMMARY:Saturday Store Run
DESCRIPTION:Join us every Saturday snow\, rain or shine! All ability levels are welcome to attend. We offer multiple distances and courses each week.Snacks and warm coffee are provided after your run! Grab a friend and come run with us!
URL:https://renorunningcompany.com/event/saturday-store-run-2/2027-07-31/
LOCATION:Sparks Store Location\, 1276 Disc Dr.\, Sparks\, 89436\, United States
CATEGORIES:Store Events
ATTACH;FMTTYPE=image/jpeg:https://renorunningcompany.com/wp-content/uploads/2023/12/429555729_781274254022337_8123217459946166490_n.jpg
END:VEVENT
BEGIN:VEVENT
DTSTART;TZID=America/Los_Angeles:20270807T080000
DTEND;TZID=America/Los_Angeles:20270807T100000
DTSTAMP:20260420T035316
CREATED:20231121T202044Z
LAST-MODIFIED:20240515T215706Z
UID:10000840-1817625600-1817632800@renorunningcompany.com
SUMMARY:Saturday Store Run
DESCRIPTION:Join us every Saturday snow\, rain or shine! All ability levels are welcome to attend. We offer multiple distances and courses each week.Snacks and warm coffee are provided after your run! Grab a friend and come run with us!
URL:https://renorunningcompany.com/event/saturday-store-run-2/2027-08-07/
LOCATION:Sparks Store Location\, 1276 Disc Dr.\, Sparks\, 89436\, United States
CATEGORIES:Store Events
ATTACH;FMTTYPE=image/jpeg:https://renorunningcompany.com/wp-content/uploads/2023/12/429555729_781274254022337_8123217459946166490_n.jpg
END:VEVENT
BEGIN:VEVENT
DTSTART;TZID=America/Los_Angeles:20270814T080000
DTEND;TZID=America/Los_Angeles:20270814T100000
DTSTAMP:20260420T035316
CREATED:20231121T202044Z
LAST-MODIFIED:20240515T215706Z
UID:10000841-1818230400-1818237600@renorunningcompany.com
SUMMARY:Saturday Store Run
DESCRIPTION:Join us every Saturday snow\, rain or shine! All ability levels are welcome to attend. We offer multiple distances and courses each week.Snacks and warm coffee are provided after your run! Grab a friend and come run with us!
URL:https://renorunningcompany.com/event/saturday-store-run-2/2027-08-14/
LOCATION:Sparks Store Location\, 1276 Disc Dr.\, Sparks\, 89436\, United States
CATEGORIES:Store Events
ATTACH;FMTTYPE=image/jpeg:https://renorunningcompany.com/wp-content/uploads/2023/12/429555729_781274254022337_8123217459946166490_n.jpg
END:VEVENT
BEGIN:VEVENT
DTSTART;TZID=America/Los_Angeles:20270821T080000
DTEND;TZID=America/Los_Angeles:20270821T100000
DTSTAMP:20260420T035316
CREATED:20231121T202044Z
LAST-MODIFIED:20240515T215706Z
UID:10000842-1818835200-1818842400@renorunningcompany.com
SUMMARY:Saturday Store Run
DESCRIPTION:Join us every Saturday snow\, rain or shine! All ability levels are welcome to attend. We offer multiple distances and courses each week.Snacks and warm coffee are provided after your run! Grab a friend and come run with us!
URL:https://renorunningcompany.com/event/saturday-store-run-2/2027-08-21/
LOCATION:Sparks Store Location\, 1276 Disc Dr.\, Sparks\, 89436\, United States
CATEGORIES:Store Events
ATTACH;FMTTYPE=image/jpeg:https://renorunningcompany.com/wp-content/uploads/2023/12/429555729_781274254022337_8123217459946166490_n.jpg
END:VEVENT
END:VCALENDAR