BEGIN:VCALENDAR
VERSION:2.0
PRODID:-//Reno Running Company - ECPv6.15.13//NONSGML v1.0//EN
CALSCALE:GREGORIAN
METHOD:PUBLISH
X-ORIGINAL-URL:https://renorunningcompany.com
X-WR-CALDESC:Events for Reno Running Company
REFRESH-INTERVAL;VALUE=DURATION:PT1H
X-Robots-Tag:noindex
X-PUBLISHED-TTL:PT1H
BEGIN:VTIMEZONE
TZID:America/Los_Angeles
BEGIN:DAYLIGHT
TZOFFSETFROM:-0800
TZOFFSETTO:-0700
TZNAME:PDT
DTSTART:20250309T100000
END:DAYLIGHT
BEGIN:STANDARD
TZOFFSETFROM:-0700
TZOFFSETTO:-0800
TZNAME:PST
DTSTART:20251102T090000
END:STANDARD
BEGIN:DAYLIGHT
TZOFFSETFROM:-0800
TZOFFSETTO:-0700
TZNAME:PDT
DTSTART:20260308T100000
END:DAYLIGHT
BEGIN:STANDARD
TZOFFSETFROM:-0700
TZOFFSETTO:-0800
TZNAME:PST
DTSTART:20261101T090000
END:STANDARD
BEGIN:DAYLIGHT
TZOFFSETFROM:-0800
TZOFFSETTO:-0700
TZNAME:PDT
DTSTART:20270314T100000
END:DAYLIGHT
BEGIN:STANDARD
TZOFFSETFROM:-0700
TZOFFSETTO:-0800
TZNAME:PST
DTSTART:20271107T090000
END:STANDARD
END:VTIMEZONE
BEGIN:VEVENT
DTSTART;TZID=America/Los_Angeles:20260425T080000
DTEND;TZID=America/Los_Angeles:20260425T100000
DTSTAMP:20260424T045612
CREATED:20231121T202044Z
LAST-MODIFIED:20240515T215706Z
UID:10000773-1777104000-1777111200@renorunningcompany.com
SUMMARY:Saturday Store Run
DESCRIPTION:Join us every Saturday snow\, rain or shine! All ability levels are welcome to attend. We offer multiple distances and courses each week.Snacks and warm coffee are provided after your run! Grab a friend and come run with us!
URL:https://renorunningcompany.com/event/saturday-store-run-2/2026-04-25/
LOCATION:Sparks Store Location\, 1276 Disc Dr.\, Sparks\, 89436\, United States
CATEGORIES:Store Events
ATTACH;FMTTYPE=image/jpeg:https://renorunningcompany.com/wp-content/uploads/2023/12/429555729_781274254022337_8123217459946166490_n.jpg
END:VEVENT
BEGIN:VEVENT
DTSTART;TZID=America/Los_Angeles:20260502T080000
DTEND;TZID=America/Los_Angeles:20260502T100000
DTSTAMP:20260424T045612
CREATED:20231121T202044Z
LAST-MODIFIED:20240515T215706Z
UID:10000774-1777708800-1777716000@renorunningcompany.com
SUMMARY:Saturday Store Run
DESCRIPTION:Join us every Saturday snow\, rain or shine! All ability levels are welcome to attend. We offer multiple distances and courses each week.Snacks and warm coffee are provided after your run! Grab a friend and come run with us!
URL:https://renorunningcompany.com/event/saturday-store-run-2/2026-05-02/
LOCATION:Sparks Store Location\, 1276 Disc Dr.\, Sparks\, 89436\, United States
CATEGORIES:Store Events
ATTACH;FMTTYPE=image/jpeg:https://renorunningcompany.com/wp-content/uploads/2023/12/429555729_781274254022337_8123217459946166490_n.jpg
END:VEVENT
BEGIN:VEVENT
DTSTART;TZID=America/Los_Angeles:20260509T080000
DTEND;TZID=America/Los_Angeles:20260509T100000
DTSTAMP:20260424T045612
CREATED:20231121T202044Z
LAST-MODIFIED:20240515T215706Z
UID:10000775-1778313600-1778320800@renorunningcompany.com
SUMMARY:Saturday Store Run
DESCRIPTION:Join us every Saturday snow\, rain or shine! All ability levels are welcome to attend. We offer multiple distances and courses each week.Snacks and warm coffee are provided after your run! Grab a friend and come run with us!
URL:https://renorunningcompany.com/event/saturday-store-run-2/2026-05-09/
LOCATION:Sparks Store Location\, 1276 Disc Dr.\, Sparks\, 89436\, United States
CATEGORIES:Store Events
ATTACH;FMTTYPE=image/jpeg:https://renorunningcompany.com/wp-content/uploads/2023/12/429555729_781274254022337_8123217459946166490_n.jpg
END:VEVENT
BEGIN:VEVENT
DTSTART;TZID=America/Los_Angeles:20260516T080000
DTEND;TZID=America/Los_Angeles:20260516T100000
DTSTAMP:20260424T045612
CREATED:20231121T202044Z
LAST-MODIFIED:20240515T215706Z
UID:10000776-1778918400-1778925600@renorunningcompany.com
SUMMARY:Saturday Store Run
DESCRIPTION:Join us every Saturday snow\, rain or shine! All ability levels are welcome to attend. We offer multiple distances and courses each week.Snacks and warm coffee are provided after your run! Grab a friend and come run with us!
URL:https://renorunningcompany.com/event/saturday-store-run-2/2026-05-16/
LOCATION:Sparks Store Location\, 1276 Disc Dr.\, Sparks\, 89436\, United States
CATEGORIES:Store Events
ATTACH;FMTTYPE=image/jpeg:https://renorunningcompany.com/wp-content/uploads/2023/12/429555729_781274254022337_8123217459946166490_n.jpg
END:VEVENT
BEGIN:VEVENT
DTSTART;TZID=America/Los_Angeles:20260523T080000
DTEND;TZID=America/Los_Angeles:20260523T100000
DTSTAMP:20260424T045612
CREATED:20231121T202044Z
LAST-MODIFIED:20240515T215706Z
UID:10000777-1779523200-1779530400@renorunningcompany.com
SUMMARY:Saturday Store Run
DESCRIPTION:Join us every Saturday snow\, rain or shine! All ability levels are welcome to attend. We offer multiple distances and courses each week.Snacks and warm coffee are provided after your run! Grab a friend and come run with us!
URL:https://renorunningcompany.com/event/saturday-store-run-2/2026-05-23/
LOCATION:Sparks Store Location\, 1276 Disc Dr.\, Sparks\, 89436\, United States
CATEGORIES:Store Events
ATTACH;FMTTYPE=image/jpeg:https://renorunningcompany.com/wp-content/uploads/2023/12/429555729_781274254022337_8123217459946166490_n.jpg
END:VEVENT
BEGIN:VEVENT
DTSTART;TZID=America/Los_Angeles:20260530T080000
DTEND;TZID=America/Los_Angeles:20260530T100000
DTSTAMP:20260424T045612
CREATED:20231121T202044Z
LAST-MODIFIED:20240515T215706Z
UID:10000778-1780128000-1780135200@renorunningcompany.com
SUMMARY:Saturday Store Run
DESCRIPTION:Join us every Saturday snow\, rain or shine! All ability levels are welcome to attend. We offer multiple distances and courses each week.Snacks and warm coffee are provided after your run! Grab a friend and come run with us!
URL:https://renorunningcompany.com/event/saturday-store-run-2/2026-05-30/
LOCATION:Sparks Store Location\, 1276 Disc Dr.\, Sparks\, 89436\, United States
CATEGORIES:Store Events
ATTACH;FMTTYPE=image/jpeg:https://renorunningcompany.com/wp-content/uploads/2023/12/429555729_781274254022337_8123217459946166490_n.jpg
END:VEVENT
BEGIN:VEVENT
DTSTART;TZID=America/Los_Angeles:20260606T080000
DTEND;TZID=America/Los_Angeles:20260606T100000
DTSTAMP:20260424T045612
CREATED:20231121T202044Z
LAST-MODIFIED:20240515T215706Z
UID:10000779-1780732800-1780740000@renorunningcompany.com
SUMMARY:Saturday Store Run
DESCRIPTION:Join us every Saturday snow\, rain or shine! All ability levels are welcome to attend. We offer multiple distances and courses each week.Snacks and warm coffee are provided after your run! Grab a friend and come run with us!
URL:https://renorunningcompany.com/event/saturday-store-run-2/2026-06-06/
LOCATION:Sparks Store Location\, 1276 Disc Dr.\, Sparks\, 89436\, United States
CATEGORIES:Store Events
ATTACH;FMTTYPE=image/jpeg:https://renorunningcompany.com/wp-content/uploads/2023/12/429555729_781274254022337_8123217459946166490_n.jpg
END:VEVENT
BEGIN:VEVENT
DTSTART;TZID=America/Los_Angeles:20260613T080000
DTEND;TZID=America/Los_Angeles:20260613T100000
DTSTAMP:20260424T045612
CREATED:20231121T202044Z
LAST-MODIFIED:20240515T215706Z
UID:10000780-1781337600-1781344800@renorunningcompany.com
SUMMARY:Saturday Store Run
DESCRIPTION:Join us every Saturday snow\, rain or shine! All ability levels are welcome to attend. We offer multiple distances and courses each week.Snacks and warm coffee are provided after your run! Grab a friend and come run with us!
URL:https://renorunningcompany.com/event/saturday-store-run-2/2026-06-13/
LOCATION:Sparks Store Location\, 1276 Disc Dr.\, Sparks\, 89436\, United States
CATEGORIES:Store Events
ATTACH;FMTTYPE=image/jpeg:https://renorunningcompany.com/wp-content/uploads/2023/12/429555729_781274254022337_8123217459946166490_n.jpg
END:VEVENT
BEGIN:VEVENT
DTSTART;TZID=America/Los_Angeles:20260620T080000
DTEND;TZID=America/Los_Angeles:20260620T100000
DTSTAMP:20260424T045612
CREATED:20231121T202044Z
LAST-MODIFIED:20240515T215706Z
UID:10000781-1781942400-1781949600@renorunningcompany.com
SUMMARY:Saturday Store Run
DESCRIPTION:Join us every Saturday snow\, rain or shine! All ability levels are welcome to attend. We offer multiple distances and courses each week.Snacks and warm coffee are provided after your run! Grab a friend and come run with us!
URL:https://renorunningcompany.com/event/saturday-store-run-2/2026-06-20/
LOCATION:Sparks Store Location\, 1276 Disc Dr.\, Sparks\, 89436\, United States
CATEGORIES:Store Events
ATTACH;FMTTYPE=image/jpeg:https://renorunningcompany.com/wp-content/uploads/2023/12/429555729_781274254022337_8123217459946166490_n.jpg
END:VEVENT
BEGIN:VEVENT
DTSTART;TZID=America/Los_Angeles:20260627T080000
DTEND;TZID=America/Los_Angeles:20260627T100000
DTSTAMP:20260424T045612
CREATED:20231121T202044Z
LAST-MODIFIED:20240515T215706Z
UID:10000782-1782547200-1782554400@renorunningcompany.com
SUMMARY:Saturday Store Run
DESCRIPTION:Join us every Saturday snow\, rain or shine! All ability levels are welcome to attend. We offer multiple distances and courses each week.Snacks and warm coffee are provided after your run! Grab a friend and come run with us!
URL:https://renorunningcompany.com/event/saturday-store-run-2/2026-06-27/
LOCATION:Sparks Store Location\, 1276 Disc Dr.\, Sparks\, 89436\, United States
CATEGORIES:Store Events
ATTACH;FMTTYPE=image/jpeg:https://renorunningcompany.com/wp-content/uploads/2023/12/429555729_781274254022337_8123217459946166490_n.jpg
END:VEVENT
BEGIN:VEVENT
DTSTART;TZID=America/Los_Angeles:20260704T080000
DTEND;TZID=America/Los_Angeles:20260704T100000
DTSTAMP:20260424T045612
CREATED:20231121T202044Z
LAST-MODIFIED:20240515T215706Z
UID:10000783-1783152000-1783159200@renorunningcompany.com
SUMMARY:Saturday Store Run
DESCRIPTION:Join us every Saturday snow\, rain or shine! All ability levels are welcome to attend. We offer multiple distances and courses each week.Snacks and warm coffee are provided after your run! Grab a friend and come run with us!
URL:https://renorunningcompany.com/event/saturday-store-run-2/2026-07-04/
LOCATION:Sparks Store Location\, 1276 Disc Dr.\, Sparks\, 89436\, United States
CATEGORIES:Store Events
ATTACH;FMTTYPE=image/jpeg:https://renorunningcompany.com/wp-content/uploads/2023/12/429555729_781274254022337_8123217459946166490_n.jpg
END:VEVENT
BEGIN:VEVENT
DTSTART;TZID=America/Los_Angeles:20260711T080000
DTEND;TZID=America/Los_Angeles:20260711T100000
DTSTAMP:20260424T045612
CREATED:20231121T202044Z
LAST-MODIFIED:20240515T215706Z
UID:10000784-1783756800-1783764000@renorunningcompany.com
SUMMARY:Saturday Store Run
DESCRIPTION:Join us every Saturday snow\, rain or shine! All ability levels are welcome to attend. We offer multiple distances and courses each week.Snacks and warm coffee are provided after your run! Grab a friend and come run with us!
URL:https://renorunningcompany.com/event/saturday-store-run-2/2026-07-11/
LOCATION:Sparks Store Location\, 1276 Disc Dr.\, Sparks\, 89436\, United States
CATEGORIES:Store Events
ATTACH;FMTTYPE=image/jpeg:https://renorunningcompany.com/wp-content/uploads/2023/12/429555729_781274254022337_8123217459946166490_n.jpg
END:VEVENT
BEGIN:VEVENT
DTSTART;TZID=America/Los_Angeles:20260718T080000
DTEND;TZID=America/Los_Angeles:20260718T100000
DTSTAMP:20260424T045612
CREATED:20231121T202044Z
LAST-MODIFIED:20240515T215706Z
UID:10000785-1784361600-1784368800@renorunningcompany.com
SUMMARY:Saturday Store Run
DESCRIPTION:Join us every Saturday snow\, rain or shine! All ability levels are welcome to attend. We offer multiple distances and courses each week.Snacks and warm coffee are provided after your run! Grab a friend and come run with us!
URL:https://renorunningcompany.com/event/saturday-store-run-2/2026-07-18/
LOCATION:Sparks Store Location\, 1276 Disc Dr.\, Sparks\, 89436\, United States
CATEGORIES:Store Events
ATTACH;FMTTYPE=image/jpeg:https://renorunningcompany.com/wp-content/uploads/2023/12/429555729_781274254022337_8123217459946166490_n.jpg
END:VEVENT
BEGIN:VEVENT
DTSTART;TZID=America/Los_Angeles:20260725T080000
DTEND;TZID=America/Los_Angeles:20260725T100000
DTSTAMP:20260424T045612
CREATED:20231121T202044Z
LAST-MODIFIED:20240515T215706Z
UID:10000786-1784966400-1784973600@renorunningcompany.com
SUMMARY:Saturday Store Run
DESCRIPTION:Join us every Saturday snow\, rain or shine! All ability levels are welcome to attend. We offer multiple distances and courses each week.Snacks and warm coffee are provided after your run! Grab a friend and come run with us!
URL:https://renorunningcompany.com/event/saturday-store-run-2/2026-07-25/
LOCATION:Sparks Store Location\, 1276 Disc Dr.\, Sparks\, 89436\, United States
CATEGORIES:Store Events
ATTACH;FMTTYPE=image/jpeg:https://renorunningcompany.com/wp-content/uploads/2023/12/429555729_781274254022337_8123217459946166490_n.jpg
END:VEVENT
BEGIN:VEVENT
DTSTART;TZID=America/Los_Angeles:20260801T080000
DTEND;TZID=America/Los_Angeles:20260801T100000
DTSTAMP:20260424T045612
CREATED:20231121T202044Z
LAST-MODIFIED:20240515T215706Z
UID:10000787-1785571200-1785578400@renorunningcompany.com
SUMMARY:Saturday Store Run
DESCRIPTION:Join us every Saturday snow\, rain or shine! All ability levels are welcome to attend. We offer multiple distances and courses each week.Snacks and warm coffee are provided after your run! Grab a friend and come run with us!
URL:https://renorunningcompany.com/event/saturday-store-run-2/2026-08-01/
LOCATION:Sparks Store Location\, 1276 Disc Dr.\, Sparks\, 89436\, United States
CATEGORIES:Store Events
ATTACH;FMTTYPE=image/jpeg:https://renorunningcompany.com/wp-content/uploads/2023/12/429555729_781274254022337_8123217459946166490_n.jpg
END:VEVENT
BEGIN:VEVENT
DTSTART;TZID=America/Los_Angeles:20260808T080000
DTEND;TZID=America/Los_Angeles:20260808T100000
DTSTAMP:20260424T045612
CREATED:20231121T202044Z
LAST-MODIFIED:20240515T215706Z
UID:10000788-1786176000-1786183200@renorunningcompany.com
SUMMARY:Saturday Store Run
DESCRIPTION:Join us every Saturday snow\, rain or shine! All ability levels are welcome to attend. We offer multiple distances and courses each week.Snacks and warm coffee are provided after your run! Grab a friend and come run with us!
URL:https://renorunningcompany.com/event/saturday-store-run-2/2026-08-08/
LOCATION:Sparks Store Location\, 1276 Disc Dr.\, Sparks\, 89436\, United States
CATEGORIES:Store Events
ATTACH;FMTTYPE=image/jpeg:https://renorunningcompany.com/wp-content/uploads/2023/12/429555729_781274254022337_8123217459946166490_n.jpg
END:VEVENT
BEGIN:VEVENT
DTSTART;TZID=America/Los_Angeles:20260815T080000
DTEND;TZID=America/Los_Angeles:20260815T100000
DTSTAMP:20260424T045612
CREATED:20231121T202044Z
LAST-MODIFIED:20240515T215706Z
UID:10000789-1786780800-1786788000@renorunningcompany.com
SUMMARY:Saturday Store Run
DESCRIPTION:Join us every Saturday snow\, rain or shine! All ability levels are welcome to attend. We offer multiple distances and courses each week.Snacks and warm coffee are provided after your run! Grab a friend and come run with us!
URL:https://renorunningcompany.com/event/saturday-store-run-2/2026-08-15/
LOCATION:Sparks Store Location\, 1276 Disc Dr.\, Sparks\, 89436\, United States
CATEGORIES:Store Events
ATTACH;FMTTYPE=image/jpeg:https://renorunningcompany.com/wp-content/uploads/2023/12/429555729_781274254022337_8123217459946166490_n.jpg
END:VEVENT
BEGIN:VEVENT
DTSTART;TZID=America/Los_Angeles:20260822T080000
DTEND;TZID=America/Los_Angeles:20260822T100000
DTSTAMP:20260424T045612
CREATED:20231121T202044Z
LAST-MODIFIED:20240515T215706Z
UID:10000790-1787385600-1787392800@renorunningcompany.com
SUMMARY:Saturday Store Run
DESCRIPTION:Join us every Saturday snow\, rain or shine! All ability levels are welcome to attend. We offer multiple distances and courses each week.Snacks and warm coffee are provided after your run! Grab a friend and come run with us!
URL:https://renorunningcompany.com/event/saturday-store-run-2/2026-08-22/
LOCATION:Sparks Store Location\, 1276 Disc Dr.\, Sparks\, 89436\, United States
CATEGORIES:Store Events
ATTACH;FMTTYPE=image/jpeg:https://renorunningcompany.com/wp-content/uploads/2023/12/429555729_781274254022337_8123217459946166490_n.jpg
END:VEVENT
BEGIN:VEVENT
DTSTART;TZID=America/Los_Angeles:20260829T080000
DTEND;TZID=America/Los_Angeles:20260829T100000
DTSTAMP:20260424T045612
CREATED:20231121T202044Z
LAST-MODIFIED:20240515T215706Z
UID:10000791-1787990400-1787997600@renorunningcompany.com
SUMMARY:Saturday Store Run
DESCRIPTION:Join us every Saturday snow\, rain or shine! All ability levels are welcome to attend. We offer multiple distances and courses each week.Snacks and warm coffee are provided after your run! Grab a friend and come run with us!
URL:https://renorunningcompany.com/event/saturday-store-run-2/2026-08-29/
LOCATION:Sparks Store Location\, 1276 Disc Dr.\, Sparks\, 89436\, United States
CATEGORIES:Store Events
ATTACH;FMTTYPE=image/jpeg:https://renorunningcompany.com/wp-content/uploads/2023/12/429555729_781274254022337_8123217459946166490_n.jpg
END:VEVENT
BEGIN:VEVENT
DTSTART;TZID=America/Los_Angeles:20260905T080000
DTEND;TZID=America/Los_Angeles:20260905T100000
DTSTAMP:20260424T045612
CREATED:20231121T202044Z
LAST-MODIFIED:20240515T215706Z
UID:10000792-1788595200-1788602400@renorunningcompany.com
SUMMARY:Saturday Store Run
DESCRIPTION:Join us every Saturday snow\, rain or shine! All ability levels are welcome to attend. We offer multiple distances and courses each week.Snacks and warm coffee are provided after your run! Grab a friend and come run with us!
URL:https://renorunningcompany.com/event/saturday-store-run-2/2026-09-05/
LOCATION:Sparks Store Location\, 1276 Disc Dr.\, Sparks\, 89436\, United States
CATEGORIES:Store Events
ATTACH;FMTTYPE=image/jpeg:https://renorunningcompany.com/wp-content/uploads/2023/12/429555729_781274254022337_8123217459946166490_n.jpg
END:VEVENT
BEGIN:VEVENT
DTSTART;TZID=America/Los_Angeles:20260912T080000
DTEND;TZID=America/Los_Angeles:20260912T100000
DTSTAMP:20260424T045612
CREATED:20231121T202044Z
LAST-MODIFIED:20240515T215706Z
UID:10000793-1789200000-1789207200@renorunningcompany.com
SUMMARY:Saturday Store Run
DESCRIPTION:Join us every Saturday snow\, rain or shine! All ability levels are welcome to attend. We offer multiple distances and courses each week.Snacks and warm coffee are provided after your run! Grab a friend and come run with us!
URL:https://renorunningcompany.com/event/saturday-store-run-2/2026-09-12/
LOCATION:Sparks Store Location\, 1276 Disc Dr.\, Sparks\, 89436\, United States
CATEGORIES:Store Events
ATTACH;FMTTYPE=image/jpeg:https://renorunningcompany.com/wp-content/uploads/2023/12/429555729_781274254022337_8123217459946166490_n.jpg
END:VEVENT
BEGIN:VEVENT
DTSTART;TZID=America/Los_Angeles:20260919T080000
DTEND;TZID=America/Los_Angeles:20260919T100000
DTSTAMP:20260424T045612
CREATED:20231121T202044Z
LAST-MODIFIED:20240515T215706Z
UID:10000794-1789804800-1789812000@renorunningcompany.com
SUMMARY:Saturday Store Run
DESCRIPTION:Join us every Saturday snow\, rain or shine! All ability levels are welcome to attend. We offer multiple distances and courses each week.Snacks and warm coffee are provided after your run! Grab a friend and come run with us!
URL:https://renorunningcompany.com/event/saturday-store-run-2/2026-09-19/
LOCATION:Sparks Store Location\, 1276 Disc Dr.\, Sparks\, 89436\, United States
CATEGORIES:Store Events
ATTACH;FMTTYPE=image/jpeg:https://renorunningcompany.com/wp-content/uploads/2023/12/429555729_781274254022337_8123217459946166490_n.jpg
END:VEVENT
BEGIN:VEVENT
DTSTART;TZID=America/Los_Angeles:20260926T080000
DTEND;TZID=America/Los_Angeles:20260926T100000
DTSTAMP:20260424T045612
CREATED:20231121T202044Z
LAST-MODIFIED:20240515T215706Z
UID:10000795-1790409600-1790416800@renorunningcompany.com
SUMMARY:Saturday Store Run
DESCRIPTION:Join us every Saturday snow\, rain or shine! All ability levels are welcome to attend. We offer multiple distances and courses each week.Snacks and warm coffee are provided after your run! Grab a friend and come run with us!
URL:https://renorunningcompany.com/event/saturday-store-run-2/2026-09-26/
LOCATION:Sparks Store Location\, 1276 Disc Dr.\, Sparks\, 89436\, United States
CATEGORIES:Store Events
ATTACH;FMTTYPE=image/jpeg:https://renorunningcompany.com/wp-content/uploads/2023/12/429555729_781274254022337_8123217459946166490_n.jpg
END:VEVENT
BEGIN:VEVENT
DTSTART;TZID=America/Los_Angeles:20261003T080000
DTEND;TZID=America/Los_Angeles:20261003T100000
DTSTAMP:20260424T045612
CREATED:20231121T202044Z
LAST-MODIFIED:20240515T215706Z
UID:10000796-1791014400-1791021600@renorunningcompany.com
SUMMARY:Saturday Store Run
DESCRIPTION:Join us every Saturday snow\, rain or shine! All ability levels are welcome to attend. We offer multiple distances and courses each week.Snacks and warm coffee are provided after your run! Grab a friend and come run with us!
URL:https://renorunningcompany.com/event/saturday-store-run-2/2026-10-03/
LOCATION:Sparks Store Location\, 1276 Disc Dr.\, Sparks\, 89436\, United States
CATEGORIES:Store Events
ATTACH;FMTTYPE=image/jpeg:https://renorunningcompany.com/wp-content/uploads/2023/12/429555729_781274254022337_8123217459946166490_n.jpg
END:VEVENT
BEGIN:VEVENT
DTSTART;TZID=America/Los_Angeles:20261010T080000
DTEND;TZID=America/Los_Angeles:20261010T100000
DTSTAMP:20260424T045612
CREATED:20231121T202044Z
LAST-MODIFIED:20240515T215706Z
UID:10000797-1791619200-1791626400@renorunningcompany.com
SUMMARY:Saturday Store Run
DESCRIPTION:Join us every Saturday snow\, rain or shine! All ability levels are welcome to attend. We offer multiple distances and courses each week.Snacks and warm coffee are provided after your run! Grab a friend and come run with us!
URL:https://renorunningcompany.com/event/saturday-store-run-2/2026-10-10/
LOCATION:Sparks Store Location\, 1276 Disc Dr.\, Sparks\, 89436\, United States
CATEGORIES:Store Events
ATTACH;FMTTYPE=image/jpeg:https://renorunningcompany.com/wp-content/uploads/2023/12/429555729_781274254022337_8123217459946166490_n.jpg
END:VEVENT
BEGIN:VEVENT
DTSTART;TZID=America/Los_Angeles:20261017T080000
DTEND;TZID=America/Los_Angeles:20261017T100000
DTSTAMP:20260424T045612
CREATED:20231121T202044Z
LAST-MODIFIED:20240515T215706Z
UID:10000798-1792224000-1792231200@renorunningcompany.com
SUMMARY:Saturday Store Run
DESCRIPTION:Join us every Saturday snow\, rain or shine! All ability levels are welcome to attend. We offer multiple distances and courses each week.Snacks and warm coffee are provided after your run! Grab a friend and come run with us!
URL:https://renorunningcompany.com/event/saturday-store-run-2/2026-10-17/
LOCATION:Sparks Store Location\, 1276 Disc Dr.\, Sparks\, 89436\, United States
CATEGORIES:Store Events
ATTACH;FMTTYPE=image/jpeg:https://renorunningcompany.com/wp-content/uploads/2023/12/429555729_781274254022337_8123217459946166490_n.jpg
END:VEVENT
BEGIN:VEVENT
DTSTART;TZID=America/Los_Angeles:20261024T080000
DTEND;TZID=America/Los_Angeles:20261024T100000
DTSTAMP:20260424T045612
CREATED:20231121T202044Z
LAST-MODIFIED:20240515T215706Z
UID:10000799-1792828800-1792836000@renorunningcompany.com
SUMMARY:Saturday Store Run
DESCRIPTION:Join us every Saturday snow\, rain or shine! All ability levels are welcome to attend. We offer multiple distances and courses each week.Snacks and warm coffee are provided after your run! Grab a friend and come run with us!
URL:https://renorunningcompany.com/event/saturday-store-run-2/2026-10-24/
LOCATION:Sparks Store Location\, 1276 Disc Dr.\, Sparks\, 89436\, United States
CATEGORIES:Store Events
ATTACH;FMTTYPE=image/jpeg:https://renorunningcompany.com/wp-content/uploads/2023/12/429555729_781274254022337_8123217459946166490_n.jpg
END:VEVENT
BEGIN:VEVENT
DTSTART;TZID=America/Los_Angeles:20261031T080000
DTEND;TZID=America/Los_Angeles:20261031T100000
DTSTAMP:20260424T045612
CREATED:20231121T202044Z
LAST-MODIFIED:20240515T215706Z
UID:10000800-1793433600-1793440800@renorunningcompany.com
SUMMARY:Saturday Store Run
DESCRIPTION:Join us every Saturday snow\, rain or shine! All ability levels are welcome to attend. We offer multiple distances and courses each week.Snacks and warm coffee are provided after your run! Grab a friend and come run with us!
URL:https://renorunningcompany.com/event/saturday-store-run-2/2026-10-31/
LOCATION:Sparks Store Location\, 1276 Disc Dr.\, Sparks\, 89436\, United States
CATEGORIES:Store Events
ATTACH;FMTTYPE=image/jpeg:https://renorunningcompany.com/wp-content/uploads/2023/12/429555729_781274254022337_8123217459946166490_n.jpg
END:VEVENT
BEGIN:VEVENT
DTSTART;TZID=America/Los_Angeles:20261107T080000
DTEND;TZID=America/Los_Angeles:20261107T100000
DTSTAMP:20260424T045612
CREATED:20231121T202044Z
LAST-MODIFIED:20240515T215706Z
UID:10000801-1794038400-1794045600@renorunningcompany.com
SUMMARY:Saturday Store Run
DESCRIPTION:Join us every Saturday snow\, rain or shine! All ability levels are welcome to attend. We offer multiple distances and courses each week.Snacks and warm coffee are provided after your run! Grab a friend and come run with us!
URL:https://renorunningcompany.com/event/saturday-store-run-2/2026-11-07/
LOCATION:Sparks Store Location\, 1276 Disc Dr.\, Sparks\, 89436\, United States
CATEGORIES:Store Events
ATTACH;FMTTYPE=image/jpeg:https://renorunningcompany.com/wp-content/uploads/2023/12/429555729_781274254022337_8123217459946166490_n.jpg
END:VEVENT
BEGIN:VEVENT
DTSTART;TZID=America/Los_Angeles:20261114T080000
DTEND;TZID=America/Los_Angeles:20261114T100000
DTSTAMP:20260424T045612
CREATED:20231121T202044Z
LAST-MODIFIED:20240515T215706Z
UID:10000802-1794643200-1794650400@renorunningcompany.com
SUMMARY:Saturday Store Run
DESCRIPTION:Join us every Saturday snow\, rain or shine! All ability levels are welcome to attend. We offer multiple distances and courses each week.Snacks and warm coffee are provided after your run! Grab a friend and come run with us!
URL:https://renorunningcompany.com/event/saturday-store-run-2/2026-11-14/
LOCATION:Sparks Store Location\, 1276 Disc Dr.\, Sparks\, 89436\, United States
CATEGORIES:Store Events
ATTACH;FMTTYPE=image/jpeg:https://renorunningcompany.com/wp-content/uploads/2023/12/429555729_781274254022337_8123217459946166490_n.jpg
END:VEVENT
END:VCALENDAR