BEGIN:VCALENDAR
VERSION:2.0
PRODID:-//Reno Running Company - ECPv6.15.13//NONSGML v1.0//EN
CALSCALE:GREGORIAN
METHOD:PUBLISH
X-WR-CALNAME:Reno Running Company
X-ORIGINAL-URL:https://renorunningcompany.com
X-WR-CALDESC:Events for Reno Running Company
REFRESH-INTERVAL;VALUE=DURATION:PT1H
X-Robots-Tag:noindex
X-PUBLISHED-TTL:PT1H
BEGIN:VTIMEZONE
TZID:America/Los_Angeles
BEGIN:DAYLIGHT
TZOFFSETFROM:-0800
TZOFFSETTO:-0700
TZNAME:PDT
DTSTART:20240310T100000
END:DAYLIGHT
BEGIN:STANDARD
TZOFFSETFROM:-0700
TZOFFSETTO:-0800
TZNAME:PST
DTSTART:20241103T090000
END:STANDARD
BEGIN:DAYLIGHT
TZOFFSETFROM:-0800
TZOFFSETTO:-0700
TZNAME:PDT
DTSTART:20250309T100000
END:DAYLIGHT
BEGIN:STANDARD
TZOFFSETFROM:-0700
TZOFFSETTO:-0800
TZNAME:PST
DTSTART:20251102T090000
END:STANDARD
BEGIN:DAYLIGHT
TZOFFSETFROM:-0800
TZOFFSETTO:-0700
TZNAME:PDT
DTSTART:20260308T100000
END:DAYLIGHT
BEGIN:STANDARD
TZOFFSETFROM:-0700
TZOFFSETTO:-0800
TZNAME:PST
DTSTART:20261101T090000
END:STANDARD
BEGIN:DAYLIGHT
TZOFFSETFROM:-0800
TZOFFSETTO:-0700
TZNAME:PDT
DTSTART:20270314T100000
END:DAYLIGHT
BEGIN:STANDARD
TZOFFSETFROM:-0700
TZOFFSETTO:-0800
TZNAME:PST
DTSTART:20271107T090000
END:STANDARD
END:VTIMEZONE
BEGIN:VTIMEZONE
TZID:America/Los_Angeles
BEGIN:DAYLIGHT
TZOFFSETFROM:-0800
TZOFFSETTO:-0700
TZNAME:PDT
DTSTART:20250309T100000
END:DAYLIGHT
BEGIN:STANDARD
TZOFFSETFROM:-0700
TZOFFSETTO:-0800
TZNAME:PST
DTSTART:20251102T090000
END:STANDARD
BEGIN:DAYLIGHT
TZOFFSETFROM:-0800
TZOFFSETTO:-0700
TZNAME:PDT
DTSTART:20260308T100000
END:DAYLIGHT
BEGIN:STANDARD
TZOFFSETFROM:-0700
TZOFFSETTO:-0800
TZNAME:PST
DTSTART:20261101T090000
END:STANDARD
BEGIN:DAYLIGHT
TZOFFSETFROM:-0800
TZOFFSETTO:-0700
TZNAME:PDT
DTSTART:20270314T100000
END:DAYLIGHT
BEGIN:STANDARD
TZOFFSETFROM:-0700
TZOFFSETTO:-0800
TZNAME:PST
DTSTART:20271107T090000
END:STANDARD
END:VTIMEZONE
BEGIN:VEVENT
DTSTART;TZID=America/Los_Angeles:20260418T080000
DTEND;TZID=America/Los_Angeles:20260418T100000
DTSTAMP:20260424T113551
CREATED:20231121T202044Z
LAST-MODIFIED:20240515T215706Z
UID:10000772-1776499200-1776506400@renorunningcompany.com
SUMMARY:Saturday Store Run
DESCRIPTION:Join us every Saturday snow\, rain or shine! All ability levels are welcome to attend. We offer multiple distances and courses each week.Snacks and warm coffee are provided after your run! Grab a friend and come run with us!
URL:https://renorunningcompany.com/event/saturday-store-run-2/2026-04-18/
LOCATION:Sparks Store Location\, 1276 Disc Dr.\, Sparks\, 89436\, United States
CATEGORIES:Store Events
ATTACH;FMTTYPE=image/jpeg:https://renorunningcompany.com/wp-content/uploads/2023/12/429555729_781274254022337_8123217459946166490_n.jpg
END:VEVENT
BEGIN:VEVENT
DTSTART;TZID=America/Los_Angeles:20260411T080000
DTEND;TZID=America/Los_Angeles:20260411T100000
DTSTAMP:20260424T113551
CREATED:20231121T202044Z
LAST-MODIFIED:20240515T215706Z
UID:10000771-1775894400-1775901600@renorunningcompany.com
SUMMARY:Saturday Store Run
DESCRIPTION:Join us every Saturday snow\, rain or shine! All ability levels are welcome to attend. We offer multiple distances and courses each week.Snacks and warm coffee are provided after your run! Grab a friend and come run with us!
URL:https://renorunningcompany.com/event/saturday-store-run-2/2026-04-11/
LOCATION:Sparks Store Location\, 1276 Disc Dr.\, Sparks\, 89436\, United States
CATEGORIES:Store Events
ATTACH;FMTTYPE=image/jpeg:https://renorunningcompany.com/wp-content/uploads/2023/12/429555729_781274254022337_8123217459946166490_n.jpg
END:VEVENT
BEGIN:VEVENT
DTSTART;TZID=America/Los_Angeles:20260404T080000
DTEND;TZID=America/Los_Angeles:20260404T100000
DTSTAMP:20260424T113551
CREATED:20231121T202044Z
LAST-MODIFIED:20240515T215706Z
UID:10000770-1775289600-1775296800@renorunningcompany.com
SUMMARY:Saturday Store Run
DESCRIPTION:Join us every Saturday snow\, rain or shine! All ability levels are welcome to attend. We offer multiple distances and courses each week.Snacks and warm coffee are provided after your run! Grab a friend and come run with us!
URL:https://renorunningcompany.com/event/saturday-store-run-2/2026-04-04/
LOCATION:Sparks Store Location\, 1276 Disc Dr.\, Sparks\, 89436\, United States
CATEGORIES:Store Events
ATTACH;FMTTYPE=image/jpeg:https://renorunningcompany.com/wp-content/uploads/2023/12/429555729_781274254022337_8123217459946166490_n.jpg
END:VEVENT
BEGIN:VEVENT
DTSTART;TZID=America/Los_Angeles:20260328T080000
DTEND;TZID=America/Los_Angeles:20260328T100000
DTSTAMP:20260424T113551
CREATED:20231121T202044Z
LAST-MODIFIED:20240515T215706Z
UID:10000769-1774684800-1774692000@renorunningcompany.com
SUMMARY:Saturday Store Run
DESCRIPTION:Join us every Saturday snow\, rain or shine! All ability levels are welcome to attend. We offer multiple distances and courses each week.Snacks and warm coffee are provided after your run! Grab a friend and come run with us!
URL:https://renorunningcompany.com/event/saturday-store-run-2/2026-03-28/
LOCATION:Sparks Store Location\, 1276 Disc Dr.\, Sparks\, 89436\, United States
CATEGORIES:Store Events
ATTACH;FMTTYPE=image/jpeg:https://renorunningcompany.com/wp-content/uploads/2023/12/429555729_781274254022337_8123217459946166490_n.jpg
END:VEVENT
BEGIN:VEVENT
DTSTART;TZID=America/Los_Angeles:20260321T080000
DTEND;TZID=America/Los_Angeles:20260321T100000
DTSTAMP:20260424T113551
CREATED:20231121T202044Z
LAST-MODIFIED:20240515T215706Z
UID:10000768-1774080000-1774087200@renorunningcompany.com
SUMMARY:Saturday Store Run
DESCRIPTION:Join us every Saturday snow\, rain or shine! All ability levels are welcome to attend. We offer multiple distances and courses each week.Snacks and warm coffee are provided after your run! Grab a friend and come run with us!
URL:https://renorunningcompany.com/event/saturday-store-run-2/2026-03-21/
LOCATION:Sparks Store Location\, 1276 Disc Dr.\, Sparks\, 89436\, United States
CATEGORIES:Store Events
ATTACH;FMTTYPE=image/jpeg:https://renorunningcompany.com/wp-content/uploads/2023/12/429555729_781274254022337_8123217459946166490_n.jpg
END:VEVENT
BEGIN:VEVENT
DTSTART;TZID=America/Los_Angeles:20260314T080000
DTEND;TZID=America/Los_Angeles:20260314T100000
DTSTAMP:20260424T113551
CREATED:20231121T202044Z
LAST-MODIFIED:20240515T215706Z
UID:10000767-1773475200-1773482400@renorunningcompany.com
SUMMARY:Saturday Store Run
DESCRIPTION:Join us every Saturday snow\, rain or shine! All ability levels are welcome to attend. We offer multiple distances and courses each week.Snacks and warm coffee are provided after your run! Grab a friend and come run with us!
URL:https://renorunningcompany.com/event/saturday-store-run-2/2026-03-14/
LOCATION:Sparks Store Location\, 1276 Disc Dr.\, Sparks\, 89436\, United States
CATEGORIES:Store Events
ATTACH;FMTTYPE=image/jpeg:https://renorunningcompany.com/wp-content/uploads/2023/12/429555729_781274254022337_8123217459946166490_n.jpg
END:VEVENT
BEGIN:VEVENT
DTSTART;TZID=America/Los_Angeles:20260307T080000
DTEND;TZID=America/Los_Angeles:20260307T100000
DTSTAMP:20260424T113551
CREATED:20231121T202044Z
LAST-MODIFIED:20240515T215706Z
UID:10000766-1772870400-1772877600@renorunningcompany.com
SUMMARY:Saturday Store Run
DESCRIPTION:Join us every Saturday snow\, rain or shine! All ability levels are welcome to attend. We offer multiple distances and courses each week.Snacks and warm coffee are provided after your run! Grab a friend and come run with us!
URL:https://renorunningcompany.com/event/saturday-store-run-2/2026-03-07/
LOCATION:Sparks Store Location\, 1276 Disc Dr.\, Sparks\, 89436\, United States
CATEGORIES:Store Events
ATTACH;FMTTYPE=image/jpeg:https://renorunningcompany.com/wp-content/uploads/2023/12/429555729_781274254022337_8123217459946166490_n.jpg
END:VEVENT
BEGIN:VEVENT
DTSTART;TZID=America/Los_Angeles:20260228T080000
DTEND;TZID=America/Los_Angeles:20260228T100000
DTSTAMP:20260424T113551
CREATED:20231121T202044Z
LAST-MODIFIED:20240515T215706Z
UID:10000765-1772265600-1772272800@renorunningcompany.com
SUMMARY:Saturday Store Run
DESCRIPTION:Join us every Saturday snow\, rain or shine! All ability levels are welcome to attend. We offer multiple distances and courses each week.Snacks and warm coffee are provided after your run! Grab a friend and come run with us!
URL:https://renorunningcompany.com/event/saturday-store-run-2/2026-02-28/
LOCATION:Sparks Store Location\, 1276 Disc Dr.\, Sparks\, 89436\, United States
CATEGORIES:Store Events
ATTACH;FMTTYPE=image/jpeg:https://renorunningcompany.com/wp-content/uploads/2023/12/429555729_781274254022337_8123217459946166490_n.jpg
END:VEVENT
BEGIN:VEVENT
DTSTART;TZID=America/Los_Angeles:20260221T080000
DTEND;TZID=America/Los_Angeles:20260221T100000
DTSTAMP:20260424T113551
CREATED:20231121T202044Z
LAST-MODIFIED:20240515T215706Z
UID:10000764-1771660800-1771668000@renorunningcompany.com
SUMMARY:Saturday Store Run
DESCRIPTION:Join us every Saturday snow\, rain or shine! All ability levels are welcome to attend. We offer multiple distances and courses each week.Snacks and warm coffee are provided after your run! Grab a friend and come run with us!
URL:https://renorunningcompany.com/event/saturday-store-run-2/2026-02-21/
LOCATION:Sparks Store Location\, 1276 Disc Dr.\, Sparks\, 89436\, United States
CATEGORIES:Store Events
ATTACH;FMTTYPE=image/jpeg:https://renorunningcompany.com/wp-content/uploads/2023/12/429555729_781274254022337_8123217459946166490_n.jpg
END:VEVENT
BEGIN:VEVENT
DTSTART;TZID=America/Los_Angeles:20260214T080000
DTEND;TZID=America/Los_Angeles:20260214T100000
DTSTAMP:20260424T113551
CREATED:20231121T202044Z
LAST-MODIFIED:20240515T215706Z
UID:10000763-1771056000-1771063200@renorunningcompany.com
SUMMARY:Saturday Store Run
DESCRIPTION:Join us every Saturday snow\, rain or shine! All ability levels are welcome to attend. We offer multiple distances and courses each week.Snacks and warm coffee are provided after your run! Grab a friend and come run with us!
URL:https://renorunningcompany.com/event/saturday-store-run-2/2026-02-14/
LOCATION:Sparks Store Location\, 1276 Disc Dr.\, Sparks\, 89436\, United States
CATEGORIES:Store Events
ATTACH;FMTTYPE=image/jpeg:https://renorunningcompany.com/wp-content/uploads/2023/12/429555729_781274254022337_8123217459946166490_n.jpg
END:VEVENT
BEGIN:VEVENT
DTSTART;TZID=America/Los_Angeles:20260207T080000
DTEND;TZID=America/Los_Angeles:20260207T100000
DTSTAMP:20260424T113551
CREATED:20231121T202044Z
LAST-MODIFIED:20240515T215706Z
UID:10000762-1770451200-1770458400@renorunningcompany.com
SUMMARY:Saturday Store Run
DESCRIPTION:Join us every Saturday snow\, rain or shine! All ability levels are welcome to attend. We offer multiple distances and courses each week.Snacks and warm coffee are provided after your run! Grab a friend and come run with us!
URL:https://renorunningcompany.com/event/saturday-store-run-2/2026-02-07/
LOCATION:Sparks Store Location\, 1276 Disc Dr.\, Sparks\, 89436\, United States
CATEGORIES:Store Events
ATTACH;FMTTYPE=image/jpeg:https://renorunningcompany.com/wp-content/uploads/2023/12/429555729_781274254022337_8123217459946166490_n.jpg
END:VEVENT
BEGIN:VEVENT
DTSTART;TZID=America/Los_Angeles:20260131T080000
DTEND;TZID=America/Los_Angeles:20260131T100000
DTSTAMP:20260424T113551
CREATED:20231121T202044Z
LAST-MODIFIED:20240515T215706Z
UID:10000761-1769846400-1769853600@renorunningcompany.com
SUMMARY:Saturday Store Run
DESCRIPTION:Join us every Saturday snow\, rain or shine! All ability levels are welcome to attend. We offer multiple distances and courses each week.Snacks and warm coffee are provided after your run! Grab a friend and come run with us!
URL:https://renorunningcompany.com/event/saturday-store-run-2/2026-01-31/
LOCATION:Sparks Store Location\, 1276 Disc Dr.\, Sparks\, 89436\, United States
CATEGORIES:Store Events
ATTACH;FMTTYPE=image/jpeg:https://renorunningcompany.com/wp-content/uploads/2023/12/429555729_781274254022337_8123217459946166490_n.jpg
END:VEVENT
BEGIN:VEVENT
DTSTART;TZID=America/Los_Angeles:20260124T080000
DTEND;TZID=America/Los_Angeles:20260124T100000
DTSTAMP:20260424T113551
CREATED:20260108T171539Z
LAST-MODIFIED:20260108T171539Z
UID:10002194-1769241600-1769248800@renorunningcompany.com
SUMMARY:Asics Shoe Demo - Sparks Store Run
DESCRIPTION:Come try out the new Nimbus at our Saturday Store Run. \nSparks Store Location 1276 Disc Dr.\, Sparks\, United States \nFrom 8:00 to 10:00 am
URL:https://renorunningcompany.com/event/asics-shoe-demo-sparks-store-run/
LOCATION:Sparks Store Location\, 1276 Disc Dr.\, Sparks\, 89436\, United States
CATEGORIES:Store Events
END:VEVENT
BEGIN:VEVENT
DTSTART;TZID=America/Los_Angeles:20260124T080000
DTEND;TZID=America/Los_Angeles:20260124T100000
DTSTAMP:20260424T113551
CREATED:20231121T202044Z
LAST-MODIFIED:20240515T215706Z
UID:10000760-1769241600-1769248800@renorunningcompany.com
SUMMARY:Saturday Store Run
DESCRIPTION:Join us every Saturday snow\, rain or shine! All ability levels are welcome to attend. We offer multiple distances and courses each week.Snacks and warm coffee are provided after your run! Grab a friend and come run with us!
URL:https://renorunningcompany.com/event/saturday-store-run-2/2026-01-24/
LOCATION:Sparks Store Location\, 1276 Disc Dr.\, Sparks\, 89436\, United States
CATEGORIES:Store Events
ATTACH;FMTTYPE=image/jpeg:https://renorunningcompany.com/wp-content/uploads/2023/12/429555729_781274254022337_8123217459946166490_n.jpg
END:VEVENT
BEGIN:VEVENT
DTSTART;TZID=America/Los_Angeles:20260117T080000
DTEND;TZID=America/Los_Angeles:20260117T100000
DTSTAMP:20260424T113551
CREATED:20260108T171333Z
LAST-MODIFIED:20260108T171333Z
UID:10002193-1768636800-1768644000@renorunningcompany.com
SUMMARY:From Pain to Pace - with Dr. Jade & Mona
DESCRIPTION:Following our Saturday Store run\, Dr. Jade & Mona will be doing a workshop called Pain to Pace. \nCome and learn how to stay in the game\, injury free. \nSparks Store Location 1276 Disc Dr.\, Sparks\, United States \nFrom 8:00 to 10:00 AM
URL:https://renorunningcompany.com/event/from-pain-to-pace-with-dr-jade-mona/
LOCATION:Sparks Store Location\, 1276 Disc Dr.\, Sparks\, 89436\, United States
CATEGORIES:Store Events
END:VEVENT
BEGIN:VEVENT
DTSTART;TZID=America/Los_Angeles:20260117T080000
DTEND;TZID=America/Los_Angeles:20260117T100000
DTSTAMP:20260424T113551
CREATED:20231121T202044Z
LAST-MODIFIED:20240515T215706Z
UID:10000759-1768636800-1768644000@renorunningcompany.com
SUMMARY:Saturday Store Run
DESCRIPTION:Join us every Saturday snow\, rain or shine! All ability levels are welcome to attend. We offer multiple distances and courses each week.Snacks and warm coffee are provided after your run! Grab a friend and come run with us!
URL:https://renorunningcompany.com/event/saturday-store-run-2/2026-01-17/
LOCATION:Sparks Store Location\, 1276 Disc Dr.\, Sparks\, 89436\, United States
CATEGORIES:Store Events
ATTACH;FMTTYPE=image/jpeg:https://renorunningcompany.com/wp-content/uploads/2023/12/429555729_781274254022337_8123217459946166490_n.jpg
END:VEVENT
BEGIN:VEVENT
DTSTART;TZID=America/Los_Angeles:20260110T080000
DTEND;TZID=America/Los_Angeles:20260110T100000
DTSTAMP:20260424T113551
CREATED:20231121T202044Z
LAST-MODIFIED:20240515T215706Z
UID:10000758-1768032000-1768039200@renorunningcompany.com
SUMMARY:Saturday Store Run
DESCRIPTION:Join us every Saturday snow\, rain or shine! All ability levels are welcome to attend. We offer multiple distances and courses each week.Snacks and warm coffee are provided after your run! Grab a friend and come run with us!
URL:https://renorunningcompany.com/event/saturday-store-run-2/2026-01-10/
LOCATION:Sparks Store Location\, 1276 Disc Dr.\, Sparks\, 89436\, United States
CATEGORIES:Store Events
ATTACH;FMTTYPE=image/jpeg:https://renorunningcompany.com/wp-content/uploads/2023/12/429555729_781274254022337_8123217459946166490_n.jpg
END:VEVENT
BEGIN:VEVENT
DTSTART;TZID=America/Los_Angeles:20260103T080000
DTEND;TZID=America/Los_Angeles:20260103T100000
DTSTAMP:20260424T113551
CREATED:20231121T202044Z
LAST-MODIFIED:20240515T215706Z
UID:10000757-1767427200-1767434400@renorunningcompany.com
SUMMARY:Saturday Store Run
DESCRIPTION:Join us every Saturday snow\, rain or shine! All ability levels are welcome to attend. We offer multiple distances and courses each week.Snacks and warm coffee are provided after your run! Grab a friend and come run with us!
URL:https://renorunningcompany.com/event/saturday-store-run-2/2026-01-03/
LOCATION:Sparks Store Location\, 1276 Disc Dr.\, Sparks\, 89436\, United States
CATEGORIES:Store Events
ATTACH;FMTTYPE=image/jpeg:https://renorunningcompany.com/wp-content/uploads/2023/12/429555729_781274254022337_8123217459946166490_n.jpg
END:VEVENT
BEGIN:VEVENT
DTSTART;TZID=America/Los_Angeles:20251227T080000
DTEND;TZID=America/Los_Angeles:20251227T100000
DTSTAMP:20260424T113551
CREATED:20231121T202044Z
LAST-MODIFIED:20240515T215706Z
UID:10000756-1766822400-1766829600@renorunningcompany.com
SUMMARY:Saturday Store Run
DESCRIPTION:Join us every Saturday snow\, rain or shine! All ability levels are welcome to attend. We offer multiple distances and courses each week.Snacks and warm coffee are provided after your run! Grab a friend and come run with us!
URL:https://renorunningcompany.com/event/saturday-store-run-2/2025-12-27/
LOCATION:Sparks Store Location\, 1276 Disc Dr.\, Sparks\, 89436\, United States
CATEGORIES:Store Events
ATTACH;FMTTYPE=image/jpeg:https://renorunningcompany.com/wp-content/uploads/2023/12/429555729_781274254022337_8123217459946166490_n.jpg
END:VEVENT
BEGIN:VEVENT
DTSTART;TZID=America/Los_Angeles:20251220T080000
DTEND;TZID=America/Los_Angeles:20251220T100000
DTSTAMP:20260424T113551
CREATED:20251117T165123Z
LAST-MODIFIED:20251209T163400Z
UID:10000755-1766217600-1766224800@renorunningcompany.com
SUMMARY:RRC - Saturday Morning Ugly Sweater Run - Sparks
DESCRIPTION:Come on out with your best “ugly” sweater and Run with us in Sparks! Holiday Snacks & Coffee included! \nSparks Store Location \n1276 Disc Dr.\, Sparks\, United States
URL:https://renorunningcompany.com/event/saturday-store-run-2-6/
LOCATION:Sparks Store Location\, 1276 Disc Dr.\, Sparks\, 89436\, United States
CATEGORIES:Store Events
ATTACH;FMTTYPE=image/png:https://renorunningcompany.com/wp-content/uploads/2025/11/RRC-Saturday-Store-Run-Event-Image-12.20.25.png
END:VEVENT
BEGIN:VEVENT
DTSTART;TZID=America/Los_Angeles:20251213T080000
DTEND;TZID=America/Los_Angeles:20251213T100000
DTSTAMP:20260424T113551
CREATED:20231121T202044Z
LAST-MODIFIED:20240515T215706Z
UID:10000754-1765612800-1765620000@renorunningcompany.com
SUMMARY:Saturday Store Run
DESCRIPTION:Join us every Saturday snow\, rain or shine! All ability levels are welcome to attend. We offer multiple distances and courses each week.Snacks and warm coffee are provided after your run! Grab a friend and come run with us!
URL:https://renorunningcompany.com/event/saturday-store-run-2/2025-12-13/
LOCATION:Sparks Store Location\, 1276 Disc Dr.\, Sparks\, 89436\, United States
CATEGORIES:Store Events
ATTACH;FMTTYPE=image/jpeg:https://renorunningcompany.com/wp-content/uploads/2023/12/429555729_781274254022337_8123217459946166490_n.jpg
END:VEVENT
BEGIN:VEVENT
DTSTART;TZID=America/Los_Angeles:20251206T080000
DTEND;TZID=America/Los_Angeles:20251206T100000
DTSTAMP:20260424T113551
CREATED:20231121T202044Z
LAST-MODIFIED:20240515T215706Z
UID:10000753-1765008000-1765015200@renorunningcompany.com
SUMMARY:Saturday Store Run
DESCRIPTION:Join us every Saturday snow\, rain or shine! All ability levels are welcome to attend. We offer multiple distances and courses each week.Snacks and warm coffee are provided after your run! Grab a friend and come run with us!
URL:https://renorunningcompany.com/event/saturday-store-run-2/2025-12-06/
LOCATION:Sparks Store Location\, 1276 Disc Dr.\, Sparks\, 89436\, United States
CATEGORIES:Store Events
ATTACH;FMTTYPE=image/jpeg:https://renorunningcompany.com/wp-content/uploads/2023/12/429555729_781274254022337_8123217459946166490_n.jpg
END:VEVENT
BEGIN:VEVENT
DTSTART;TZID=America/Los_Angeles:20251129T080000
DTEND;TZID=America/Los_Angeles:20251129T100000
DTSTAMP:20260424T113551
CREATED:20231121T202044Z
LAST-MODIFIED:20240515T215706Z
UID:10000752-1764403200-1764410400@renorunningcompany.com
SUMMARY:Saturday Store Run
DESCRIPTION:Join us every Saturday snow\, rain or shine! All ability levels are welcome to attend. We offer multiple distances and courses each week.Snacks and warm coffee are provided after your run! Grab a friend and come run with us!
URL:https://renorunningcompany.com/event/saturday-store-run-2/2025-11-29/
LOCATION:Sparks Store Location\, 1276 Disc Dr.\, Sparks\, 89436\, United States
CATEGORIES:Store Events
ATTACH;FMTTYPE=image/jpeg:https://renorunningcompany.com/wp-content/uploads/2023/12/429555729_781274254022337_8123217459946166490_n.jpg
END:VEVENT
BEGIN:VEVENT
DTSTART;TZID=America/Los_Angeles:20251122T080000
DTEND;TZID=America/Los_Angeles:20251122T100000
DTSTAMP:20260424T113551
CREATED:20231121T202044Z
LAST-MODIFIED:20240515T215706Z
UID:10000751-1763798400-1763805600@renorunningcompany.com
SUMMARY:Saturday Store Run
DESCRIPTION:Join us every Saturday snow\, rain or shine! All ability levels are welcome to attend. We offer multiple distances and courses each week.Snacks and warm coffee are provided after your run! Grab a friend and come run with us!
URL:https://renorunningcompany.com/event/saturday-store-run-2/2025-11-22/
LOCATION:Sparks Store Location\, 1276 Disc Dr.\, Sparks\, 89436\, United States
CATEGORIES:Store Events
ATTACH;FMTTYPE=image/jpeg:https://renorunningcompany.com/wp-content/uploads/2023/12/429555729_781274254022337_8123217459946166490_n.jpg
END:VEVENT
BEGIN:VEVENT
DTSTART;TZID=America/Los_Angeles:20251115T080000
DTEND;TZID=America/Los_Angeles:20251115T100000
DTSTAMP:20260424T113551
CREATED:20231121T202044Z
LAST-MODIFIED:20240515T215706Z
UID:10000750-1763193600-1763200800@renorunningcompany.com
SUMMARY:Saturday Store Run
DESCRIPTION:Join us every Saturday snow\, rain or shine! All ability levels are welcome to attend. We offer multiple distances and courses each week.Snacks and warm coffee are provided after your run! Grab a friend and come run with us!
URL:https://renorunningcompany.com/event/saturday-store-run-2/2025-11-15/
LOCATION:Sparks Store Location\, 1276 Disc Dr.\, Sparks\, 89436\, United States
CATEGORIES:Store Events
ATTACH;FMTTYPE=image/jpeg:https://renorunningcompany.com/wp-content/uploads/2023/12/429555729_781274254022337_8123217459946166490_n.jpg
END:VEVENT
BEGIN:VEVENT
DTSTART;TZID=America/Los_Angeles:20251108T080000
DTEND;TZID=America/Los_Angeles:20251108T100000
DTSTAMP:20260424T113551
CREATED:20231121T202044Z
LAST-MODIFIED:20240515T215706Z
UID:10000749-1762588800-1762596000@renorunningcompany.com
SUMMARY:Saturday Store Run
DESCRIPTION:Join us every Saturday snow\, rain or shine! All ability levels are welcome to attend. We offer multiple distances and courses each week.Snacks and warm coffee are provided after your run! Grab a friend and come run with us!
URL:https://renorunningcompany.com/event/saturday-store-run-2/2025-11-08/
LOCATION:Sparks Store Location\, 1276 Disc Dr.\, Sparks\, 89436\, United States
CATEGORIES:Store Events
ATTACH;FMTTYPE=image/jpeg:https://renorunningcompany.com/wp-content/uploads/2023/12/429555729_781274254022337_8123217459946166490_n.jpg
END:VEVENT
BEGIN:VEVENT
DTSTART;TZID=America/Los_Angeles:20251101T080000
DTEND;TZID=America/Los_Angeles:20251101T100000
DTSTAMP:20260424T113551
CREATED:20231121T202044Z
LAST-MODIFIED:20240515T215706Z
UID:10000748-1761984000-1761991200@renorunningcompany.com
SUMMARY:Saturday Store Run
DESCRIPTION:Join us every Saturday snow\, rain or shine! All ability levels are welcome to attend. We offer multiple distances and courses each week.Snacks and warm coffee are provided after your run! Grab a friend and come run with us!
URL:https://renorunningcompany.com/event/saturday-store-run-2/2025-11-01/
LOCATION:Sparks Store Location\, 1276 Disc Dr.\, Sparks\, 89436\, United States
CATEGORIES:Store Events
ATTACH;FMTTYPE=image/jpeg:https://renorunningcompany.com/wp-content/uploads/2023/12/429555729_781274254022337_8123217459946166490_n.jpg
END:VEVENT
BEGIN:VEVENT
DTSTART;TZID=America/Los_Angeles:20251025T080000
DTEND;TZID=America/Los_Angeles:20251025T100000
DTSTAMP:20260424T113551
CREATED:20250905T150243Z
LAST-MODIFIED:20250905T150243Z
UID:10000747-1761379200-1761386400@renorunningcompany.com
SUMMARY:Sparks Store Run - Dirty Wookie Shake out run with Hoka
DESCRIPTION:Come and join our store run and shake out those legs before Dirty Wookie with Hoka demos!\nEnjoy some “upgraded” morning goodies and coffee\nHoka will be raffling some goodies for those that demo shoes! Rocket X3\, Mach X3\, * Let me check to confirm other shoes)\nFun Starts at 8am
URL:https://renorunningcompany.com/event/saturday-store-run-2-5/
LOCATION:Sparks Store Location\, 1276 Disc Dr.\, Sparks\, 89436\, United States
CATEGORIES:Store Events
ATTACH;FMTTYPE=image/jpeg:https://renorunningcompany.com/wp-content/uploads/2023/12/429555729_781274254022337_8123217459946166490_n.jpg
END:VEVENT
BEGIN:VEVENT
DTSTART;TZID=America/Los_Angeles:20251018T080000
DTEND;TZID=America/Los_Angeles:20251018T100000
DTSTAMP:20260424T113551
CREATED:20231121T202044Z
LAST-MODIFIED:20240515T215706Z
UID:10000746-1760774400-1760781600@renorunningcompany.com
SUMMARY:Saturday Store Run
DESCRIPTION:Join us every Saturday snow\, rain or shine! All ability levels are welcome to attend. We offer multiple distances and courses each week.Snacks and warm coffee are provided after your run! Grab a friend and come run with us!
URL:https://renorunningcompany.com/event/saturday-store-run-2/2025-10-18/
LOCATION:Sparks Store Location\, 1276 Disc Dr.\, Sparks\, 89436\, United States
CATEGORIES:Store Events
ATTACH;FMTTYPE=image/jpeg:https://renorunningcompany.com/wp-content/uploads/2023/12/429555729_781274254022337_8123217459946166490_n.jpg
END:VEVENT
BEGIN:VEVENT
DTSTART;TZID=America/Los_Angeles:20251011T080000
DTEND;TZID=America/Los_Angeles:20251011T100000
DTSTAMP:20260424T113551
CREATED:20231121T202044Z
LAST-MODIFIED:20240515T215706Z
UID:10000745-1760169600-1760176800@renorunningcompany.com
SUMMARY:Saturday Store Run
DESCRIPTION:Join us every Saturday snow\, rain or shine! All ability levels are welcome to attend. We offer multiple distances and courses each week.Snacks and warm coffee are provided after your run! Grab a friend and come run with us!
URL:https://renorunningcompany.com/event/saturday-store-run-2/2025-10-11/
LOCATION:Sparks Store Location\, 1276 Disc Dr.\, Sparks\, 89436\, United States
CATEGORIES:Store Events
ATTACH;FMTTYPE=image/jpeg:https://renorunningcompany.com/wp-content/uploads/2023/12/429555729_781274254022337_8123217459946166490_n.jpg
END:VEVENT
END:VCALENDAR