BEGIN:VCALENDAR
VERSION:2.0
PRODID:-//Reno Running Company - ECPv6.15.13//NONSGML v1.0//EN
CALSCALE:GREGORIAN
METHOD:PUBLISH
X-WR-CALNAME:Reno Running Company
X-ORIGINAL-URL:https://renorunningcompany.com
X-WR-CALDESC:Events for Reno Running Company
REFRESH-INTERVAL;VALUE=DURATION:PT1H
X-Robots-Tag:noindex
X-PUBLISHED-TTL:PT1H
BEGIN:VTIMEZONE
TZID:America/Denver
BEGIN:DAYLIGHT
TZOFFSETFROM:-0700
TZOFFSETTO:-0600
TZNAME:MDT
DTSTART:20160313T090000
END:DAYLIGHT
BEGIN:STANDARD
TZOFFSETFROM:-0600
TZOFFSETTO:-0700
TZNAME:MST
DTSTART:20161106T080000
END:STANDARD
BEGIN:DAYLIGHT
TZOFFSETFROM:-0700
TZOFFSETTO:-0600
TZNAME:MDT
DTSTART:20170312T090000
END:DAYLIGHT
BEGIN:STANDARD
TZOFFSETFROM:-0600
TZOFFSETTO:-0700
TZNAME:MST
DTSTART:20171105T080000
END:STANDARD
BEGIN:DAYLIGHT
TZOFFSETFROM:-0700
TZOFFSETTO:-0600
TZNAME:MDT
DTSTART:20180311T090000
END:DAYLIGHT
BEGIN:STANDARD
TZOFFSETFROM:-0600
TZOFFSETTO:-0700
TZNAME:MST
DTSTART:20181104T080000
END:STANDARD
END:VTIMEZONE
BEGIN:VEVENT
DTSTART;TZID=America/Denver:20170930T073000
DTEND;TZID=America/Denver:20170930T110000
DTSTAMP:20260421T115645
CREATED:20160414T185005Z
LAST-MODIFIED:20170927T214222Z
UID:10000368-1506756600-1506769200@renorunningcompany.com
SUMMARY:Washoe County Sheriff's Office K9 9K
DESCRIPTION:The fourth annual race to benefit the Washoe County Sheriff’s Office K9 Unit will take place on September 30th\, 2017. For 2017\, there will be a 9k run/walk that will start and finish at Reno Running Company in the Summit Mall. \nThe race is perfect for all fitness levels and is very family friendly! \nRace packet pickup will take place at Reno Running Company on September 29th\, 2017 from 3pm – 7pm. \nRace Day: Time – 7:30am for kids 1mi fun run and 8am for 5k and 9k \n[cs_button href=”https://thedriven.net/event.race_reg/eid/6859035689″ type=”flat” shape=”square” size=”xxs” color=”accent”]REGISTER[/cs_button]
URL:https://renorunningcompany.com/event/washoe-county-sheriffs-office-k9-9k/
LOCATION:Summit Mall Location Reno Running Company (2)\, 13987 S. Virginia St. Ste 704\, Reno\, NV\, 89511\, United States
CATEGORIES:Races
ATTACH;FMTTYPE=image/jpeg:https://renorunningcompany.com/wp-content/uploads/2016/04/Screen-Shot-2017-09-25-at-3.20.22-PM.jpg
END:VEVENT
END:VCALENDAR