BEGIN:VCALENDAR
VERSION:2.0
PRODID:-//Reno Running Company - ECPv6.15.13//NONSGML v1.0//EN
CALSCALE:GREGORIAN
METHOD:PUBLISH
X-ORIGINAL-URL:https://renorunningcompany.com
X-WR-CALDESC:Events for Reno Running Company
REFRESH-INTERVAL;VALUE=DURATION:PT1H
X-Robots-Tag:noindex
X-PUBLISHED-TTL:PT1H
BEGIN:VTIMEZONE
TZID:America/Los_Angeles
BEGIN:DAYLIGHT
TZOFFSETFROM:-0800
TZOFFSETTO:-0700
TZNAME:PDT
DTSTART:20240310T100000
END:DAYLIGHT
BEGIN:STANDARD
TZOFFSETFROM:-0700
TZOFFSETTO:-0800
TZNAME:PST
DTSTART:20241103T090000
END:STANDARD
BEGIN:DAYLIGHT
TZOFFSETFROM:-0800
TZOFFSETTO:-0700
TZNAME:PDT
DTSTART:20250309T100000
END:DAYLIGHT
BEGIN:STANDARD
TZOFFSETFROM:-0700
TZOFFSETTO:-0800
TZNAME:PST
DTSTART:20251102T090000
END:STANDARD
BEGIN:DAYLIGHT
TZOFFSETFROM:-0800
TZOFFSETTO:-0700
TZNAME:PDT
DTSTART:20260308T100000
END:DAYLIGHT
BEGIN:STANDARD
TZOFFSETFROM:-0700
TZOFFSETTO:-0800
TZNAME:PST
DTSTART:20261101T090000
END:STANDARD
BEGIN:DAYLIGHT
TZOFFSETFROM:-0800
TZOFFSETTO:-0700
TZNAME:PDT
DTSTART:20270314T100000
END:DAYLIGHT
BEGIN:STANDARD
TZOFFSETFROM:-0700
TZOFFSETTO:-0800
TZNAME:PST
DTSTART:20271107T090000
END:STANDARD
END:VTIMEZONE
BEGIN:VEVENT
DTSTART;TZID=America/Los_Angeles:20260412T090000
DTEND;TZID=America/Los_Angeles:20260412T120000
DTSTAMP:20260422T154613
CREATED:20260108T172211Z
LAST-MODIFIED:20260108T172211Z
UID:10002196-1775984400-1775995200@renorunningcompany.com
SUMMARY:9th Annual Ryan Volker and Rose Scarpa Memorial Scholarship 5K Ninja Run
DESCRIPTION:Learn more and sign up for the 9th Annual Ryan Volker and Rose Scarpa Memorial Scholarship 5K Ninja Run on Sunday\, April 12th\, 2026. \nClick Here
URL:https://renorunningcompany.com/event/9th-annual-ryan-volker-and-rose-scarpa-memorial-scholarship-5k-ninja-run/
LOCATION:Idlewild Park Rose Garden\, 75 Cowan Drive\, Reno\, NV\, 89509\, United States
CATEGORIES:Races
ATTACH;FMTTYPE=image/png:https://renorunningcompany.com/wp-content/uploads/2026/01/image001.png
END:VEVENT
BEGIN:VEVENT
DTSTART;VALUE=DATE:20250413
DTEND;VALUE=DATE:20250414
DTSTAMP:20260422T154613
CREATED:20250115T172535Z
LAST-MODIFIED:20250115T172535Z
UID:10001829-1744502400-1744588799@renorunningcompany.com
SUMMARY:8th Annual Ryan Volker and Rose Scarpa Memorial Scholarship 5k Ninja Run
DESCRIPTION:
URL:https://renorunningcompany.com/event/8th-annual-ryan-volker-and-rose-scarpa-memorial-scholarship-5k-ninja-run/
LOCATION:Idlewild Park Rose Garden\, 75 Cowan Drive\, Reno\, NV\, 89509\, United States
CATEGORIES:Races
ATTACH;FMTTYPE=image/jpeg:https://renorunningcompany.com/wp-content/uploads/2025/01/Ninja-Run-5k.jpg
END:VEVENT
END:VCALENDAR