BEGIN:VCALENDAR
VERSION:2.0
PRODID:-//Reno Running Company - ECPv6.15.13//NONSGML v1.0//EN
CALSCALE:GREGORIAN
METHOD:PUBLISH
X-ORIGINAL-URL:https://renorunningcompany.com
X-WR-CALDESC:Events for Reno Running Company
REFRESH-INTERVAL;VALUE=DURATION:PT1H
X-Robots-Tag:noindex
X-PUBLISHED-TTL:PT1H
BEGIN:VTIMEZONE
TZID:America/Los_Angeles
BEGIN:DAYLIGHT
TZOFFSETFROM:-0800
TZOFFSETTO:-0700
TZNAME:PDT
DTSTART:20160313T100000
END:DAYLIGHT
BEGIN:STANDARD
TZOFFSETFROM:-0700
TZOFFSETTO:-0800
TZNAME:PST
DTSTART:20161106T090000
END:STANDARD
BEGIN:DAYLIGHT
TZOFFSETFROM:-0800
TZOFFSETTO:-0700
TZNAME:PDT
DTSTART:20170312T100000
END:DAYLIGHT
BEGIN:STANDARD
TZOFFSETFROM:-0700
TZOFFSETTO:-0800
TZNAME:PST
DTSTART:20171105T090000
END:STANDARD
BEGIN:DAYLIGHT
TZOFFSETFROM:-0800
TZOFFSETTO:-0700
TZNAME:PDT
DTSTART:20180311T100000
END:DAYLIGHT
BEGIN:STANDARD
TZOFFSETFROM:-0700
TZOFFSETTO:-0800
TZNAME:PST
DTSTART:20181104T090000
END:STANDARD
BEGIN:DAYLIGHT
TZOFFSETFROM:-0800
TZOFFSETTO:-0700
TZNAME:PDT
DTSTART:20190310T100000
END:DAYLIGHT
BEGIN:STANDARD
TZOFFSETFROM:-0700
TZOFFSETTO:-0800
TZNAME:PST
DTSTART:20191103T090000
END:STANDARD
BEGIN:DAYLIGHT
TZOFFSETFROM:-0800
TZOFFSETTO:-0700
TZNAME:PDT
DTSTART:20200308T100000
END:DAYLIGHT
BEGIN:STANDARD
TZOFFSETFROM:-0700
TZOFFSETTO:-0800
TZNAME:PST
DTSTART:20201101T090000
END:STANDARD
BEGIN:DAYLIGHT
TZOFFSETFROM:-0800
TZOFFSETTO:-0700
TZNAME:PDT
DTSTART:20210314T100000
END:DAYLIGHT
BEGIN:STANDARD
TZOFFSETFROM:-0700
TZOFFSETTO:-0800
TZNAME:PST
DTSTART:20211107T090000
END:STANDARD
END:VTIMEZONE
BEGIN:VTIMEZONE
TZID:America/Denver
BEGIN:DAYLIGHT
TZOFFSETFROM:-0700
TZOFFSETTO:-0600
TZNAME:MDT
DTSTART:20150308T090000
END:DAYLIGHT
BEGIN:STANDARD
TZOFFSETFROM:-0600
TZOFFSETTO:-0700
TZNAME:MST
DTSTART:20151101T080000
END:STANDARD
BEGIN:DAYLIGHT
TZOFFSETFROM:-0700
TZOFFSETTO:-0600
TZNAME:MDT
DTSTART:20160313T090000
END:DAYLIGHT
BEGIN:STANDARD
TZOFFSETFROM:-0600
TZOFFSETTO:-0700
TZNAME:MST
DTSTART:20161106T080000
END:STANDARD
BEGIN:DAYLIGHT
TZOFFSETFROM:-0700
TZOFFSETTO:-0600
TZNAME:MDT
DTSTART:20170312T090000
END:DAYLIGHT
BEGIN:STANDARD
TZOFFSETFROM:-0600
TZOFFSETTO:-0700
TZNAME:MST
DTSTART:20171105T080000
END:STANDARD
BEGIN:DAYLIGHT
TZOFFSETFROM:-0700
TZOFFSETTO:-0600
TZNAME:MDT
DTSTART:20180311T090000
END:DAYLIGHT
BEGIN:STANDARD
TZOFFSETFROM:-0600
TZOFFSETTO:-0700
TZNAME:MST
DTSTART:20181104T080000
END:STANDARD
END:VTIMEZONE
BEGIN:VEVENT
DTSTART;VALUE=DATE:20200307
DTEND;VALUE=DATE:20200308
DTSTAMP:20260421T225059
CREATED:20191204T213214Z
LAST-MODIFIED:20191204T213323Z
UID:10000519-1583539200-1583625599@renorunningcompany.com
SUMMARY:March Mudness
DESCRIPTION:Trail run on fire roads and single track that consists of some steep hills\, technical footing in places\, and outstanding views of Carson City\, Washoe Valley and the surrounding mountains.
URL:https://renorunningcompany.com/event/wild-winter-roundup-2/
CATEGORIES:Races
ATTACH;FMTTYPE=image/jpeg:https://renorunningcompany.com/wp-content/uploads/2019/12/Screen-Shot-2019-12-04-at-1.32.22-PM.jpg
END:VEVENT
BEGIN:VEVENT
DTSTART;VALUE=DATE:20200208
DTEND;VALUE=DATE:20200209
DTSTAMP:20260421T225059
CREATED:20191204T213451Z
LAST-MODIFIED:20191204T213451Z
UID:10000520-1581120000-1581206399@renorunningcompany.com
SUMMARY:LOVE CAN BE COLD
DESCRIPTION:Single track & two track trail on Prison Hill. Minimal to moderate amount of climbing on the 5Kish\, as much climbing as I can fit in on the 10K+ route! \nCourse distances and routes are subject to change due to weather and trail conditions.
URL:https://renorunningcompany.com/event/love-can-be-cold-3/
CATEGORIES:Races
ATTACH;FMTTYPE=image/jpeg:https://renorunningcompany.com/wp-content/uploads/2019/12/Screen-Shot-2019-12-04-at-1.31.06-PM.jpg
END:VEVENT
BEGIN:VEVENT
DTSTART;VALUE=DATE:20200104
DTEND;VALUE=DATE:20200105
DTSTAMP:20260421T225059
CREATED:20191204T213046Z
LAST-MODIFIED:20191204T213046Z
UID:10000518-1578096000-1578182399@renorunningcompany.com
SUMMARY:Wild Winter Roundup
DESCRIPTION:Predominantly single track trail with some technical rocky sections. This is wild horse country – if you don’t run into some wild horses\, you will definitely run into some wild horse manure! Course routes change every year. As usual with this series\, the 5Kish will be anywhere between 3-4 miles. The 10K+ will get stretched out a little further if conditions are favorable. Check for updates the week before the run.
URL:https://renorunningcompany.com/event/wild-winter-roundup/
CATEGORIES:Races
ATTACH;FMTTYPE=image/jpeg:https://renorunningcompany.com/wp-content/uploads/2019/12/Screen-Shot-2019-12-04-at-1.29.38-PM.jpg
END:VEVENT
BEGIN:VEVENT
DTSTART;VALUE=DATE:20191214
DTEND;VALUE=DATE:20191215
DTSTAMP:20260421T225059
CREATED:20191204T212839Z
LAST-MODIFIED:20191204T212839Z
UID:10000517-1576281600-1576367999@renorunningcompany.com
SUMMARY:Run with Rudolph
DESCRIPTION:Mostly single track with some sections of fire road in Ash Canyon. Gradual ascents and descents. Snow and/or ice is always possible on this route during the winter.
URL:https://renorunningcompany.com/event/run-with-rudolph-2/
CATEGORIES:Races
ATTACH;FMTTYPE=image/jpeg:https://renorunningcompany.com/wp-content/uploads/2019/12/Screen-Shot-2019-12-04-at-1.28.09-PM.jpg
END:VEVENT
BEGIN:VEVENT
DTSTART;VALUE=DATE:20191006
DTEND;VALUE=DATE:20191007
DTSTAMP:20260421T225059
CREATED:20190319T211610Z
LAST-MODIFIED:20190319T211655Z
UID:10000509-1570320000-1570406399@renorunningcompany.com
SUMMARY:LAKE TAHOE FLUME FALL CLASSIC 1/2 MARATHON
DESCRIPTION:
URL:https://renorunningcompany.com/event/lake-tahoe-flume-fall-classic-1-2-marathon/
CATEGORIES:Races
ATTACH;FMTTYPE=image/jpeg:https://renorunningcompany.com/wp-content/uploads/2019/03/Screen-Shot-2019-03-19-at-3.15.18-PM.jpg
END:VEVENT
BEGIN:VEVENT
DTSTART;VALUE=DATE:20190803
DTEND;VALUE=DATE:20190804
DTSTAMP:20260421T225059
CREATED:20190319T203754Z
LAST-MODIFIED:20190319T211422Z
UID:10000436-1564790400-1564876799@renorunningcompany.com
SUMMARY:Capital Climb
DESCRIPTION:
URL:https://renorunningcompany.com/event/capitalclimb/
CATEGORIES:Races
ATTACH;FMTTYPE=image/png:https://renorunningcompany.com/wp-content/uploads/2019/03/TDVS_webBanner2.png
END:VEVENT
BEGIN:VEVENT
DTSTART;VALUE=DATE:20190601
DTEND;VALUE=DATE:20190602
DTSTAMP:20260421T225059
CREATED:20190319T203726Z
LAST-MODIFIED:20190319T203726Z
UID:10000434-1559347200-1559433599@renorunningcompany.com
SUMMARY:Genoa Peak Madathon
DESCRIPTION:
URL:https://renorunningcompany.com/event/genoa-peak-madathon/
CATEGORIES:Races
ATTACH;FMTTYPE=image/png:https://renorunningcompany.com/wp-content/uploads/2019/03/TDVS_webBanner2.png
END:VEVENT
BEGIN:VEVENT
DTSTART;VALUE=DATE:20190406
DTEND;VALUE=DATE:20190407
DTSTAMP:20260421T225059
CREATED:20190319T203520Z
LAST-MODIFIED:20190319T203520Z
UID:10000432-1554508800-1554595199@renorunningcompany.com
SUMMARY:CARSON CANYONS HALF AND 1/2 HALF MARATHONS
DESCRIPTION:
URL:https://renorunningcompany.com/event/carson-canyons-half-and-1-2-half-marathons/
CATEGORIES:Races
ATTACH;FMTTYPE=image/png:https://renorunningcompany.com/wp-content/uploads/2019/03/CCHM_LOGO_2017_web.png
END:VEVENT
BEGIN:VEVENT
DTSTART;TZID=America/Los_Angeles:20180804T060000
DTEND;TZID=America/Los_Angeles:20180804T170000
DTSTAMP:20260421T225059
CREATED:20180308T224454Z
LAST-MODIFIED:20180308T224454Z
UID:10000482-1533362400-1533402000@renorunningcompany.com
SUMMARY:Capital Climb
DESCRIPTION:23 Mi. Run
URL:https://renorunningcompany.com/event/capital-climb/
LOCATION:Brewery Arts Center\, Carson City\, NV\, 89704\, United States
CATEGORIES:Races
END:VEVENT
BEGIN:VEVENT
DTSTART;TZID=America/Los_Angeles:20180630T060000
DTEND;TZID=America/Los_Angeles:20180630T170000
DTSTAMP:20260421T225059
CREATED:20180308T224205Z
LAST-MODIFIED:20180308T224205Z
UID:10000480-1530338400-1530378000@renorunningcompany.com
SUMMARY:Creek2Peak
DESCRIPTION:21 Mi. Run
URL:https://renorunningcompany.com/event/creek2peak/
LOCATION:Davis Creek Park Equestrian Parking Area\, New Washoe City\, NV\, 89704\, United States
CATEGORIES:Races
END:VEVENT
BEGIN:VEVENT
DTSTART;TZID=America/Los_Angeles:20180609T060000
DTEND;TZID=America/Los_Angeles:20180609T170000
DTSTAMP:20260421T225059
CREATED:20180308T223505Z
LAST-MODIFIED:20180308T223518Z
UID:10000478-1528524000-1528563600@renorunningcompany.com
SUMMARY:Genoa Peak Madathon
DESCRIPTION:25 Mi. run\, 8Mi. Run
URL:https://renorunningcompany.com/event/genoa-peak-marathon/
LOCATION:Trimmer Outpost\, 2276 Main St. Genoa\, NV 89411\, Genoa\, NV\, 89411\, United States
CATEGORIES:Races
END:VEVENT
BEGIN:VEVENT
DTSTART;TZID=America/Los_Angeles:20180303T090000
DTEND;TZID=America/Los_Angeles:20180303T090000
DTSTAMP:20260421T225059
CREATED:20171104T014408Z
LAST-MODIFIED:20171104T014408Z
UID:10000443-1520067600-1520067600@renorunningcompany.com
SUMMARY:March Mudness
DESCRIPTION:5Kish\, 10Kish
URL:https://renorunningcompany.com/event/march-mudness-2/
LOCATION:Wash State Park\, 4855 Eastlake Blvd.\, New Washoe City\, NV\, 89704\, United States
CATEGORIES:Races
END:VEVENT
BEGIN:VEVENT
DTSTART;TZID=America/Los_Angeles:20180210T090000
DTEND;TZID=America/Los_Angeles:20180210T090000
DTSTAMP:20260421T225059
CREATED:20171104T012613Z
LAST-MODIFIED:20171104T012613Z
UID:10000442-1518253200-1518253200@renorunningcompany.com
SUMMARY:Love Can Be Cold
DESCRIPTION:5Kish\, 10Kish run
URL:https://renorunningcompany.com/event/love-can-be-cold-2/
LOCATION:Prison Hill\, Koontz\, Carson City\, NV\, 89705\, United States
CATEGORIES:Races
END:VEVENT
BEGIN:VEVENT
DTSTART;TZID=America/Los_Angeles:20180106T090000
DTEND;TZID=America/Los_Angeles:20180106T090000
DTSTAMP:20260421T225059
CREATED:20171104T012321Z
LAST-MODIFIED:20171104T012321Z
UID:10000441-1515229200-1515229200@renorunningcompany.com
SUMMARY:Wild Winter Round Up
DESCRIPTION:5Kish\, 10Kish run
URL:https://renorunningcompany.com/event/wild-winter-round-up-3/
LOCATION:Centennial Park\, Centennial Park Drive\, Carson City\, NV\, 89706\, United States
CATEGORIES:Races
END:VEVENT
BEGIN:VEVENT
DTSTART;TZID=America/Los_Angeles:20171209T090000
DTEND;TZID=America/Los_Angeles:20171209T090000
DTSTAMP:20260421T225059
CREATED:20171104T012054Z
LAST-MODIFIED:20171104T012054Z
UID:10000440-1512810000-1512810000@renorunningcompany.com
SUMMARY:Run With Rudolph
DESCRIPTION:5Kish\, 10Kish run
URL:https://renorunningcompany.com/event/run-with-rudolph/
LOCATION:Western Nevada College\, 2201 College Parkway\, Carson City\, NV\, 89703\, United States
CATEGORIES:Races
END:VEVENT
BEGIN:VEVENT
DTSTART;TZID=America/Los_Angeles:20171104T090000
DTEND;TZID=America/Los_Angeles:20171104T090000
DTSTAMP:20260421T225059
CREATED:20171103T201349Z
LAST-MODIFIED:20171103T201436Z
UID:10000439-1509786000-1509786000@renorunningcompany.com
SUMMARY:Cold Turkey Run
DESCRIPTION:5Kish\, 10Kish run.
URL:https://renorunningcompany.com/event/cold-turkey-run/
LOCATION:Jacks Valley Elementary School (West Lot)\, 701 Jacks Valley Road\, Carson City\, NV\, 89705\, United States
CATEGORIES:Races
END:VEVENT
BEGIN:VEVENT
DTSTART;TZID=America/Los_Angeles:20171007T080000
DTEND;TZID=America/Los_Angeles:20171007T170000
DTSTAMP:20260421T225059
CREATED:20170310T221152Z
LAST-MODIFIED:20170310T221152Z
UID:10000410-1507363200-1507395600@renorunningcompany.com
SUMMARY:LAKE TAHOE FLUME FALL CLASSIC 1/2 MARATHON
DESCRIPTION:
URL:https://renorunningcompany.com/event/lake-tahoe-flume-fall-classic-12-marathon/
CATEGORIES:Races
ATTACH;FMTTYPE=image/jpeg:https://renorunningcompany.com/wp-content/uploads/2017/03/flume2015-overview.jpg
END:VEVENT
BEGIN:VEVENT
DTSTART;TZID=America/Denver:20170304T090000
DTEND;TZID=America/Denver:20170304T090000
DTSTAMP:20260421T225059
CREATED:20161120T035402Z
LAST-MODIFIED:20161120T035402Z
UID:10000394-1488618000-1488618000@renorunningcompany.com
SUMMARY:March Mudness
DESCRIPTION:5Kish\, 10Kish (course subject to change on race day)
URL:https://renorunningcompany.com/event/march-mudness/
LOCATION:Wash State Park\, 4855 Eastlake Blvd.\, New Washoe City\, NV\, 89704\, United States
CATEGORIES:Races
END:VEVENT
BEGIN:VEVENT
DTSTART;TZID=America/Denver:20170211T090000
DTEND;TZID=America/Denver:20170211T090000
DTSTAMP:20260421T225059
CREATED:20161120T034933Z
LAST-MODIFIED:20161120T034933Z
UID:10000393-1486803600-1486803600@renorunningcompany.com
SUMMARY:Love Can Be Cold
DESCRIPTION:5Kish\, 10Kish (course subject to change on race day)
URL:https://renorunningcompany.com/event/love-can-be-cold/
LOCATION:Prison Hill\, Koontz\, Carson City\, NV\, 89705\, United States
CATEGORIES:Races
END:VEVENT
BEGIN:VEVENT
DTSTART;TZID=America/Denver:20170107T090000
DTEND;TZID=America/Denver:20170107T090000
DTSTAMP:20260421T225059
CREATED:20161120T034247Z
LAST-MODIFIED:20161120T034247Z
UID:10000392-1483779600-1483779600@renorunningcompany.com
SUMMARY:Wild Winter Round Up
DESCRIPTION:5Kish\, 10Kish (courses subject to change on race day)
URL:https://renorunningcompany.com/event/wild-winter-round-up-2/
LOCATION:Centennial Park\, Centennial Park Drive\, Carson City\, NV\, 89706\, United States
CATEGORIES:Races
END:VEVENT
BEGIN:VEVENT
DTSTART;TZID=America/Denver:20161210T090000
DTEND;TZID=America/Denver:20161210T090000
DTSTAMP:20260421T225059
CREATED:20161120T030847Z
LAST-MODIFIED:20161120T030847Z
UID:10000391-1481360400-1481360400@renorunningcompany.com
SUMMARY:Running With Rudolph
DESCRIPTION:5Kish\, 10Kish (courses subject to change on race day)
URL:https://renorunningcompany.com/event/running-with-rudolph/
LOCATION:Western Nevada College\, 2201 College Parkway\, Carson City\, NV\, 89703\, United States
CATEGORIES:Races
END:VEVENT
BEGIN:VEVENT
DTSTART;TZID=America/Denver:20160402T083000
DTEND;TZID=America/Denver:20160402T083000
DTSTAMP:20260421T225059
CREATED:20160315T173549Z
LAST-MODIFIED:20160315T173743Z
UID:10000359-1459585800-1459585800@renorunningcompany.com
SUMMARY:Carson Canyons Half Marathon
DESCRIPTION:13.1 Mi. Run
URL:https://renorunningcompany.com/event/carson-canyons-half-marathon/
LOCATION:Unnamed Venue\, Carson City\, NV\, United States
CATEGORIES:Races
END:VEVENT
BEGIN:VEVENT
DTSTART;VALUE=DATE:20160109
DTEND;VALUE=DATE:20160110
DTSTAMP:20260421T225059
CREATED:20151216T194123Z
LAST-MODIFIED:20151216T194328Z
UID:10000330-1452297600-1452383999@renorunningcompany.com
SUMMARY:Wild Winter Round Up
DESCRIPTION:5K\, 10K+ Run (Walkers/ Hikers Welcome too!) \nSaturday January 9\, 2016 \nCarson City\, NV \nhttp://www.ascentruns.com
URL:https://renorunningcompany.com/event/wild-winter-round-up/
CATEGORIES:Races
END:VEVENT
END:VCALENDAR