BEGIN:VCALENDAR
VERSION:2.0
PRODID:-//Reno Running Company - ECPv6.15.13//NONSGML v1.0//EN
CALSCALE:GREGORIAN
METHOD:PUBLISH
X-ORIGINAL-URL:https://renorunningcompany.com
X-WR-CALDESC:Events for Reno Running Company
REFRESH-INTERVAL;VALUE=DURATION:PT1H
X-Robots-Tag:noindex
X-PUBLISHED-TTL:PT1H
BEGIN:VTIMEZONE
TZID:America/Los_Angeles
BEGIN:DAYLIGHT
TZOFFSETFROM:-0800
TZOFFSETTO:-0700
TZNAME:PDT
DTSTART:20220313T100000
END:DAYLIGHT
BEGIN:STANDARD
TZOFFSETFROM:-0700
TZOFFSETTO:-0800
TZNAME:PST
DTSTART:20221106T090000
END:STANDARD
BEGIN:DAYLIGHT
TZOFFSETFROM:-0800
TZOFFSETTO:-0700
TZNAME:PDT
DTSTART:20230312T100000
END:DAYLIGHT
BEGIN:STANDARD
TZOFFSETFROM:-0700
TZOFFSETTO:-0800
TZNAME:PST
DTSTART:20231105T090000
END:STANDARD
BEGIN:DAYLIGHT
TZOFFSETFROM:-0800
TZOFFSETTO:-0700
TZNAME:PDT
DTSTART:20240310T100000
END:DAYLIGHT
BEGIN:STANDARD
TZOFFSETFROM:-0700
TZOFFSETTO:-0800
TZNAME:PST
DTSTART:20241103T090000
END:STANDARD
END:VTIMEZONE
BEGIN:VEVENT
DTSTART;VALUE=DATE:20231104
DTEND;VALUE=DATE:20231105
DTSTAMP:20260421T115655
CREATED:20231030T223107Z
LAST-MODIFIED:20231030T223107Z
UID:10000637-1699056000-1699142399@renorunningcompany.com
SUMMARY:Ascent Run Winter Trail Series: Cold Turkey Run 5k & 10k
DESCRIPTION:
URL:https://renorunningcompany.com/event/ascent-run-winter-trail-series-cold-turkey-run-5k-10k/
CATEGORIES:Races
END:VEVENT
BEGIN:VEVENT
DTSTART;TZID=America/Los_Angeles:20231122T060000
DTEND;TZID=America/Los_Angeles:20231122T080000
DTSTAMP:20260421T115655
CREATED:20231121T202858Z
LAST-MODIFIED:20240515T212116Z
UID:10001169-1700632800-1700640000@renorunningcompany.com
SUMMARY:Wednesday Morning Track Workout
DESCRIPTION:Join us at Hub Coffee Roasters on the River for our favorite run of the week! We will jog to Reno High School to warm up then run a quick 3-4mi track workout before heading back for coffee at the Hub! This run starts at 6am sharp! Don’t be late!
URL:https://renorunningcompany.com/event/wednesday-morning-track-workout/2023-11-22/
LOCATION:Hub Coffee Roasters on Riverside\, 727 Riverside Dr.\, Reno\, NV\, 89503\, United States
CATEGORIES:Store Events
ATTACH;FMTTYPE=image/jpeg:https://renorunningcompany.com/wp-content/uploads/2023/11/436804088_807348124748283_5612528807988305465_n.jpg
END:VEVENT
BEGIN:VEVENT
DTSTART;VALUE=DATE:20231123
DTEND;VALUE=DATE:20231124
DTSTAMP:20260421T115655
CREATED:20231010T153403Z
LAST-MODIFIED:20231010T153433Z
UID:10000636-1700697600-1700783999@renorunningcompany.com
SUMMARY:Wobble Before You Gobble 5K
DESCRIPTION:Kick off your Thanksgiving Morning festivities with a beautiful 5K run/ walk/ wobble in Downtown Reno!
URL:https://renorunningcompany.com/event/wobble-before-you-gobble-5k/
CATEGORIES:Races
END:VEVENT
BEGIN:VEVENT
DTSTART;VALUE=DATE:20231124
DTEND;VALUE=DATE:20231125
DTSTAMP:20260421T115655
CREATED:20231114T001319Z
LAST-MODIFIED:20231114T001319Z
UID:10000640-1700784000-1700870399@renorunningcompany.com
SUMMARY:Black Friday Sale
DESCRIPTION:Score huge deals in-store at our Summit Mall location from 10am-7pm!
URL:https://renorunningcompany.com/event/black-friday-sale/
CATEGORIES:Store Events
END:VEVENT
BEGIN:VEVENT
DTSTART;TZID=America/Los_Angeles:20231125T080000
DTEND;TZID=America/Los_Angeles:20231125T100000
DTSTAMP:20260421T115655
CREATED:20231121T202044Z
LAST-MODIFIED:20240515T215706Z
UID:10000647-1700899200-1700906400@renorunningcompany.com
SUMMARY:Saturday Store Run
DESCRIPTION:Join us every Saturday snow\, rain or shine! All ability levels are welcome to attend. We offer multiple distances and courses each week.Snacks and warm coffee are provided after your run! Grab a friend and come run with us!
URL:https://renorunningcompany.com/event/saturday-store-run-2/2023-11-25/
LOCATION:Sparks Store Location\, 1276 Disc Dr.\, Sparks\, 89436\, United States
CATEGORIES:Store Events
ATTACH;FMTTYPE=image/jpeg:https://renorunningcompany.com/wp-content/uploads/2023/12/429555729_781274254022337_8123217459946166490_n.jpg
END:VEVENT
BEGIN:VEVENT
DTSTART;TZID=America/Los_Angeles:20231126T080000
DTEND;TZID=America/Los_Angeles:20231126T100000
DTSTAMP:20260421T115655
CREATED:20231121T202408Z
LAST-MODIFIED:20240515T213113Z
UID:10000908-1700985600-1700992800@renorunningcompany.com
SUMMARY:Sunday Store Run
DESCRIPTION:Join us every Sunday snow\, rain or shine! All ability levels are welcome to attend. We offer multiple distances and courses each week.Snacks and warm coffee are provided after your run! Grab a friend and come run with us!
URL:https://renorunningcompany.com/event/sunday-store-run/2023-11-26/
LOCATION:Summit Mall Location Reno Running Company\, 13987 S Virginia St.\, Reno\, NV\, 89511\, United States
CATEGORIES:Store Events
ATTACH;FMTTYPE=image/jpeg:https://renorunningcompany.com/wp-content/uploads/2023/11/429504483_781276380688791_1824119658602175695_n.jpg
END:VEVENT
BEGIN:VEVENT
DTSTART;TZID=America/Los_Angeles:20231129T060000
DTEND;TZID=America/Los_Angeles:20231129T080000
DTSTAMP:20260421T115655
CREATED:20231121T202858Z
LAST-MODIFIED:20240515T212116Z
UID:10001170-1701237600-1701244800@renorunningcompany.com
SUMMARY:Wednesday Morning Track Workout
DESCRIPTION:Join us at Hub Coffee Roasters on the River for our favorite run of the week! We will jog to Reno High School to warm up then run a quick 3-4mi track workout before heading back for coffee at the Hub! This run starts at 6am sharp! Don’t be late!
URL:https://renorunningcompany.com/event/wednesday-morning-track-workout/2023-11-29/
LOCATION:Hub Coffee Roasters on Riverside\, 727 Riverside Dr.\, Reno\, NV\, 89503\, United States
CATEGORIES:Store Events
ATTACH;FMTTYPE=image/jpeg:https://renorunningcompany.com/wp-content/uploads/2023/11/436804088_807348124748283_5612528807988305465_n.jpg
END:VEVENT
END:VCALENDAR