BEGIN:VCALENDAR
VERSION:2.0
PRODID:-//Reno Running Company - ECPv6.15.13//NONSGML v1.0//EN
CALSCALE:GREGORIAN
METHOD:PUBLISH
X-WR-CALNAME:Reno Running Company
X-ORIGINAL-URL:https://renorunningcompany.com
X-WR-CALDESC:Events for Reno Running Company
REFRESH-INTERVAL;VALUE=DURATION:PT1H
X-Robots-Tag:noindex
X-PUBLISHED-TTL:PT1H
BEGIN:VTIMEZONE
TZID:America/Los_Angeles
BEGIN:DAYLIGHT
TZOFFSETFROM:-0800
TZOFFSETTO:-0700
TZNAME:PDT
DTSTART:20220313T100000
END:DAYLIGHT
BEGIN:STANDARD
TZOFFSETFROM:-0700
TZOFFSETTO:-0800
TZNAME:PST
DTSTART:20221106T090000
END:STANDARD
BEGIN:DAYLIGHT
TZOFFSETFROM:-0800
TZOFFSETTO:-0700
TZNAME:PDT
DTSTART:20230312T100000
END:DAYLIGHT
BEGIN:STANDARD
TZOFFSETFROM:-0700
TZOFFSETTO:-0800
TZNAME:PST
DTSTART:20231105T090000
END:STANDARD
BEGIN:DAYLIGHT
TZOFFSETFROM:-0800
TZOFFSETTO:-0700
TZNAME:PDT
DTSTART:20240310T100000
END:DAYLIGHT
BEGIN:STANDARD
TZOFFSETFROM:-0700
TZOFFSETTO:-0800
TZNAME:PST
DTSTART:20241103T090000
END:STANDARD
END:VTIMEZONE
BEGIN:VEVENT
DTSTART;VALUE=DATE:20230402
DTEND;VALUE=DATE:20230403
DTSTAMP:20260424T144943
CREATED:20230119T185039Z
LAST-MODIFIED:20230119T185039Z
UID:10000606-1680393600-1680479999@renorunningcompany.com
SUMMARY:Ninja Run 5K
DESCRIPTION:6th Annual Ryan Volker and Rose Scarpa Memorial Scholarship 5k Ninja Run
URL:https://renorunningcompany.com/event/ninja-run-5k-2/
CATEGORIES:Races
ATTACH;FMTTYPE=image/jpeg:https://renorunningcompany.com/wp-content/uploads/2023/01/ninjarun.jpg
END:VEVENT
BEGIN:VEVENT
DTSTART;VALUE=DATE:20230415
DTEND;VALUE=DATE:20230416
DTSTAMP:20260424T144943
CREATED:20230215T231131Z
LAST-MODIFIED:20230215T231131Z
UID:10000607-1681516800-1681603199@renorunningcompany.com
SUMMARY:Reno Tahoe Odyssey Practice Run Leg 30
DESCRIPTION:Practice/Preview Runs are for everyone! You don’t have to be running the RTO\, Capital or Comstock Odyssey. You don’t have to be running these particular legs. It’s a great chance to meet teams who might be looking for runners and vice versa. It’s a great team bonding opportunity. Details will be provided on the RTO FB page and Race178 IG page the week before the run. If you are not on social media\, please email Naomi (kelly@race178.com)for details.
URL:https://renorunningcompany.com/event/reno-tahoe-odyssey-practice-run-leg-30/
CATEGORIES:Store Events
ATTACH;FMTTYPE=image/jpeg:https://renorunningcompany.com/wp-content/uploads/2023/02/Screen-Shot-2023-02-15-at-3.10.59-PM.jpg
END:VEVENT
BEGIN:VEVENT
DTSTART;VALUE=DATE:20230422
DTEND;VALUE=DATE:20230423
DTSTAMP:20260424T144943
CREATED:20230215T231230Z
LAST-MODIFIED:20230215T231230Z
UID:10000608-1682121600-1682207999@renorunningcompany.com
SUMMARY:Reno Tahoe Odyssey Practice Run Leg 33
DESCRIPTION:Practice/Preview Runs are for everyone! You don’t have to be running the RTO\, Capital or Comstock Odyssey. You don’t have to be running these particular legs. It’s a great chance to meet teams who might be looking for runners and vice versa. It’s a great team bonding opportunity. Details will be provided on the RTO FB page and Race178 IG page the week before the run. If you are not on social media\, please email Naomi (kelly@race178.com)for details.
URL:https://renorunningcompany.com/event/reno-tahoe-odyssey-practice-run-leg-30-2/
CATEGORIES:Store Events
ATTACH;FMTTYPE=image/jpeg:https://renorunningcompany.com/wp-content/uploads/2023/02/Screen-Shot-2023-02-15-at-3.10.59-PM.jpg
END:VEVENT
END:VCALENDAR