BEGIN:VCALENDAR
VERSION:2.0
PRODID:-//Reno Running Company - ECPv6.15.13//NONSGML v1.0//EN
CALSCALE:GREGORIAN
METHOD:PUBLISH
X-ORIGINAL-URL:https://renorunningcompany.com
X-WR-CALDESC:Events for Reno Running Company
REFRESH-INTERVAL;VALUE=DURATION:PT1H
X-Robots-Tag:noindex
X-PUBLISHED-TTL:PT1H
BEGIN:VTIMEZONE
TZID:America/Los_Angeles
BEGIN:DAYLIGHT
TZOFFSETFROM:-0800
TZOFFSETTO:-0700
TZNAME:PDT
DTSTART:20230312T100000
END:DAYLIGHT
BEGIN:STANDARD
TZOFFSETFROM:-0700
TZOFFSETTO:-0800
TZNAME:PST
DTSTART:20231105T090000
END:STANDARD
BEGIN:DAYLIGHT
TZOFFSETFROM:-0800
TZOFFSETTO:-0700
TZNAME:PDT
DTSTART:20240310T100000
END:DAYLIGHT
BEGIN:STANDARD
TZOFFSETFROM:-0700
TZOFFSETTO:-0800
TZNAME:PST
DTSTART:20241103T090000
END:STANDARD
BEGIN:DAYLIGHT
TZOFFSETFROM:-0800
TZOFFSETTO:-0700
TZNAME:PDT
DTSTART:20250309T100000
END:DAYLIGHT
BEGIN:STANDARD
TZOFFSETFROM:-0700
TZOFFSETTO:-0800
TZNAME:PST
DTSTART:20251102T090000
END:STANDARD
END:VTIMEZONE
BEGIN:VTIMEZONE
TZID:America/Los_Angeles
BEGIN:DAYLIGHT
TZOFFSETFROM:-0800
TZOFFSETTO:-0700
TZNAME:PDT
DTSTART:20230312T100000
END:DAYLIGHT
BEGIN:STANDARD
TZOFFSETFROM:-0700
TZOFFSETTO:-0800
TZNAME:PST
DTSTART:20231105T090000
END:STANDARD
BEGIN:DAYLIGHT
TZOFFSETFROM:-0800
TZOFFSETTO:-0700
TZNAME:PDT
DTSTART:20240310T100000
END:DAYLIGHT
BEGIN:STANDARD
TZOFFSETFROM:-0700
TZOFFSETTO:-0800
TZNAME:PST
DTSTART:20241103T090000
END:STANDARD
BEGIN:DAYLIGHT
TZOFFSETFROM:-0800
TZOFFSETTO:-0700
TZNAME:PDT
DTSTART:20250309T100000
END:DAYLIGHT
BEGIN:STANDARD
TZOFFSETFROM:-0700
TZOFFSETTO:-0800
TZNAME:PST
DTSTART:20251102T090000
END:STANDARD
END:VTIMEZONE
BEGIN:VEVENT
DTSTART;TZID=America/Los_Angeles:20241123T080000
DTEND;TZID=America/Los_Angeles:20241123T100000
DTSTAMP:20260421T052259
CREATED:20231121T202044Z
LAST-MODIFIED:20240515T215706Z
UID:10000699-1732348800-1732356000@renorunningcompany.com
SUMMARY:Saturday Store Run
DESCRIPTION:Join us every Saturday snow\, rain or shine! All ability levels are welcome to attend. We offer multiple distances and courses each week.Snacks and warm coffee are provided after your run! Grab a friend and come run with us!
URL:https://renorunningcompany.com/event/saturday-store-run-2/2024-11-23/
LOCATION:Sparks Store Location\, 1276 Disc Dr.\, Sparks\, 89436\, United States
CATEGORIES:Store Events
ATTACH;FMTTYPE=image/jpeg:https://renorunningcompany.com/wp-content/uploads/2023/12/429555729_781274254022337_8123217459946166490_n.jpg
END:VEVENT
BEGIN:VEVENT
DTSTART;TZID=America/Los_Angeles:20241120T060000
DTEND;TZID=America/Los_Angeles:20241120T080000
DTSTAMP:20260421T052259
CREATED:20231121T202858Z
LAST-MODIFIED:20240515T212116Z
UID:10001221-1732082400-1732089600@renorunningcompany.com
SUMMARY:Wednesday Morning Track Workout
DESCRIPTION:Join us at Hub Coffee Roasters on the River for our favorite run of the week! We will jog to Reno High School to warm up then run a quick 3-4mi track workout before heading back for coffee at the Hub! This run starts at 6am sharp! Don’t be late!
URL:https://renorunningcompany.com/event/wednesday-morning-track-workout/2024-11-20/
LOCATION:Hub Coffee Roasters on Riverside\, 727 Riverside Dr.\, Reno\, NV\, 89503\, United States
CATEGORIES:Store Events
ATTACH;FMTTYPE=image/jpeg:https://renorunningcompany.com/wp-content/uploads/2023/11/436804088_807348124748283_5612528807988305465_n.jpg
END:VEVENT
BEGIN:VEVENT
DTSTART;TZID=America/Los_Angeles:20241117T080000
DTEND;TZID=America/Los_Angeles:20241117T100000
DTSTAMP:20260421T052259
CREATED:20231121T202408Z
LAST-MODIFIED:20240515T213113Z
UID:10000959-1731830400-1731837600@renorunningcompany.com
SUMMARY:Sunday Store Run
DESCRIPTION:Join us every Sunday snow\, rain or shine! All ability levels are welcome to attend. We offer multiple distances and courses each week.Snacks and warm coffee are provided after your run! Grab a friend and come run with us!
URL:https://renorunningcompany.com/event/sunday-store-run/2024-11-17/
LOCATION:Summit Mall Location Reno Running Company\, 13987 S Virginia St.\, Reno\, NV\, 89511\, United States
CATEGORIES:Store Events
ATTACH;FMTTYPE=image/jpeg:https://renorunningcompany.com/wp-content/uploads/2023/11/429504483_781276380688791_1824119658602175695_n.jpg
END:VEVENT
BEGIN:VEVENT
DTSTART;TZID=America/Los_Angeles:20241116T080000
DTEND;TZID=America/Los_Angeles:20241116T100000
DTSTAMP:20260421T052259
CREATED:20231121T202044Z
LAST-MODIFIED:20240515T215706Z
UID:10000698-1731744000-1731751200@renorunningcompany.com
SUMMARY:Saturday Store Run
DESCRIPTION:Join us every Saturday snow\, rain or shine! All ability levels are welcome to attend. We offer multiple distances and courses each week.Snacks and warm coffee are provided after your run! Grab a friend and come run with us!
URL:https://renorunningcompany.com/event/saturday-store-run-2/2024-11-16/
LOCATION:Sparks Store Location\, 1276 Disc Dr.\, Sparks\, 89436\, United States
CATEGORIES:Store Events
ATTACH;FMTTYPE=image/jpeg:https://renorunningcompany.com/wp-content/uploads/2023/12/429555729_781274254022337_8123217459946166490_n.jpg
END:VEVENT
BEGIN:VEVENT
DTSTART;TZID=America/Los_Angeles:20241113T060000
DTEND;TZID=America/Los_Angeles:20241113T080000
DTSTAMP:20260421T052259
CREATED:20231121T202858Z
LAST-MODIFIED:20240515T212116Z
UID:10001220-1731477600-1731484800@renorunningcompany.com
SUMMARY:Wednesday Morning Track Workout
DESCRIPTION:Join us at Hub Coffee Roasters on the River for our favorite run of the week! We will jog to Reno High School to warm up then run a quick 3-4mi track workout before heading back for coffee at the Hub! This run starts at 6am sharp! Don’t be late!
URL:https://renorunningcompany.com/event/wednesday-morning-track-workout/2024-11-13/
LOCATION:Hub Coffee Roasters on Riverside\, 727 Riverside Dr.\, Reno\, NV\, 89503\, United States
CATEGORIES:Store Events
ATTACH;FMTTYPE=image/jpeg:https://renorunningcompany.com/wp-content/uploads/2023/11/436804088_807348124748283_5612528807988305465_n.jpg
END:VEVENT
BEGIN:VEVENT
DTSTART;TZID=America/Los_Angeles:20241110T080000
DTEND;TZID=America/Los_Angeles:20241110T100000
DTSTAMP:20260421T052259
CREATED:20231121T202408Z
LAST-MODIFIED:20240515T213113Z
UID:10000958-1731225600-1731232800@renorunningcompany.com
SUMMARY:Sunday Store Run
DESCRIPTION:Join us every Sunday snow\, rain or shine! All ability levels are welcome to attend. We offer multiple distances and courses each week.Snacks and warm coffee are provided after your run! Grab a friend and come run with us!
URL:https://renorunningcompany.com/event/sunday-store-run/2024-11-10/
LOCATION:Summit Mall Location Reno Running Company\, 13987 S Virginia St.\, Reno\, NV\, 89511\, United States
CATEGORIES:Store Events
ATTACH;FMTTYPE=image/jpeg:https://renorunningcompany.com/wp-content/uploads/2023/11/429504483_781276380688791_1824119658602175695_n.jpg
END:VEVENT
BEGIN:VEVENT
DTSTART;TZID=America/Los_Angeles:20241109T080000
DTEND;TZID=America/Los_Angeles:20241109T100000
DTSTAMP:20260421T052259
CREATED:20231121T202044Z
LAST-MODIFIED:20240515T215706Z
UID:10000697-1731139200-1731146400@renorunningcompany.com
SUMMARY:Saturday Store Run
DESCRIPTION:Join us every Saturday snow\, rain or shine! All ability levels are welcome to attend. We offer multiple distances and courses each week.Snacks and warm coffee are provided after your run! Grab a friend and come run with us!
URL:https://renorunningcompany.com/event/saturday-store-run-2/2024-11-09/
LOCATION:Sparks Store Location\, 1276 Disc Dr.\, Sparks\, 89436\, United States
CATEGORIES:Store Events
ATTACH;FMTTYPE=image/jpeg:https://renorunningcompany.com/wp-content/uploads/2023/12/429555729_781274254022337_8123217459946166490_n.jpg
END:VEVENT
BEGIN:VEVENT
DTSTART;TZID=America/Los_Angeles:20241106T060000
DTEND;TZID=America/Los_Angeles:20241106T080000
DTSTAMP:20260421T052259
CREATED:20231121T202858Z
LAST-MODIFIED:20240515T212116Z
UID:10001219-1730872800-1730880000@renorunningcompany.com
SUMMARY:Wednesday Morning Track Workout
DESCRIPTION:Join us at Hub Coffee Roasters on the River for our favorite run of the week! We will jog to Reno High School to warm up then run a quick 3-4mi track workout before heading back for coffee at the Hub! This run starts at 6am sharp! Don’t be late!
URL:https://renorunningcompany.com/event/wednesday-morning-track-workout/2024-11-06/
LOCATION:Hub Coffee Roasters on Riverside\, 727 Riverside Dr.\, Reno\, NV\, 89503\, United States
CATEGORIES:Store Events
ATTACH;FMTTYPE=image/jpeg:https://renorunningcompany.com/wp-content/uploads/2023/11/436804088_807348124748283_5612528807988305465_n.jpg
END:VEVENT
BEGIN:VEVENT
DTSTART;TZID=America/Los_Angeles:20241103T080000
DTEND;TZID=America/Los_Angeles:20241103T100000
DTSTAMP:20260421T052259
CREATED:20231121T202408Z
LAST-MODIFIED:20240515T213113Z
UID:10000957-1730620800-1730628000@renorunningcompany.com
SUMMARY:Sunday Store Run
DESCRIPTION:Join us every Sunday snow\, rain or shine! All ability levels are welcome to attend. We offer multiple distances and courses each week.Snacks and warm coffee are provided after your run! Grab a friend and come run with us!
URL:https://renorunningcompany.com/event/sunday-store-run/2024-11-03/
LOCATION:Summit Mall Location Reno Running Company\, 13987 S Virginia St.\, Reno\, NV\, 89511\, United States
CATEGORIES:Store Events
ATTACH;FMTTYPE=image/jpeg:https://renorunningcompany.com/wp-content/uploads/2023/11/429504483_781276380688791_1824119658602175695_n.jpg
END:VEVENT
BEGIN:VEVENT
DTSTART;TZID=America/Los_Angeles:20241102T080000
DTEND;TZID=America/Los_Angeles:20241102T100000
DTSTAMP:20260421T052259
CREATED:20231121T202044Z
LAST-MODIFIED:20240515T215706Z
UID:10000696-1730534400-1730541600@renorunningcompany.com
SUMMARY:Saturday Store Run
DESCRIPTION:Join us every Saturday snow\, rain or shine! All ability levels are welcome to attend. We offer multiple distances and courses each week.Snacks and warm coffee are provided after your run! Grab a friend and come run with us!
URL:https://renorunningcompany.com/event/saturday-store-run-2/2024-11-02/
LOCATION:Sparks Store Location\, 1276 Disc Dr.\, Sparks\, 89436\, United States
CATEGORIES:Store Events
ATTACH;FMTTYPE=image/jpeg:https://renorunningcompany.com/wp-content/uploads/2023/12/429555729_781274254022337_8123217459946166490_n.jpg
END:VEVENT
BEGIN:VEVENT
DTSTART;TZID=America/Los_Angeles:20241030T060000
DTEND;TZID=America/Los_Angeles:20241030T080000
DTSTAMP:20260421T052259
CREATED:20231121T202858Z
LAST-MODIFIED:20240515T212116Z
UID:10001218-1730268000-1730275200@renorunningcompany.com
SUMMARY:Wednesday Morning Track Workout
DESCRIPTION:Join us at Hub Coffee Roasters on the River for our favorite run of the week! We will jog to Reno High School to warm up then run a quick 3-4mi track workout before heading back for coffee at the Hub! This run starts at 6am sharp! Don’t be late!
URL:https://renorunningcompany.com/event/wednesday-morning-track-workout/2024-10-30/
LOCATION:Hub Coffee Roasters on Riverside\, 727 Riverside Dr.\, Reno\, NV\, 89503\, United States
CATEGORIES:Store Events
ATTACH;FMTTYPE=image/jpeg:https://renorunningcompany.com/wp-content/uploads/2023/11/436804088_807348124748283_5612528807988305465_n.jpg
END:VEVENT
BEGIN:VEVENT
DTSTART;TZID=America/Los_Angeles:20241027T080000
DTEND;TZID=America/Los_Angeles:20241027T100000
DTSTAMP:20260421T052259
CREATED:20231121T202408Z
LAST-MODIFIED:20240515T213113Z
UID:10000956-1730016000-1730023200@renorunningcompany.com
SUMMARY:Sunday Store Run
DESCRIPTION:Join us every Sunday snow\, rain or shine! All ability levels are welcome to attend. We offer multiple distances and courses each week.Snacks and warm coffee are provided after your run! Grab a friend and come run with us!
URL:https://renorunningcompany.com/event/sunday-store-run/2024-10-27/
LOCATION:Summit Mall Location Reno Running Company\, 13987 S Virginia St.\, Reno\, NV\, 89511\, United States
CATEGORIES:Store Events
ATTACH;FMTTYPE=image/jpeg:https://renorunningcompany.com/wp-content/uploads/2023/11/429504483_781276380688791_1824119658602175695_n.jpg
END:VEVENT
BEGIN:VEVENT
DTSTART;TZID=America/Los_Angeles:20241026T080000
DTEND;TZID=America/Los_Angeles:20241026T100000
DTSTAMP:20260421T052259
CREATED:20231121T202044Z
LAST-MODIFIED:20240515T215706Z
UID:10000695-1729929600-1729936800@renorunningcompany.com
SUMMARY:Saturday Store Run
DESCRIPTION:Join us every Saturday snow\, rain or shine! All ability levels are welcome to attend. We offer multiple distances and courses each week.Snacks and warm coffee are provided after your run! Grab a friend and come run with us!
URL:https://renorunningcompany.com/event/saturday-store-run-2/2024-10-26/
LOCATION:Sparks Store Location\, 1276 Disc Dr.\, Sparks\, 89436\, United States
CATEGORIES:Store Events
ATTACH;FMTTYPE=image/jpeg:https://renorunningcompany.com/wp-content/uploads/2023/12/429555729_781274254022337_8123217459946166490_n.jpg
END:VEVENT
BEGIN:VEVENT
DTSTART;TZID=America/Los_Angeles:20241023T060000
DTEND;TZID=America/Los_Angeles:20241023T080000
DTSTAMP:20260421T052259
CREATED:20231121T202858Z
LAST-MODIFIED:20240515T212116Z
UID:10001217-1729663200-1729670400@renorunningcompany.com
SUMMARY:Wednesday Morning Track Workout
DESCRIPTION:Join us at Hub Coffee Roasters on the River for our favorite run of the week! We will jog to Reno High School to warm up then run a quick 3-4mi track workout before heading back for coffee at the Hub! This run starts at 6am sharp! Don’t be late!
URL:https://renorunningcompany.com/event/wednesday-morning-track-workout/2024-10-23/
LOCATION:Hub Coffee Roasters on Riverside\, 727 Riverside Dr.\, Reno\, NV\, 89503\, United States
CATEGORIES:Store Events
ATTACH;FMTTYPE=image/jpeg:https://renorunningcompany.com/wp-content/uploads/2023/11/436804088_807348124748283_5612528807988305465_n.jpg
END:VEVENT
BEGIN:VEVENT
DTSTART;TZID=America/Los_Angeles:20241020T080000
DTEND;TZID=America/Los_Angeles:20241020T100000
DTSTAMP:20260421T052259
CREATED:20231121T202408Z
LAST-MODIFIED:20240515T213113Z
UID:10000955-1729411200-1729418400@renorunningcompany.com
SUMMARY:Sunday Store Run
DESCRIPTION:Join us every Sunday snow\, rain or shine! All ability levels are welcome to attend. We offer multiple distances and courses each week.Snacks and warm coffee are provided after your run! Grab a friend and come run with us!
URL:https://renorunningcompany.com/event/sunday-store-run/2024-10-20/
LOCATION:Summit Mall Location Reno Running Company\, 13987 S Virginia St.\, Reno\, NV\, 89511\, United States
CATEGORIES:Store Events
ATTACH;FMTTYPE=image/jpeg:https://renorunningcompany.com/wp-content/uploads/2023/11/429504483_781276380688791_1824119658602175695_n.jpg
END:VEVENT
BEGIN:VEVENT
DTSTART;TZID=America/Los_Angeles:20241019T080000
DTEND;TZID=America/Los_Angeles:20241019T100000
DTSTAMP:20260421T052259
CREATED:20231121T202044Z
LAST-MODIFIED:20240515T215706Z
UID:10000694-1729324800-1729332000@renorunningcompany.com
SUMMARY:Saturday Store Run
DESCRIPTION:Join us every Saturday snow\, rain or shine! All ability levels are welcome to attend. We offer multiple distances and courses each week.Snacks and warm coffee are provided after your run! Grab a friend and come run with us!
URL:https://renorunningcompany.com/event/saturday-store-run-2/2024-10-19/
LOCATION:Sparks Store Location\, 1276 Disc Dr.\, Sparks\, 89436\, United States
CATEGORIES:Store Events
ATTACH;FMTTYPE=image/jpeg:https://renorunningcompany.com/wp-content/uploads/2023/12/429555729_781274254022337_8123217459946166490_n.jpg
END:VEVENT
BEGIN:VEVENT
DTSTART;TZID=America/Los_Angeles:20241016T060000
DTEND;TZID=America/Los_Angeles:20241016T080000
DTSTAMP:20260421T052259
CREATED:20231121T202858Z
LAST-MODIFIED:20240515T212116Z
UID:10001216-1729058400-1729065600@renorunningcompany.com
SUMMARY:Wednesday Morning Track Workout
DESCRIPTION:Join us at Hub Coffee Roasters on the River for our favorite run of the week! We will jog to Reno High School to warm up then run a quick 3-4mi track workout before heading back for coffee at the Hub! This run starts at 6am sharp! Don’t be late!
URL:https://renorunningcompany.com/event/wednesday-morning-track-workout/2024-10-16/
LOCATION:Hub Coffee Roasters on Riverside\, 727 Riverside Dr.\, Reno\, NV\, 89503\, United States
CATEGORIES:Store Events
ATTACH;FMTTYPE=image/jpeg:https://renorunningcompany.com/wp-content/uploads/2023/11/436804088_807348124748283_5612528807988305465_n.jpg
END:VEVENT
BEGIN:VEVENT
DTSTART;TZID=America/Los_Angeles:20241013T080000
DTEND;TZID=America/Los_Angeles:20241013T100000
DTSTAMP:20260421T052259
CREATED:20231121T202408Z
LAST-MODIFIED:20240515T213113Z
UID:10000954-1728806400-1728813600@renorunningcompany.com
SUMMARY:Sunday Store Run
DESCRIPTION:Join us every Sunday snow\, rain or shine! All ability levels are welcome to attend. We offer multiple distances and courses each week.Snacks and warm coffee are provided after your run! Grab a friend and come run with us!
URL:https://renorunningcompany.com/event/sunday-store-run/2024-10-13/
LOCATION:Summit Mall Location Reno Running Company\, 13987 S Virginia St.\, Reno\, NV\, 89511\, United States
CATEGORIES:Store Events
ATTACH;FMTTYPE=image/jpeg:https://renorunningcompany.com/wp-content/uploads/2023/11/429504483_781276380688791_1824119658602175695_n.jpg
END:VEVENT
BEGIN:VEVENT
DTSTART;TZID=America/Los_Angeles:20241012T080000
DTEND;TZID=America/Los_Angeles:20241012T100000
DTSTAMP:20260421T052259
CREATED:20231121T202044Z
LAST-MODIFIED:20240515T215706Z
UID:10000693-1728720000-1728727200@renorunningcompany.com
SUMMARY:Saturday Store Run
DESCRIPTION:Join us every Saturday snow\, rain or shine! All ability levels are welcome to attend. We offer multiple distances and courses each week.Snacks and warm coffee are provided after your run! Grab a friend and come run with us!
URL:https://renorunningcompany.com/event/saturday-store-run-2/2024-10-12/
LOCATION:Sparks Store Location\, 1276 Disc Dr.\, Sparks\, 89436\, United States
CATEGORIES:Store Events
ATTACH;FMTTYPE=image/jpeg:https://renorunningcompany.com/wp-content/uploads/2023/12/429555729_781274254022337_8123217459946166490_n.jpg
END:VEVENT
BEGIN:VEVENT
DTSTART;TZID=America/Los_Angeles:20241009T060000
DTEND;TZID=America/Los_Angeles:20241009T080000
DTSTAMP:20260421T052259
CREATED:20231121T202858Z
LAST-MODIFIED:20240515T212116Z
UID:10001215-1728453600-1728460800@renorunningcompany.com
SUMMARY:Wednesday Morning Track Workout
DESCRIPTION:Join us at Hub Coffee Roasters on the River for our favorite run of the week! We will jog to Reno High School to warm up then run a quick 3-4mi track workout before heading back for coffee at the Hub! This run starts at 6am sharp! Don’t be late!
URL:https://renorunningcompany.com/event/wednesday-morning-track-workout/2024-10-09/
LOCATION:Hub Coffee Roasters on Riverside\, 727 Riverside Dr.\, Reno\, NV\, 89503\, United States
CATEGORIES:Store Events
ATTACH;FMTTYPE=image/jpeg:https://renorunningcompany.com/wp-content/uploads/2023/11/436804088_807348124748283_5612528807988305465_n.jpg
END:VEVENT
BEGIN:VEVENT
DTSTART;TZID=America/Los_Angeles:20241006T080000
DTEND;TZID=America/Los_Angeles:20241006T100000
DTSTAMP:20260421T052259
CREATED:20231121T202408Z
LAST-MODIFIED:20240515T213113Z
UID:10000953-1728201600-1728208800@renorunningcompany.com
SUMMARY:Sunday Store Run
DESCRIPTION:Join us every Sunday snow\, rain or shine! All ability levels are welcome to attend. We offer multiple distances and courses each week.Snacks and warm coffee are provided after your run! Grab a friend and come run with us!
URL:https://renorunningcompany.com/event/sunday-store-run/2024-10-06/
LOCATION:Summit Mall Location Reno Running Company\, 13987 S Virginia St.\, Reno\, NV\, 89511\, United States
CATEGORIES:Store Events
ATTACH;FMTTYPE=image/jpeg:https://renorunningcompany.com/wp-content/uploads/2023/11/429504483_781276380688791_1824119658602175695_n.jpg
END:VEVENT
BEGIN:VEVENT
DTSTART;TZID=America/Los_Angeles:20241005T080000
DTEND;TZID=America/Los_Angeles:20241005T100000
DTSTAMP:20260421T052259
CREATED:20231121T202044Z
LAST-MODIFIED:20240515T215706Z
UID:10000692-1728115200-1728122400@renorunningcompany.com
SUMMARY:Saturday Store Run
DESCRIPTION:Join us every Saturday snow\, rain or shine! All ability levels are welcome to attend. We offer multiple distances and courses each week.Snacks and warm coffee are provided after your run! Grab a friend and come run with us!
URL:https://renorunningcompany.com/event/saturday-store-run-2/2024-10-05/
LOCATION:Sparks Store Location\, 1276 Disc Dr.\, Sparks\, 89436\, United States
CATEGORIES:Store Events
ATTACH;FMTTYPE=image/jpeg:https://renorunningcompany.com/wp-content/uploads/2023/12/429555729_781274254022337_8123217459946166490_n.jpg
END:VEVENT
BEGIN:VEVENT
DTSTART;TZID=America/Los_Angeles:20241004T100000
DTEND;TZID=America/Los_Angeles:20241013T170000
DTSTAMP:20260421T052259
CREATED:20241003T211350Z
LAST-MODIFIED:20241003T213507Z
UID:10001785-1728036000-1728838800@renorunningcompany.com
SUMMARY:2nd Annual Anniversary Sale
DESCRIPTION:Reno Running Company is turning 13! \nReno Running Company is celebrating 13 amazing years of helping you stay active and healthy! To commemorate this milestone\, we’re bringing back our 2nd Annual Anniversary Sale! \nMark your calendars: October 4-6 \nShop HUGE DISCOUNTS on shoes and accessories! Whether you’re prepping for fall runs or looking ahead to spring\, this is your chance to get top-tier brands at unbeatable prices. Don’t miss out on all the gear you need to crush your fitness goals! \nBring your friends\, family\, and running partners to shop the sale at any of our three locations! Please note that only our Summit location is open on October 6th. \nSee you there!!
URL:https://renorunningcompany.com/event/2nd-annual-anniversary-sale/
LOCATION:NV
CATEGORIES:Store Events
ATTACH;FMTTYPE=image/jpeg:https://renorunningcompany.com/wp-content/uploads/2024/10/1727205421868.jpeg
END:VEVENT
BEGIN:VEVENT
DTSTART;TZID=America/Los_Angeles:20241002T060000
DTEND;TZID=America/Los_Angeles:20241002T080000
DTSTAMP:20260421T052259
CREATED:20231121T202858Z
LAST-MODIFIED:20240515T212116Z
UID:10001214-1727848800-1727856000@renorunningcompany.com
SUMMARY:Wednesday Morning Track Workout
DESCRIPTION:Join us at Hub Coffee Roasters on the River for our favorite run of the week! We will jog to Reno High School to warm up then run a quick 3-4mi track workout before heading back for coffee at the Hub! This run starts at 6am sharp! Don’t be late!
URL:https://renorunningcompany.com/event/wednesday-morning-track-workout/2024-10-02/
LOCATION:Hub Coffee Roasters on Riverside\, 727 Riverside Dr.\, Reno\, NV\, 89503\, United States
CATEGORIES:Store Events
ATTACH;FMTTYPE=image/jpeg:https://renorunningcompany.com/wp-content/uploads/2023/11/436804088_807348124748283_5612528807988305465_n.jpg
END:VEVENT
BEGIN:VEVENT
DTSTART;TZID=America/Los_Angeles:20240929T080000
DTEND;TZID=America/Los_Angeles:20240929T100000
DTSTAMP:20260421T052259
CREATED:20231121T202408Z
LAST-MODIFIED:20240515T213113Z
UID:10000952-1727596800-1727604000@renorunningcompany.com
SUMMARY:Sunday Store Run
DESCRIPTION:Join us every Sunday snow\, rain or shine! All ability levels are welcome to attend. We offer multiple distances and courses each week.Snacks and warm coffee are provided after your run! Grab a friend and come run with us!
URL:https://renorunningcompany.com/event/sunday-store-run/2024-09-29/
LOCATION:Summit Mall Location Reno Running Company\, 13987 S Virginia St.\, Reno\, NV\, 89511\, United States
CATEGORIES:Store Events
ATTACH;FMTTYPE=image/jpeg:https://renorunningcompany.com/wp-content/uploads/2023/11/429504483_781276380688791_1824119658602175695_n.jpg
END:VEVENT
BEGIN:VEVENT
DTSTART;TZID=America/Los_Angeles:20240928T080000
DTEND;TZID=America/Los_Angeles:20240928T100000
DTSTAMP:20260421T052259
CREATED:20231121T202044Z
LAST-MODIFIED:20240515T215706Z
UID:10000691-1727510400-1727517600@renorunningcompany.com
SUMMARY:Saturday Store Run
DESCRIPTION:Join us every Saturday snow\, rain or shine! All ability levels are welcome to attend. We offer multiple distances and courses each week.Snacks and warm coffee are provided after your run! Grab a friend and come run with us!
URL:https://renorunningcompany.com/event/saturday-store-run-2/2024-09-28/
LOCATION:Sparks Store Location\, 1276 Disc Dr.\, Sparks\, 89436\, United States
CATEGORIES:Store Events
ATTACH;FMTTYPE=image/jpeg:https://renorunningcompany.com/wp-content/uploads/2023/12/429555729_781274254022337_8123217459946166490_n.jpg
END:VEVENT
BEGIN:VEVENT
DTSTART;TZID=America/Los_Angeles:20240925T060000
DTEND;TZID=America/Los_Angeles:20240925T080000
DTSTAMP:20260421T052259
CREATED:20231121T202858Z
LAST-MODIFIED:20240515T212116Z
UID:10001213-1727244000-1727251200@renorunningcompany.com
SUMMARY:Wednesday Morning Track Workout
DESCRIPTION:Join us at Hub Coffee Roasters on the River for our favorite run of the week! We will jog to Reno High School to warm up then run a quick 3-4mi track workout before heading back for coffee at the Hub! This run starts at 6am sharp! Don’t be late!
URL:https://renorunningcompany.com/event/wednesday-morning-track-workout/2024-09-25/
LOCATION:Hub Coffee Roasters on Riverside\, 727 Riverside Dr.\, Reno\, NV\, 89503\, United States
CATEGORIES:Store Events
ATTACH;FMTTYPE=image/jpeg:https://renorunningcompany.com/wp-content/uploads/2023/11/436804088_807348124748283_5612528807988305465_n.jpg
END:VEVENT
BEGIN:VEVENT
DTSTART;TZID=America/Los_Angeles:20240922T080000
DTEND;TZID=America/Los_Angeles:20240922T100000
DTSTAMP:20260421T052259
CREATED:20231121T202408Z
LAST-MODIFIED:20240515T213113Z
UID:10000951-1726992000-1726999200@renorunningcompany.com
SUMMARY:Sunday Store Run
DESCRIPTION:Join us every Sunday snow\, rain or shine! All ability levels are welcome to attend. We offer multiple distances and courses each week.Snacks and warm coffee are provided after your run! Grab a friend and come run with us!
URL:https://renorunningcompany.com/event/sunday-store-run/2024-09-22/
LOCATION:Summit Mall Location Reno Running Company\, 13987 S Virginia St.\, Reno\, NV\, 89511\, United States
CATEGORIES:Store Events
ATTACH;FMTTYPE=image/jpeg:https://renorunningcompany.com/wp-content/uploads/2023/11/429504483_781276380688791_1824119658602175695_n.jpg
END:VEVENT
BEGIN:VEVENT
DTSTART;TZID=America/Los_Angeles:20240921T080000
DTEND;TZID=America/Los_Angeles:20240921T100000
DTSTAMP:20260421T052259
CREATED:20231121T202044Z
LAST-MODIFIED:20240515T215706Z
UID:10000690-1726905600-1726912800@renorunningcompany.com
SUMMARY:Saturday Store Run
DESCRIPTION:Join us every Saturday snow\, rain or shine! All ability levels are welcome to attend. We offer multiple distances and courses each week.Snacks and warm coffee are provided after your run! Grab a friend and come run with us!
URL:https://renorunningcompany.com/event/saturday-store-run-2/2024-09-21/
LOCATION:Sparks Store Location\, 1276 Disc Dr.\, Sparks\, 89436\, United States
CATEGORIES:Store Events
ATTACH;FMTTYPE=image/jpeg:https://renorunningcompany.com/wp-content/uploads/2023/12/429555729_781274254022337_8123217459946166490_n.jpg
END:VEVENT
BEGIN:VEVENT
DTSTART;TZID=America/Los_Angeles:20240918T060000
DTEND;TZID=America/Los_Angeles:20240918T080000
DTSTAMP:20260421T052259
CREATED:20231121T202858Z
LAST-MODIFIED:20240515T212116Z
UID:10001212-1726639200-1726646400@renorunningcompany.com
SUMMARY:Wednesday Morning Track Workout
DESCRIPTION:Join us at Hub Coffee Roasters on the River for our favorite run of the week! We will jog to Reno High School to warm up then run a quick 3-4mi track workout before heading back for coffee at the Hub! This run starts at 6am sharp! Don’t be late!
URL:https://renorunningcompany.com/event/wednesday-morning-track-workout/2024-09-18/
LOCATION:Hub Coffee Roasters on Riverside\, 727 Riverside Dr.\, Reno\, NV\, 89503\, United States
CATEGORIES:Store Events
ATTACH;FMTTYPE=image/jpeg:https://renorunningcompany.com/wp-content/uploads/2023/11/436804088_807348124748283_5612528807988305465_n.jpg
END:VEVENT
END:VCALENDAR