BEGIN:VCALENDAR
VERSION:2.0
PRODID:-//Reno Running Company - ECPv6.15.13//NONSGML v1.0//EN
CALSCALE:GREGORIAN
METHOD:PUBLISH
X-ORIGINAL-URL:https://renorunningcompany.com
X-WR-CALDESC:Events for Reno Running Company
REFRESH-INTERVAL;VALUE=DURATION:PT1H
X-Robots-Tag:noindex
X-PUBLISHED-TTL:PT1H
BEGIN:VTIMEZONE
TZID:America/Los_Angeles
BEGIN:DAYLIGHT
TZOFFSETFROM:-0800
TZOFFSETTO:-0700
TZNAME:PDT
DTSTART:20180311T100000
END:DAYLIGHT
BEGIN:STANDARD
TZOFFSETFROM:-0700
TZOFFSETTO:-0800
TZNAME:PST
DTSTART:20181104T090000
END:STANDARD
BEGIN:DAYLIGHT
TZOFFSETFROM:-0800
TZOFFSETTO:-0700
TZNAME:PDT
DTSTART:20190310T100000
END:DAYLIGHT
BEGIN:STANDARD
TZOFFSETFROM:-0700
TZOFFSETTO:-0800
TZNAME:PST
DTSTART:20191103T090000
END:STANDARD
BEGIN:DAYLIGHT
TZOFFSETFROM:-0800
TZOFFSETTO:-0700
TZNAME:PDT
DTSTART:20200308T100000
END:DAYLIGHT
BEGIN:STANDARD
TZOFFSETFROM:-0700
TZOFFSETTO:-0800
TZNAME:PST
DTSTART:20201101T090000
END:STANDARD
END:VTIMEZONE
BEGIN:VEVENT
DTSTART;TZID=America/Los_Angeles:20191128T080000
DTEND;TZID=America/Los_Angeles:20191128T170000
DTSTAMP:20260421T014110
CREATED:20190319T202637Z
LAST-MODIFIED:20190319T202637Z
UID:10000428-1574928000-1574960400@renorunningcompany.com
SUMMARY:WOBBLE BEFORE YOU GOBBLE 10K/5K
DESCRIPTION:Kick off your Thanksgiving family tradition in the heart of Downtown Reno! \nReno’s Wobble Before You Gobble 10K & 5K is a family fun run/walk/wobble that kicks off your Thanksgiving morning festivities. This event starts at the Reno City Plaza and follows the Truckee river path through Idlewild Park before heading back to the finish line. \nSponsored by the City of Reno benefiting ​The Children’s Cabinet.
URL:https://renorunningcompany.com/event/wobble-before-you-gobble-10k-5k/
LOCATION:NV
CATEGORIES:Races
ATTACH;FMTTYPE=image/jpeg:https://renorunningcompany.com/wp-content/uploads/2019/03/Screen-Shot-2019-03-19-at-2.26.12-PM.jpg
END:VEVENT
END:VCALENDAR