BEGIN:VCALENDAR
VERSION:2.0
PRODID:-//Reno Running Company - ECPv6.15.13//NONSGML v1.0//EN
CALSCALE:GREGORIAN
METHOD:PUBLISH
X-ORIGINAL-URL:https://renorunningcompany.com
X-WR-CALDESC:Events for Reno Running Company
REFRESH-INTERVAL;VALUE=DURATION:PT1H
X-Robots-Tag:noindex
X-PUBLISHED-TTL:PT1H
BEGIN:VTIMEZONE
TZID:America/Los_Angeles
BEGIN:DAYLIGHT
TZOFFSETFROM:-0800
TZOFFSETTO:-0700
TZNAME:PDT
DTSTART:20250309T100000
END:DAYLIGHT
BEGIN:STANDARD
TZOFFSETFROM:-0700
TZOFFSETTO:-0800
TZNAME:PST
DTSTART:20251102T090000
END:STANDARD
BEGIN:DAYLIGHT
TZOFFSETFROM:-0800
TZOFFSETTO:-0700
TZNAME:PDT
DTSTART:20260308T100000
END:DAYLIGHT
BEGIN:STANDARD
TZOFFSETFROM:-0700
TZOFFSETTO:-0800
TZNAME:PST
DTSTART:20261101T090000
END:STANDARD
BEGIN:DAYLIGHT
TZOFFSETFROM:-0800
TZOFFSETTO:-0700
TZNAME:PDT
DTSTART:20270314T100000
END:DAYLIGHT
BEGIN:STANDARD
TZOFFSETFROM:-0700
TZOFFSETTO:-0800
TZNAME:PST
DTSTART:20271107T090000
END:STANDARD
END:VTIMEZONE
BEGIN:VEVENT
DTSTART;TZID=America/Los_Angeles:20260430T174500
DTEND;TZID=America/Los_Angeles:20260430T203000
DTSTAMP:20260421T073256
CREATED:20260417T232252Z
LAST-MODIFIED:20260417T232252Z
UID:10002227-1777571100-1777581000@renorunningcompany.com
SUMMARY:Trail Series - p/b ACG
DESCRIPTION:Reno Running Company Spring Trail Series p/b ACG \nSAVE THE DATE! We are partnering with Nike/ACG for a special Broken Arrow focused training series. Details will follow. \nAll Abilities are welcome and encouraged\, and an RSVP is required. There is no charge\, but space is limited. \nOur series will include: Peavine Mtn (Hoge)\, Hidden Valley\, Dry Pond and Relay Peak. \n5-ish – 8-ish miles with bailout options for all.\n5:45-8 PM
URL:https://renorunningcompany.com/event/trail-series-p-b-acg/
CATEGORIES:Run Club
END:VEVENT
END:VCALENDAR