BEGIN:VCALENDAR
VERSION:2.0
PRODID:-//Reno Running Company - ECPv6.15.13//NONSGML v1.0//EN
CALSCALE:GREGORIAN
METHOD:PUBLISH
X-WR-CALNAME:Reno Running Company
X-ORIGINAL-URL:https://renorunningcompany.com
X-WR-CALDESC:Events for Reno Running Company
REFRESH-INTERVAL;VALUE=DURATION:PT1H
X-Robots-Tag:noindex
X-PUBLISHED-TTL:PT1H
BEGIN:VTIMEZONE
TZID:America/Los_Angeles
BEGIN:DAYLIGHT
TZOFFSETFROM:-0800
TZOFFSETTO:-0700
TZNAME:PDT
DTSTART:20240310T100000
END:DAYLIGHT
BEGIN:STANDARD
TZOFFSETFROM:-0700
TZOFFSETTO:-0800
TZNAME:PST
DTSTART:20241103T090000
END:STANDARD
BEGIN:DAYLIGHT
TZOFFSETFROM:-0800
TZOFFSETTO:-0700
TZNAME:PDT
DTSTART:20250309T100000
END:DAYLIGHT
BEGIN:STANDARD
TZOFFSETFROM:-0700
TZOFFSETTO:-0800
TZNAME:PST
DTSTART:20251102T090000
END:STANDARD
BEGIN:DAYLIGHT
TZOFFSETFROM:-0800
TZOFFSETTO:-0700
TZNAME:PDT
DTSTART:20260308T100000
END:DAYLIGHT
BEGIN:STANDARD
TZOFFSETFROM:-0700
TZOFFSETTO:-0800
TZNAME:PST
DTSTART:20261101T090000
END:STANDARD
END:VTIMEZONE
BEGIN:VTIMEZONE
TZID:America/Los_Angeles
BEGIN:DAYLIGHT
TZOFFSETFROM:-0800
TZOFFSETTO:-0700
TZNAME:PDT
DTSTART:20240310T100000
END:DAYLIGHT
BEGIN:STANDARD
TZOFFSETFROM:-0700
TZOFFSETTO:-0800
TZNAME:PST
DTSTART:20241103T090000
END:STANDARD
BEGIN:DAYLIGHT
TZOFFSETFROM:-0800
TZOFFSETTO:-0700
TZNAME:PDT
DTSTART:20250309T100000
END:DAYLIGHT
BEGIN:STANDARD
TZOFFSETFROM:-0700
TZOFFSETTO:-0800
TZNAME:PST
DTSTART:20251102T090000
END:STANDARD
BEGIN:DAYLIGHT
TZOFFSETFROM:-0800
TZOFFSETTO:-0700
TZNAME:PDT
DTSTART:20260308T100000
END:DAYLIGHT
BEGIN:STANDARD
TZOFFSETFROM:-0700
TZOFFSETTO:-0800
TZNAME:PST
DTSTART:20261101T090000
END:STANDARD
END:VTIMEZONE
BEGIN:VEVENT
DTSTART;TZID=America/Los_Angeles:20251116T080000
DTEND;TZID=America/Los_Angeles:20251116T100000
DTSTAMP:20260424T122711
CREATED:20231121T202408Z
LAST-MODIFIED:20240515T213113Z
UID:10001011-1763280000-1763287200@renorunningcompany.com
SUMMARY:Sunday Store Run
DESCRIPTION:Join us every Sunday snow\, rain or shine! All ability levels are welcome to attend. We offer multiple distances and courses each week.Snacks and warm coffee are provided after your run! Grab a friend and come run with us!
URL:https://renorunningcompany.com/event/sunday-store-run/2025-11-16/
LOCATION:Summit Mall Location Reno Running Company\, 13987 S Virginia St.\, Reno\, NV\, 89511\, United States
CATEGORIES:Store Events
ATTACH;FMTTYPE=image/jpeg:https://renorunningcompany.com/wp-content/uploads/2023/11/429504483_781276380688791_1824119658602175695_n.jpg
END:VEVENT
BEGIN:VEVENT
DTSTART;TZID=America/Los_Angeles:20251116T080000
DTEND;TZID=America/Los_Angeles:20251116T100000
DTSTAMP:20260424T122711
CREATED:20251023T152847Z
LAST-MODIFIED:20251024T144823Z
UID:10002166-1763280000-1763287200@renorunningcompany.com
SUMMARY:Altra Demo Event At Summit Store
DESCRIPTION:Altra will be at our store run with new demos of the Altra FWD Via and more! \nSummit Mall Location\, Reno Running Company: 13987 S Virginia St.\, Reno\, NV\, 89511 United States
URL:https://renorunningcompany.com/event/altra-demo-event-at-summit-store/
LOCATION:Summit Mall Location Reno Running Company\, 13987 S Virginia St.\, Reno\, NV\, 89511\, United States
CATEGORIES:Store Events
END:VEVENT
END:VCALENDAR