BEGIN:VCALENDAR
VERSION:2.0
PRODID:-//Reno Running Company - ECPv6.15.13//NONSGML v1.0//EN
CALSCALE:GREGORIAN
METHOD:PUBLISH
X-WR-CALNAME:Reno Running Company
X-ORIGINAL-URL:https://renorunningcompany.com
X-WR-CALDESC:Events for Reno Running Company
REFRESH-INTERVAL;VALUE=DURATION:PT1H
X-Robots-Tag:noindex
X-PUBLISHED-TTL:PT1H
BEGIN:VTIMEZONE
TZID:America/Los_Angeles
BEGIN:DAYLIGHT
TZOFFSETFROM:-0800
TZOFFSETTO:-0700
TZNAME:PDT
DTSTART:20240310T100000
END:DAYLIGHT
BEGIN:STANDARD
TZOFFSETFROM:-0700
TZOFFSETTO:-0800
TZNAME:PST
DTSTART:20241103T090000
END:STANDARD
BEGIN:DAYLIGHT
TZOFFSETFROM:-0800
TZOFFSETTO:-0700
TZNAME:PDT
DTSTART:20250309T100000
END:DAYLIGHT
BEGIN:STANDARD
TZOFFSETFROM:-0700
TZOFFSETTO:-0800
TZNAME:PST
DTSTART:20251102T090000
END:STANDARD
BEGIN:DAYLIGHT
TZOFFSETFROM:-0800
TZOFFSETTO:-0700
TZNAME:PDT
DTSTART:20260308T100000
END:DAYLIGHT
BEGIN:STANDARD
TZOFFSETFROM:-0700
TZOFFSETTO:-0800
TZNAME:PST
DTSTART:20261101T090000
END:STANDARD
END:VTIMEZONE
BEGIN:VEVENT
DTSTART;TZID=America/Los_Angeles:20250921T080000
DTEND;TZID=America/Los_Angeles:20250921T100000
DTSTAMP:20260422T112953
CREATED:20250905T144535Z
LAST-MODIFIED:20250905T145403Z
UID:10001003-1758441600-1758448800@renorunningcompany.com
SUMMARY:Summit Store Run - With Summit Performance - Injury Screening
DESCRIPTION:Summit Performance is back for the 3rd part in their injury screening series.\nThis months focus is on Heartrate & Running. (no HRT straps required!)\nCome for the morning run & stay for snacks and coffee and learn how to better understand heartrate zones\, even without technology\nStore run starts at 8am\, and talk will be around 9:25-10:00am\nas always\, enjoy 10% off all purchases for joining our run!
URL:https://renorunningcompany.com/event/sunday-store-run-3/
LOCATION:Summit Mall Location Reno Running Company\, 13987 S Virginia St.\, Reno\, NV\, 89511\, United States
CATEGORIES:Store Events
ATTACH;FMTTYPE=image/jpeg:https://renorunningcompany.com/wp-content/uploads/2023/11/429504483_781276380688791_1824119658602175695_n.jpg
END:VEVENT
END:VCALENDAR