BEGIN:VCALENDAR
VERSION:2.0
PRODID:-//Reno Running Company - ECPv6.15.13//NONSGML v1.0//EN
CALSCALE:GREGORIAN
METHOD:PUBLISH
X-ORIGINAL-URL:https://renorunningcompany.com
X-WR-CALDESC:Events for Reno Running Company
REFRESH-INTERVAL;VALUE=DURATION:PT1H
X-Robots-Tag:noindex
X-PUBLISHED-TTL:PT1H
BEGIN:VTIMEZONE
TZID:America/Los_Angeles
BEGIN:DAYLIGHT
TZOFFSETFROM:-0800
TZOFFSETTO:-0700
TZNAME:PDT
DTSTART:20240310T100000
END:DAYLIGHT
BEGIN:STANDARD
TZOFFSETFROM:-0700
TZOFFSETTO:-0800
TZNAME:PST
DTSTART:20241103T090000
END:STANDARD
BEGIN:DAYLIGHT
TZOFFSETFROM:-0800
TZOFFSETTO:-0700
TZNAME:PDT
DTSTART:20250309T100000
END:DAYLIGHT
BEGIN:STANDARD
TZOFFSETFROM:-0700
TZOFFSETTO:-0800
TZNAME:PST
DTSTART:20251102T090000
END:STANDARD
BEGIN:DAYLIGHT
TZOFFSETFROM:-0800
TZOFFSETTO:-0700
TZNAME:PDT
DTSTART:20260308T100000
END:DAYLIGHT
BEGIN:STANDARD
TZOFFSETFROM:-0700
TZOFFSETTO:-0800
TZNAME:PST
DTSTART:20261101T090000
END:STANDARD
END:VTIMEZONE
BEGIN:VEVENT
DTSTART;TZID=America/Los_Angeles:20250918T180000
DTEND;TZID=America/Los_Angeles:20250918T200000
DTSTAMP:20260422T145440
CREATED:20250905T144456Z
LAST-MODIFIED:20250905T145022Z
UID:10002082-1758218400-1758225600@renorunningcompany.com
SUMMARY:Pub Run Series - Asics @ Craft Wine & Beer
DESCRIPTION:Come and join us for our Fall Pub Run Series #3\nAsics will be joining us with demos of the new GT2000 14 (amongst others)\nWe have a lovely 5k route Urban route through midtown planned\, starting and finishing at Craft Wine & Beer – 22 Martin St.\, Reno 89509 \nThe event takes place from 6-8PM \nDemo a pair of shoes and enjoy your first drink on Asics. Some surprise raffles may be on tap as well!\nFamily friendly event\, but if you plan to imbibe\, please remember your ID\, since running keeps you looking younger than you are!
URL:https://renorunningcompany.com/event/pub-run-series-3-4/
LOCATION:Craft Wine & Beer\, 22 Martin St.\, Reno\, NV\, 89509\, United States
END:VEVENT
END:VCALENDAR