BEGIN:VCALENDAR
VERSION:2.0
PRODID:-//Reno Running Company - ECPv6.15.13//NONSGML v1.0//EN
CALSCALE:GREGORIAN
METHOD:PUBLISH
X-ORIGINAL-URL:https://renorunningcompany.com
X-WR-CALDESC:Events for Reno Running Company
REFRESH-INTERVAL;VALUE=DURATION:PT1H
X-Robots-Tag:noindex
X-PUBLISHED-TTL:PT1H
BEGIN:VTIMEZONE
TZID:America/Los_Angeles
BEGIN:DAYLIGHT
TZOFFSETFROM:-0800
TZOFFSETTO:-0700
TZNAME:PDT
DTSTART:20240310T100000
END:DAYLIGHT
BEGIN:STANDARD
TZOFFSETFROM:-0700
TZOFFSETTO:-0800
TZNAME:PST
DTSTART:20241103T090000
END:STANDARD
BEGIN:DAYLIGHT
TZOFFSETFROM:-0800
TZOFFSETTO:-0700
TZNAME:PDT
DTSTART:20250309T100000
END:DAYLIGHT
BEGIN:STANDARD
TZOFFSETFROM:-0700
TZOFFSETTO:-0800
TZNAME:PST
DTSTART:20251102T090000
END:STANDARD
BEGIN:DAYLIGHT
TZOFFSETFROM:-0800
TZOFFSETTO:-0700
TZNAME:PDT
DTSTART:20260308T100000
END:DAYLIGHT
BEGIN:STANDARD
TZOFFSETFROM:-0700
TZOFFSETTO:-0800
TZNAME:PST
DTSTART:20261101T090000
END:STANDARD
END:VTIMEZONE
BEGIN:VEVENT
DTSTART;TZID=America/Los_Angeles:20250912T160000
DTEND;TZID=America/Los_Angeles:20250912T183000
DTSTAMP:20260422T130752
CREATED:20250905T143939Z
LAST-MODIFIED:20250905T143939Z
UID:10002084-1757692800-1757701800@renorunningcompany.com
SUMMARY:Mt Rose Hill Climb Packet Pick-up at RRC - Summit
DESCRIPTION:We are hosting the packet pick-up for the inaugural Mt. Rose Hill Climb \nTime: 4:00-6:30 PM \nAfter you collect your bib\, please enjoy a 15% discount on all purchases – just show you bib at check out!\nRRC also has some goodies to add to the raffles for the runners of the race! We’ll cross our fingers that you win!
URL:https://renorunningcompany.com/event/mt-rose-hill-climb-packet-pick-up-at-rrc-summit/
LOCATION:Summit Mall Location Reno Running Company\, 13987 S Virginia St.\, Reno\, NV\, 89511\, United States
END:VEVENT
END:VCALENDAR