BEGIN:VCALENDAR
VERSION:2.0
PRODID:-//Reno Running Company - ECPv6.15.13//NONSGML v1.0//EN
CALSCALE:GREGORIAN
METHOD:PUBLISH
X-WR-CALNAME:Reno Running Company
X-ORIGINAL-URL:https://renorunningcompany.com
X-WR-CALDESC:Events for Reno Running Company
REFRESH-INTERVAL;VALUE=DURATION:PT1H
X-Robots-Tag:noindex
X-PUBLISHED-TTL:PT1H
BEGIN:VTIMEZONE
TZID:America/Los_Angeles
BEGIN:DAYLIGHT
TZOFFSETFROM:-0800
TZOFFSETTO:-0700
TZNAME:PDT
DTSTART:20220313T100000
END:DAYLIGHT
BEGIN:STANDARD
TZOFFSETFROM:-0700
TZOFFSETTO:-0800
TZNAME:PST
DTSTART:20221106T090000
END:STANDARD
BEGIN:DAYLIGHT
TZOFFSETFROM:-0800
TZOFFSETTO:-0700
TZNAME:PDT
DTSTART:20230312T100000
END:DAYLIGHT
BEGIN:STANDARD
TZOFFSETFROM:-0700
TZOFFSETTO:-0800
TZNAME:PST
DTSTART:20231105T090000
END:STANDARD
BEGIN:DAYLIGHT
TZOFFSETFROM:-0800
TZOFFSETTO:-0700
TZNAME:PDT
DTSTART:20240310T100000
END:DAYLIGHT
BEGIN:STANDARD
TZOFFSETFROM:-0700
TZOFFSETTO:-0800
TZNAME:PST
DTSTART:20241103T090000
END:STANDARD
END:VTIMEZONE
BEGIN:VEVENT
DTSTART;VALUE=DATE:20230929
DTEND;VALUE=DATE:20231001
DTSTAMP:20260421T042027
CREATED:20230926T230526Z
LAST-MODIFIED:20230926T230638Z
UID:10000632-1695945600-1696118399@renorunningcompany.com
SUMMARY:12 Year Anniversary Sale!
DESCRIPTION:Join Reno Running Company in celebrating our 12-year journey of supporting your active lifestyle. We’re thrilled to introduce our brand-new annual sale event\, and it’s going to be nothing short of epic! \nSave the date: September 29th to September 30th. \nPrepare for the sale of the year with discounts of up to 75% OFF on shoes and accessories. Whether you’re gearing up for Fall runs or planning ahead for spring adventures\, our top-notch brands are here at unbeatable prices. It’s time to grab those essentials you’ve had your eye on! \nDon’t miss our 12-Year Anniversary Sale – a celebration you won’t want to miss! See you there\, and let’s turn your active lifestyle dreams into reality!
URL:https://renorunningcompany.com/event/12-year-anniversary-sale/
CATEGORIES:Store Events
ATTACH;FMTTYPE=image/png:https://renorunningcompany.com/wp-content/uploads/2023/09/SALE-2.png
END:VEVENT
END:VCALENDAR